Workbook

Sheet Mapa de férias
A1: Mapa de férias | L1: =$C$6
A2: Indique, para cada trabalhador, o início e o fim de cada período de férias. Os dias úteis contam-se sozinhos, sem fins de semana nem feriados, e o calendário anual preenche-se automaticamente.
A4: Entidade empregadora | J4: NIPC
A5: Estabelecimento / local de trabalho | J5: Elaborado em
A6: Ano | C6: 2027 | J6: Dias de férias por ano | L6: 22
A8: N.º | B8: Trabalhador | C8: Categoria / função | D8: Dias de férias | E8: 1.º período | G8: 2.º período | I8: 3.º período | K8: Dias úteis marcados | L8: Por marcar | M8: 10 dias úteis seguidos | N8: Observações
E9: Início | F9: Fim | G9: Início | H9: Fim | I9: Início | J9: Fim
A10: 1 | K10: =IF(AND(E10="",G10="",I10=""),"",IF(OR(E10="",F10=""),0,NETWORKDAYS(E10,F10,'Feriados'!$F$7:$F$22))+IF(OR(G10="",H10=""),0,NETWORKDAYS(G10,H10,'Feriados'!$F$7:$F$22))+IF(OR(I10="",J10=""),0,NETWORKDAYS(I10,J10,'Feriados'!$F$7:$F$22))) | L10: =IF(B10="","",IF(D10="",N($L$6),D10)-N(K10)) | M10: =IF(N(K10)=0,"",IF(MAX(IF(OR(E10="",F10=""),0,NETWORKDAYS(E10,F10,'Feriados'!$F$7:$F$22)),IF(OR(G10="",H10=""),0,NETWORKDAYS(G10,H10,'Feriados'!$F$7:$F$22)),IF(OR(I10="",J10=""),0,NETWORKDAYS(I10,J10,'Feriados'!$F$7:$F$22)))>=10,"Sim","Não"))
A11: 2 | K11: =IF(AND(E11="",G11="",I11=""),"",IF(OR(E11="",F11=""),0,NETWORKDAYS(E11,F11,'Feriados'!$F$7:$F$22))+IF(OR(G11="",H11=""),0,NETWORKDAYS(G11,H11,'Feriados'!$F$7:$F$22))+IF(OR(I11="",J11=""),0,NETWORKDAYS(I11,J11,'Feriados'!$F$7:$F$22))) | L11: =IF(B11="","",IF(D11="",N($L$6),D11)-N(K11)) | M11: =IF(N(K11)=0,"",IF(MAX(IF(OR(E11="",F11=""),0,NETWORKDAYS(E11,F11,'Feriados'!$F$7:$F$22)),IF(OR(G11="",H11=""),0,NETWORKDAYS(G11,H11,'Feriados'!$F$7:$F$22)),IF(OR(I11="",J11=""),0,NETWORKDAYS(I11,J11,'Feriados'!$F$7:$F$22)))>=10,"Sim","Não"))
A12: 3 | K12: =IF(AND(E12="",G12="",I12=""),"",IF(OR(E12="",F12=""),0,NETWORKDAYS(E12,F12,'Feriados'!$F$7:$F$22))+IF(OR(G12="",H12=""),0,NETWORKDAYS(G12,H12,'Feriados'!$F$7:$F$22))+IF(OR(I12="",J12=""),0,NETWORKDAYS(I12,J12,'Feriados'!$F$7:$F$22))) | L12: =IF(B12="","",IF(D12="",N($L$6),D12)-N(K12)) | M12: =IF(N(K12)=0,"",IF(MAX(IF(OR(E12="",F12=""),0,NETWORKDAYS(E12,F12,'Feriados'!$F$7:$F$22)),IF(OR(G12="",H12=""),0,NETWORKDAYS(G12,H12,'Feriados'!$F$7:$F$22)),IF(OR(I12="",J12=""),0,NETWORKDAYS(I12,J12,'Feriados'!$F$7:$F$22)))>=10,"Sim","Não"))
A13: 4 | K13: =IF(AND(E13="",G13="",I13=""),"",IF(OR(E13="",F13=""),0,NETWORKDAYS(E13,F13,'Feriados'!$F$7:$F$22))+IF(OR(G13="",H13=""),0,NETWORKDAYS(G13,H13,'Feriados'!$F$7:$F$22))+IF(OR(I13="",J13=""),0,NETWORKDAYS(I13,J13,'Feriados'!$F$7:$F$22))) | L13: =IF(B13="","",IF(D13="",N($L$6),D13)-N(K13)) | M13: =IF(N(K13)=0,"",IF(MAX(IF(OR(E13="",F13=""),0,NETWORKDAYS(E13,F13,'Feriados'!$F$7:$F$22)),IF(OR(G13="",H13=""),0,NETWORKDAYS(G13,H13,'Feriados'!$F$7:$F$22)),IF(OR(I13="",J13=""),0,NETWORKDAYS(I13,J13,'Feriados'!$F$7:$F$22)))>=10,"Sim","Não"))
A14: 5 | K14: =IF(AND(E14="",G14="",I14=""),"",IF(OR(E14="",F14=""),0,NETWORKDAYS(E14,F14,'Feriados'!$F$7:$F$22))+IF(OR(G14="",H14=""),0,NETWORKDAYS(G14,H14,'Feriados'!$F$7:$F$22))+IF(OR(I14="",J14=""),0,NETWORKDAYS(I14,J14,'Feriados'!$F$7:$F$22))) | L14: =IF(B14="","",IF(D14="",N($L$6),D14)-N(K14)) | M14: =IF(N(K14)=0,"",IF(MAX(IF(OR(E14="",F14=""),0,NETWORKDAYS(E14,F14,'Feriados'!$F$7:$F$22)),IF(OR(G14="",H14=""),0,NETWORKDAYS(G14,H14,'Feriados'!$F$7:$F$22)),IF(OR(I14="",J14=""),0,NETWORKDAYS(I14,J14,'Feriados'!$F$7:$F$22)))>=10,"Sim","Não"))
A15: 6 | K15: =IF(AND(E15="",G15="",I15=""),"",IF(OR(E15="",F15=""),0,NETWORKDAYS(E15,F15,'Feriados'!$F$7:$F$22))+IF(OR(G15="",H15=""),0,NETWORKDAYS(G15,H15,'Feriados'!$F$7:$F$22))+IF(OR(I15="",J15=""),0,NETWORKDAYS(I15,J15,'Feriados'!$F$7:$F$22))) | L15: =IF(B15="","",IF(D15="",N($L$6),D15)-N(K15)) | M15: =IF(N(K15)=0,"",IF(MAX(IF(OR(E15="",F15=""),0,NETWORKDAYS(E15,F15,'Feriados'!$F$7:$F$22)),IF(OR(G15="",H15=""),0,NETWORKDAYS(G15,H15,'Feriados'!$F$7:$F$22)),IF(OR(I15="",J15=""),0,NETWORKDAYS(I15,J15,'Feriados'!$F$7:$F$22)))>=10,"Sim","Não"))
A16: 7 | K16: =IF(AND(E16="",G16="",I16=""),"",IF(OR(E16="",F16=""),0,NETWORKDAYS(E16,F16,'Feriados'!$F$7:$F$22))+IF(OR(G16="",H16=""),0,NETWORKDAYS(G16,H16,'Feriados'!$F$7:$F$22))+IF(OR(I16="",J16=""),0,NETWORKDAYS(I16,J16,'Feriados'!$F$7:$F$22))) | L16: =IF(B16="","",IF(D16="",N($L$6),D16)-N(K16)) | M16: =IF(N(K16)=0,"",IF(MAX(IF(OR(E16="",F16=""),0,NETWORKDAYS(E16,F16,'Feriados'!$F$7:$F$22)),IF(OR(G16="",H16=""),0,NETWORKDAYS(G16,H16,'Feriados'!$F$7:$F$22)),IF(OR(I16="",J16=""),0,NETWORKDAYS(I16,J16,'Feriados'!$F$7:$F$22)))>=10,"Sim","Não"))
A17: 8 | K17: =IF(AND(E17="",G17="",I17=""),"",IF(OR(E17="",F17=""),0,NETWORKDAYS(E17,F17,'Feriados'!$F$7:$F$22))+IF(OR(G17="",H17=""),0,NETWORKDAYS(G17,H17,'Feriados'!$F$7:$F$22))+IF(OR(I17="",J17=""),0,NETWORKDAYS(I17,J17,'Feriados'!$F$7:$F$22))) | L17: =IF(B17="","",IF(D17="",N($L$6),D17)-N(K17)) | M17: =IF(N(K17)=0,"",IF(MAX(IF(OR(E17="",F17=""),0,NETWORKDAYS(E17,F17,'Feriados'!$F$7:$F$22)),IF(OR(G17="",H17=""),0,NETWORKDAYS(G17,H17,'Feriados'!$F$7:$F$22)),IF(OR(I17="",J17=""),0,NETWORKDAYS(I17,J17,'Feriados'!$F$7:$F$22)))>=10,"Sim","Não"))
A18: 9 | K18: =IF(AND(E18="",G18="",I18=""),"",IF(OR(E18="",F18=""),0,NETWORKDAYS(E18,F18,'Feriados'!$F$7:$F$22))+IF(OR(G18="",H18=""),0,NETWORKDAYS(G18,H18,'Feriados'!$F$7:$F$22))+IF(OR(I18="",J18=""),0,NETWORKDAYS(I18,J18,'Feriados'!$F$7:$F$22))) | L18: =IF(B18="","",IF(D18="",N($L$6),D18)-N(K18)) | M18: =IF(N(K18)=0,"",IF(MAX(IF(OR(E18="",F18=""),0,NETWORKDAYS(E18,F18,'Feriados'!$F$7:$F$22)),IF(OR(G18="",H18=""),0,NETWORKDAYS(G18,H18,'Feriados'!$F$7:$F$22)),IF(OR(I18="",J18=""),0,NETWORKDAYS(I18,J18,'Feriados'!$F$7:$F$22)))>=10,"Sim","Não"))
A19: 10 | K19: =IF(AND(E19="",G19="",I19=""),"",IF(OR(E19="",F19=""),0,NETWORKDAYS(E19,F19,'Feriados'!$F$7:$F$22))+IF(OR(G19="",H19=""),0,NETWORKDAYS(G19,H19,'Feriados'!$F$7:$F$22))+IF(OR(I19="",J19=""),0,NETWORKDAYS(I19,J19,'Feriados'!$F$7:$F$22))) | L19: =IF(B19="","",IF(D19="",N($L$6),D19)-N(K19)) | M19: =IF(N(K19)=0,"",IF(MAX(IF(OR(E19="",F19=""),0,NETWORKDAYS(E19,F19,'Feriados'!$F$7:$F$22)),IF(OR(G19="",H19=""),0,NETWORKDAYS(G19,H19,'Feriados'!$F$7:$F$22)),IF(OR(I19="",J19=""),0,NETWORKDAYS(I19,J19,'Feriados'!$F$7:$F$22)))>=10,"Sim","Não"))
A20: 11 | K20: =IF(AND(E20="",G20="",I20=""),"",IF(OR(E20="",F20=""),0,NETWORKDAYS(E20,F20,'Feriados'!$F$7:$F$22))+IF(OR(G20="",H20=""),0,NETWORKDAYS(G20,H20,'Feriados'!$F$7:$F$22))+IF(OR(I20="",J20=""),0,NETWORKDAYS(I20,J20,'Feriados'!$F$7:$F$22))) | L20: =IF(B20="","",IF(D20="",N($L$6),D20)-N(K20)) | M20: =IF(N(K20)=0,"",IF(MAX(IF(OR(E20="",F20=""),0,NETWORKDAYS(E20,F20,'Feriados'!$F$7:$F$22)),IF(OR(G20="",H20=""),0,NETWORKDAYS(G20,H20,'Feriados'!$F$7:$F$22)),IF(OR(I20="",J20=""),0,NETWORKDAYS(I20,J20,'Feriados'!$F$7:$F$22)))>=10,"Sim","Não"))
A21: 12 | K21: =IF(AND(E21="",G21="",I21=""),"",IF(OR(E21="",F21=""),0,NETWORKDAYS(E21,F21,'Feriados'!$F$7:$F$22))+IF(OR(G21="",H21=""),0,NETWORKDAYS(G21,H21,'Feriados'!$F$7:$F$22))+IF(OR(I21="",J21=""),0,NETWORKDAYS(I21,J21,'Feriados'!$F$7:$F$22))) | L21: =IF(B21="","",IF(D21="",N($L$6),D21)-N(K21)) | M21: =IF(N(K21)=0,"",IF(MAX(IF(OR(E21="",F21=""),0,NETWORKDAYS(E21,F21,'Feriados'!$F$7:$F$22)),IF(OR(G21="",H21=""),0,NETWORKDAYS(G21,H21,'Feriados'!$F$7:$F$22)),IF(OR(I21="",J21=""),0,NETWORKDAYS(I21,J21,'Feriados'!$F$7:$F$22)))>=10,"Sim","Não"))
... A29: 20 | K29: =IF(AND(E29="",G29="",I29=""),"",IF(OR(E29="",F29=""),0,NETWORKDAYS(E29,F29,'Feriados'!$F$7:$F$22))+IF(OR(G29="",H29=""),0,NETWORKDAYS(G29,H29,'Feriados'!$F$7:$F$22))+IF(OR(I29="",J29=""),0,NETWORKDAYS(I29,J29,'Feriados'!$F$7:$F$22))) | L29: =IF(B29="","",IF(D29="",N($L$6),D29)-N(K29)) | M29: =IF(N(K29)=0,"",IF(MAX(IF(OR(E29="",F29=""),0,NETWORKDAYS(E29,F29,'Feriados'!$F$7:$F$22)),IF(OR(G29="",H29=""),0,NETWORKDAYS(G29,H29,'Feriados'!$F$7:$F$22)),IF(OR(I29="",J29=""),0,NETWORKDAYS(I29,J29,'Feriados'!$F$7:$F$22)))>=10,"Sim","Não"))
A30: Total | K30: =SUM(K10:K29)
A32: Regras a ter em conta
A33: Elaborar até 15 de abril e manter afixado nos locais de trabalho de 15 de abril a 31 de outubro (art. 241.º, n.º 9, do Código do Trabalho). Direito anual: 22 dias úteis (art. 238.º). Sem acordo, as férias são marcadas entre 1 de maio e 31 de outubro (art. 241.º, n.º 3). Se forem repartidas, um dos períodos tem de ter pelo menos 10 dias úteis seguidos (art. 241.º, n.º 8). Atualize e volte a afixar o mapa quando houver alterações.
J36: O empregador (assinatura e data)
A39: Modelo gratuito da EasyHours · easyhours.com.pt — registe o ponto no telemóvel ou num tablet partilhado, em vez de papel.

Sheet Calendário
A1: Calendário de férias | Z1: ='Mapa de férias'!$C$6
A2: Preenche-se a partir do mapa. Só os dias úteis de férias ficam marcados; fins de semana e feriados aparecem sombreados.
B4: Códigos | C4: F | D4: Dia útil de férias | M4: Feriado | V4: Fim de semana
A6: =DATE('Mapa de férias'!$C$6,1,1) | C6: =IF(1>DAY(DATE('Mapa de férias'!$C$6,1+1,0)),"",DATE('Mapa de férias'!$C$6,1,1)) | D6: =IF(2>DAY(DATE('Mapa de férias'!$C$6,1+1,0)),"",DATE('Mapa de férias'!$C$6,1,2)) | E6: =IF(3>DAY(DATE('Mapa de férias'!$C$6,1+1,0)),"",DATE('Mapa de férias'!$C$6,1,3)) | F6: =IF(4>DAY(DATE('Mapa de férias'!$C$6,1+1,0)),"",DATE('Mapa de férias'!$C$6,1,4)) | G6: =IF(5>DAY(DATE('Mapa de férias'!$C$6,1+1,0)),"",DATE('Mapa de férias'!$C$6,1,5)) | H6: =IF(6>DAY(DATE('Mapa de férias'!$C$6,1+1,0)),"",DATE('Mapa de férias'!$C$6,1,6)) | I6: =IF(7>DAY(DATE('Mapa de férias'!$C$6,1+1,0)),"",DATE('Mapa de férias'!$C$6,1,7)) | J6: =IF(8>DAY(DATE('Mapa de férias'!$C$6,1+1,0)),"",DATE('Mapa de férias'!$C$6,1,8)) | K6: =IF(9>DAY(DATE('Mapa de férias'!$C$6,1+1,0)),"",DATE('Mapa de férias'!$C$6,1,9)) | L6: =IF(10>DAY(DATE('Mapa de férias'!$C$6,1+1,0)),"",DATE('Mapa de férias'!$C$6,1,10)) | M6: =IF(11>DAY(DATE('Mapa de férias'!$C$6,1+1,0)),"",DATE('Mapa de férias'!$C$6,1,11)) | N6: =IF(12>DAY(DATE('Mapa de férias'!$C$6,1+1,0)),"",DATE('Mapa de férias'!$C$6,1,12)) | O6: =IF(13>DAY(DATE('Mapa de férias'!$C$6,1+1,0)),"",DATE('Mapa de férias'!$C$6,1,13)) | P6: =IF(14>DAY(DATE('Mapa de férias'!$C$6,1+1,0)),"",DATE('Mapa de férias'!$C$6,1,14)) | Q6: =IF(15>DAY(DATE('Mapa de férias'!$C$6,1+1,0)),"",DATE('Mapa de férias'!$C$6,1,15)) | R6: =IF(16>DAY(DATE('Mapa de férias'!$C$6,1+1,0)),"",DATE('Mapa de férias'!$C$6,1,16)) | S6: =IF(17>DAY(DATE('Mapa de férias'!$C$6,1+1,0)),"",DATE('Mapa de férias'!$C$6,1,17)) | T6: =IF(18>DAY(DATE('Mapa de férias'!$C$6,1+1,0)),"",DATE('Mapa de férias'!$C$6,1,18)) | U6: =IF(19>DAY(DATE('Mapa de férias'!$C$6,1+1,0)),"",DATE('Mapa de férias'!$C$6,1,19)) | V6: =IF(20>DAY(DATE('Mapa de férias'!$C$6,1+1,0)),"",DATE('Mapa de férias'!$C$6,1,20)) | W6: =IF(21>DAY(DATE('Mapa de férias'!$C$6,1+1,0)),"",DATE('Mapa de férias'!$C$6,1,21)) | X6: =IF(22>DAY(DATE('Mapa de férias'!$C$6,1+1,0)),"",DATE('Mapa de férias'!$C$6,1,22)) | Y6: =IF(23>DAY(DATE('Mapa de férias'!$C$6,1+1,0)),"",DATE('Mapa de férias'!$C$6,1,23)) | Z6: =IF(24>DAY(DATE('Mapa de férias'!$C$6,1+1,0)),"",DATE('Mapa de férias'!$C$6,1,24)) | AA6: =IF(25>DAY(DATE('Mapa de férias'!$C$6,1+1,0)),"",DATE('Mapa de férias'!$C$6,1,25)) | AB6: =IF(26>DAY(DATE('Mapa de férias'!$C$6,1+1,0)),"",DATE('Mapa de férias'!$C$6,1,26)) | AC6: =IF(27>DAY(DATE('Mapa de férias'!$C$6,1+1,0)),"",DATE('Mapa de férias'!$C$6,1,27)) | AD6: =IF(28>DAY(DATE('Mapa de férias'!$C$6,1+1,0)),"",DATE('Mapa de férias'!$C$6,1,28)) | AE6: =IF(29>DAY(DATE('Mapa de férias'!$C$6,1+1,0)),"",DATE('Mapa de férias'!$C$6,1,29)) | AF6: =IF(30>DAY(DATE('Mapa de férias'!$C$6,1+1,0)),"",DATE('Mapa de férias'!$C$6,1,30)) | AG6: =IF(31>DAY(DATE('Mapa de férias'!$C$6,1+1,0)),"",DATE('Mapa de férias'!$C$6,1,31)) | AH6: Dias
C7: =IF(C6="","",C6) | D7: =IF(D6="","",D6) | E7: =IF(E6="","",E6) | F7: =IF(F6="","",F6) | G7: =IF(G6="","",G6) | H7: =IF(H6="","",H6) | I7: =IF(I6="","",I6) | J7: =IF(J6="","",J6) | ... AG7: =IF(AG6="","",AG6)
A8: 1 | B8: =IF('Mapa de férias'!$B$10="","",'Mapa de férias'!$B$10) | C8: =IF(OR($B8="",C$6=""),"",IF(AND(NETWORKDAYS(C$6,C$6,'Feriados'!$F$7:$F$22)=1,OR(AND(C$6>='Mapa de férias'!$E$10,C$6<='Mapa de férias'!$F$10),AND(C$6>='Mapa de férias'!$G$10,C$6<='Mapa de férias'!$H$10),AND(C$6>='Mapa de férias'!$I$10,C$6<='Mapa de férias'!$J$10))),"F","")) | D8: =IF(OR($B8="",D$6=""),"",IF(AND(NETWORKDAYS(D$6,D$6,'Feriados'!$F$7:$F$22)=1,OR(AND(D$6>='Mapa de férias'!$E$10,D$6<='Mapa de férias'!$F$10),AND(D$6>='Mapa de férias'!$G$10,D$6<='Mapa de férias'!$H$10),AND(D$6>='Mapa de férias'!$I$10,D$6<='Mapa de férias'!$J$10))),"F","")) | E8: =IF(OR($B8="",E$6=""),"",IF(AND(NETWORKDAYS(E$6,E$6,'Feriados'!$F$7:$F$22)=1,OR(AND(E$6>='Mapa de férias'!$E$10,E$6<='Mapa de férias'!$F$10),AND(E$6>='Mapa de férias'!$G$10,E$6<='Mapa de férias'!$H$10),AND(E$6>='Mapa de férias'!$I$10,E$6<='Mapa de férias'!$J$10))),"F","")) | F8: =IF(OR($B8="",F$6=""),"",IF(AND(NETWORKDAYS(F$6,F$6,'Feriados'!$F$7:$F$22)=1,OR(AND(F$6>='Mapa de férias'!$E$10,F$6<='Mapa de férias'!$F$10),AND(F$6>='Mapa de férias'!$G$10,F$6<='Mapa de férias'!$H$10),AND(F$6>='Mapa de férias'!$I$10,F$6<='Mapa de férias'!$J$10))),"F","")) | G8: =IF(OR($B8="",G$6=""),"",IF(AND(NETWORKDAYS(G$6,G$6,'Feriados'!$F$7:$F$22)=1,OR(AND(G$6>='Mapa de férias'!$E$10,G$6<='Mapa de férias'!$F$10),AND(G$6>='Mapa de férias'!$G$10,G$6<='Mapa de férias'!$H$10),AND(G$6>='Mapa de férias'!$I$10,G$6<='Mapa de férias'!$J$10))),"F","")) | H8: =IF(OR($B8="",H$6=""),"",IF(AND(NETWORKDAYS(H$6,H$6,'Feriados'!$F$7:$F$22)=1,OR(AND(H$6>='Mapa de férias'!$E$10,H$6<='Mapa de férias'!$F$10),AND(H$6>='Mapa de férias'!$G$10,H$6<='Mapa de férias'!$H$10),AND(H$6>='Mapa de férias'!$I$10,H$6<='Mapa de férias'!$J$10))),"F","")) | I8: =IF(OR($B8="",I$6=""),"",IF(AND(NETWORKDAYS(I$6,I$6,'Feriados'!$F$7:$F$22)=1,OR(AND(I$6>='Mapa de férias'!$E$10,I$6<='Mapa de férias'!$F$10),AND(I$6>='Mapa de férias'!$G$10,I$6<='Mapa de férias'!$H$10),AND(I$6>='Mapa de férias'!$I$10,I$6<='Mapa de férias'!$J$10))),"F","")) | J8: =IF(OR($B8="",J$6=""),"",IF(AND(NETWORKDAYS(J$6,J$6,'Feriados'!$F$7:$F$22)=1,OR(AND(J$6>='Mapa de férias'!$E$10,J$6<='Mapa de férias'!$F$10),AND(J$6>='Mapa de férias'!$G$10,J$6<='Mapa de férias'!$H$10),AND(J$6>='Mapa de férias'!$I$10,J$6<='Mapa de férias'!$J$10))),"F","")) | ... AG8: =IF(OR($B8="",AG$6=""),"",IF(AND(NETWORKDAYS(AG$6,AG$6,'Feriados'!$F$7:$F$22)=1,OR(AND(AG$6>='Mapa de férias'!$E$10,AG$6<='Mapa de férias'!$F$10),AND(AG$6>='Mapa de férias'!$G$10,AG$6<='Mapa de férias'!$H$10),AND(AG$6>='Mapa de férias'!$I$10,AG$6<='Mapa de férias'!$J$10))),"F","")) | AH8: =IF($B8="","",COUNTIF(C8:AG8,"F"))
A9: 2 | B9: =IF('Mapa de férias'!$B$11="","",'Mapa de férias'!$B$11) | C9: =IF(OR($B9="",C$6=""),"",IF(AND(NETWORKDAYS(C$6,C$6,'Feriados'!$F$7:$F$22)=1,OR(AND(C$6>='Mapa de férias'!$E$11,C$6<='Mapa de férias'!$F$11),AND(C$6>='Mapa de férias'!$G$11,C$6<='Mapa de férias'!$H$11),AND(C$6>='Mapa de férias'!$I$11,C$6<='Mapa de férias'!$J$11))),"F","")) | D9: =IF(OR($B9="",D$6=""),"",IF(AND(NETWORKDAYS(D$6,D$6,'Feriados'!$F$7:$F$22)=1,OR(AND(D$6>='Mapa de férias'!$E$11,D$6<='Mapa de férias'!$F$11),AND(D$6>='Mapa de férias'!$G$11,D$6<='Mapa de férias'!$H$11),AND(D$6>='Mapa de férias'!$I$11,D$6<='Mapa de férias'!$J$11))),"F","")) | E9: =IF(OR($B9="",E$6=""),"",IF(AND(NETWORKDAYS(E$6,E$6,'Feriados'!$F$7:$F$22)=1,OR(AND(E$6>='Mapa de férias'!$E$11,E$6<='Mapa de férias'!$F$11),AND(E$6>='Mapa de férias'!$G$11,E$6<='Mapa de férias'!$H$11),AND(E$6>='Mapa de férias'!$I$11,E$6<='Mapa de férias'!$J$11))),"F","")) | F9: =IF(OR($B9="",F$6=""),"",IF(AND(NETWORKDAYS(F$6,F$6,'Feriados'!$F$7:$F$22)=1,OR(AND(F$6>='Mapa de férias'!$E$11,F$6<='Mapa de férias'!$F$11),AND(F$6>='Mapa de férias'!$G$11,F$6<='Mapa de férias'!$H$11),AND(F$6>='Mapa de férias'!$I$11,F$6<='Mapa de férias'!$J$11))),"F","")) | G9: =IF(OR($B9="",G$6=""),"",IF(AND(NETWORKDAYS(G$6,G$6,'Feriados'!$F$7:$F$22)=1,OR(AND(G$6>='Mapa de férias'!$E$11,G$6<='Mapa de férias'!$F$11),AND(G$6>='Mapa de férias'!$G$11,G$6<='Mapa de férias'!$H$11),AND(G$6>='Mapa de férias'!$I$11,G$6<='Mapa de férias'!$J$11))),"F","")) | H9: =IF(OR($B9="",H$6=""),"",IF(AND(NETWORKDAYS(H$6,H$6,'Feriados'!$F$7:$F$22)=1,OR(AND(H$6>='Mapa de férias'!$E$11,H$6<='Mapa de férias'!$F$11),AND(H$6>='Mapa de férias'!$G$11,H$6<='Mapa de férias'!$H$11),AND(H$6>='Mapa de férias'!$I$11,H$6<='Mapa de férias'!$J$11))),"F","")) | I9: =IF(OR($B9="",I$6=""),"",IF(AND(NETWORKDAYS(I$6,I$6,'Feriados'!$F$7:$F$22)=1,OR(AND(I$6>='Mapa de férias'!$E$11,I$6<='Mapa de férias'!$F$11),AND(I$6>='Mapa de férias'!$G$11,I$6<='Mapa de férias'!$H$11),AND(I$6>='Mapa de férias'!$I$11,I$6<='Mapa de férias'!$J$11))),"F","")) | J9: =IF(OR($B9="",J$6=""),"",IF(AND(NETWORKDAYS(J$6,J$6,'Feriados'!$F$7:$F$22)=1,OR(AND(J$6>='Mapa de férias'!$E$11,J$6<='Mapa de férias'!$F$11),AND(J$6>='Mapa de férias'!$G$11,J$6<='Mapa de férias'!$H$11),AND(J$6>='Mapa de férias'!$I$11,J$6<='Mapa de férias'!$J$11))),"F","")) | ... AG9: =IF(OR($B9="",AG$6=""),"",IF(AND(NETWORKDAYS(AG$6,AG$6,'Feriados'!$F$7:$F$22)=1,OR(AND(AG$6>='Mapa de férias'!$E$11,AG$6<='Mapa de férias'!$F$11),AND(AG$6>='Mapa de férias'!$G$11,AG$6<='Mapa de férias'!$H$11),AND(AG$6>='Mapa de férias'!$I$11,AG$6<='Mapa de férias'!$J$11))),"F","")) | AH9: =IF($B9="","",COUNTIF(C9:AG9,"F"))
A10: 3 | B10: =IF('Mapa de férias'!$B$12="","",'Mapa de férias'!$B$12) | C10: =IF(OR($B10="",C$6=""),"",IF(AND(NETWORKDAYS(C$6,C$6,'Feriados'!$F$7:$F$22)=1,OR(AND(C$6>='Mapa de férias'!$E$12,C$6<='Mapa de férias'!$F$12),AND(C$6>='Mapa de férias'!$G$12,C$6<='Mapa de férias'!$H$12),AND(C$6>='Mapa de férias'!$I$12,C$6<='Mapa de férias'!$J$12))),"F","")) | D10: =IF(OR($B10="",D$6=""),"",IF(AND(NETWORKDAYS(D$6,D$6,'Feriados'!$F$7:$F$22)=1,OR(AND(D$6>='Mapa de férias'!$E$12,D$6<='Mapa de férias'!$F$12),AND(D$6>='Mapa de férias'!$G$12,D$6<='Mapa de férias'!$H$12),AND(D$6>='Mapa de férias'!$I$12,D$6<='Mapa de férias'!$J$12))),"F","")) | E10: =IF(OR($B10="",E$6=""),"",IF(AND(NETWORKDAYS(E$6,E$6,'Feriados'!$F$7:$F$22)=1,OR(AND(E$6>='Mapa de férias'!$E$12,E$6<='Mapa de férias'!$F$12),AND(E$6>='Mapa de férias'!$G$12,E$6<='Mapa de férias'!$H$12),AND(E$6>='Mapa de férias'!$I$12,E$6<='Mapa de férias'!$J$12))),"F","")) | F10: =IF(OR($B10="",F$6=""),"",IF(AND(NETWORKDAYS(F$6,F$6,'Feriados'!$F$7:$F$22)=1,OR(AND(F$6>='Mapa de férias'!$E$12,F$6<='Mapa de férias'!$F$12),AND(F$6>='Mapa de férias'!$G$12,F$6<='Mapa de férias'!$H$12),AND(F$6>='Mapa de férias'!$I$12,F$6<='Mapa de férias'!$J$12))),"F","")) | G10: =IF(OR($B10="",G$6=""),"",IF(AND(NETWORKDAYS(G$6,G$6,'Feriados'!$F$7:$F$22)=1,OR(AND(G$6>='Mapa de férias'!$E$12,G$6<='Mapa de férias'!$F$12),AND(G$6>='Mapa de férias'!$G$12,G$6<='Mapa de férias'!$H$12),AND(G$6>='Mapa de férias'!$I$12,G$6<='Mapa de férias'!$J$12))),"F","")) | H10: =IF(OR($B10="",H$6=""),"",IF(AND(NETWORKDAYS(H$6,H$6,'Feriados'!$F$7:$F$22)=1,OR(AND(H$6>='Mapa de férias'!$E$12,H$6<='Mapa de férias'!$F$12),AND(H$6>='Mapa de férias'!$G$12,H$6<='Mapa de férias'!$H$12),AND(H$6>='Mapa de férias'!$I$12,H$6<='Mapa de férias'!$J$12))),"F","")) | I10: =IF(OR($B10="",I$6=""),"",IF(AND(NETWORKDAYS(I$6,I$6,'Feriados'!$F$7:$F$22)=1,OR(AND(I$6>='Mapa de férias'!$E$12,I$6<='Mapa de férias'!$F$12),AND(I$6>='Mapa de férias'!$G$12,I$6<='Mapa de férias'!$H$12),AND(I$6>='Mapa de férias'!$I$12,I$6<='Mapa de férias'!$J$12))),"F","")) | J10: =IF(OR($B10="",J$6=""),"",IF(AND(NETWORKDAYS(J$6,J$6,'Feriados'!$F$7:$F$22)=1,OR(AND(J$6>='Mapa de férias'!$E$12,J$6<='Mapa de férias'!$F$12),AND(J$6>='Mapa de férias'!$G$12,J$6<='Mapa de férias'!$H$12),AND(J$6>='Mapa de férias'!$I$12,J$6<='Mapa de férias'!$J$12))),"F","")) | ... AG10: =IF(OR($B10="",AG$6=""),"",IF(AND(NETWORKDAYS(AG$6,AG$6,'Feriados'!$F$7:$F$22)=1,OR(AND(AG$6>='Mapa de férias'!$E$12,AG$6<='Mapa de férias'!$F$12),AND(AG$6>='Mapa de férias'!$G$12,AG$6<='Mapa de férias'!$H$12),AND(AG$6>='Mapa de férias'!$I$12,AG$6<='Mapa de férias'!$J$12))),"F","")) | AH10: =IF($B10="","",COUNTIF(C10:AG10,"F"))
A11: 4 | B11: =IF('Mapa de férias'!$B$13="","",'Mapa de férias'!$B$13) | C11: =IF(OR($B11="",C$6=""),"",IF(AND(NETWORKDAYS(C$6,C$6,'Feriados'!$F$7:$F$22)=1,OR(AND(C$6>='Mapa de férias'!$E$13,C$6<='Mapa de férias'!$F$13),AND(C$6>='Mapa de férias'!$G$13,C$6<='Mapa de férias'!$H$13),AND(C$6>='Mapa de férias'!$I$13,C$6<='Mapa de férias'!$J$13))),"F","")) | D11: =IF(OR($B11="",D$6=""),"",IF(AND(NETWORKDAYS(D$6,D$6,'Feriados'!$F$7:$F$22)=1,OR(AND(D$6>='Mapa de férias'!$E$13,D$6<='Mapa de férias'!$F$13),AND(D$6>='Mapa de férias'!$G$13,D$6<='Mapa de férias'!$H$13),AND(D$6>='Mapa de férias'!$I$13,D$6<='Mapa de férias'!$J$13))),"F","")) | E11: =IF(OR($B11="",E$6=""),"",IF(AND(NETWORKDAYS(E$6,E$6,'Feriados'!$F$7:$F$22)=1,OR(AND(E$6>='Mapa de férias'!$E$13,E$6<='Mapa de férias'!$F$13),AND(E$6>='Mapa de férias'!$G$13,E$6<='Mapa de férias'!$H$13),AND(E$6>='Mapa de férias'!$I$13,E$6<='Mapa de férias'!$J$13))),"F","")) | F11: =IF(OR($B11="",F$6=""),"",IF(AND(NETWORKDAYS(F$6,F$6,'Feriados'!$F$7:$F$22)=1,OR(AND(F$6>='Mapa de férias'!$E$13,F$6<='Mapa de férias'!$F$13),AND(F$6>='Mapa de férias'!$G$13,F$6<='Mapa de férias'!$H$13),AND(F$6>='Mapa de férias'!$I$13,F$6<='Mapa de férias'!$J$13))),"F","")) | G11: =IF(OR($B11="",G$6=""),"",IF(AND(NETWORKDAYS(G$6,G$6,'Feriados'!$F$7:$F$22)=1,OR(AND(G$6>='Mapa de férias'!$E$13,G$6<='Mapa de férias'!$F$13),AND(G$6>='Mapa de férias'!$G$13,G$6<='Mapa de férias'!$H$13),AND(G$6>='Mapa de férias'!$I$13,G$6<='Mapa de férias'!$J$13))),"F","")) | H11: =IF(OR($B11="",H$6=""),"",IF(AND(NETWORKDAYS(H$6,H$6,'Feriados'!$F$7:$F$22)=1,OR(AND(H$6>='Mapa de férias'!$E$13,H$6<='Mapa de férias'!$F$13),AND(H$6>='Mapa de férias'!$G$13,H$6<='Mapa de férias'!$H$13),AND(H$6>='Mapa de férias'!$I$13,H$6<='Mapa de férias'!$J$13))),"F","")) | I11: =IF(OR($B11="",I$6=""),"",IF(AND(NETWORKDAYS(I$6,I$6,'Feriados'!$F$7:$F$22)=1,OR(AND(I$6>='Mapa de férias'!$E$13,I$6<='Mapa de férias'!$F$13),AND(I$6>='Mapa de férias'!$G$13,I$6<='Mapa de férias'!$H$13),AND(I$6>='Mapa de férias'!$I$13,I$6<='Mapa de férias'!$J$13))),"F","")) | J11: =IF(OR($B11="",J$6=""),"",IF(AND(NETWORKDAYS(J$6,J$6,'Feriados'!$F$7:$F$22)=1,OR(AND(J$6>='Mapa de férias'!$E$13,J$6<='Mapa de férias'!$F$13),AND(J$6>='Mapa de férias'!$G$13,J$6<='Mapa de férias'!$H$13),AND(J$6>='Mapa de férias'!$I$13,J$6<='Mapa de férias'!$J$13))),"F","")) | ... AG11: =IF(OR($B11="",AG$6=""),"",IF(AND(NETWORKDAYS(AG$6,AG$6,'Feriados'!$F$7:$F$22)=1,OR(AND(AG$6>='Mapa de férias'!$E$13,AG$6<='Mapa de férias'!$F$13),AND(AG$6>='Mapa de férias'!$G$13,AG$6<='Mapa de férias'!$H$13),AND(AG$6>='Mapa de férias'!$I$13,AG$6<='Mapa de férias'!$J$13))),"F","")) | AH11: =IF($B11="","",COUNTIF(C11:AG11,"F"))
A12: 5 | B12: =IF('Mapa de férias'!$B$14="","",'Mapa de férias'!$B$14) | C12: =IF(OR($B12="",C$6=""),"",IF(AND(NETWORKDAYS(C$6,C$6,'Feriados'!$F$7:$F$22)=1,OR(AND(C$6>='Mapa de férias'!$E$14,C$6<='Mapa de férias'!$F$14),AND(C$6>='Mapa de férias'!$G$14,C$6<='Mapa de férias'!$H$14),AND(C$6>='Mapa de férias'!$I$14,C$6<='Mapa de férias'!$J$14))),"F","")) | D12: =IF(OR($B12="",D$6=""),"",IF(AND(NETWORKDAYS(D$6,D$6,'Feriados'!$F$7:$F$22)=1,OR(AND(D$6>='Mapa de férias'!$E$14,D$6<='Mapa de férias'!$F$14),AND(D$6>='Mapa de férias'!$G$14,D$6<='Mapa de férias'!$H$14),AND(D$6>='Mapa de férias'!$I$14,D$6<='Mapa de férias'!$J$14))),"F","")) | E12: =IF(OR($B12="",E$6=""),"",IF(AND(NETWORKDAYS(E$6,E$6,'Feriados'!$F$7:$F$22)=1,OR(AND(E$6>='Mapa de férias'!$E$14,E$6<='Mapa de férias'!$F$14),AND(E$6>='Mapa de férias'!$G$14,E$6<='Mapa de férias'!$H$14),AND(E$6>='Mapa de férias'!$I$14,E$6<='Mapa de férias'!$J$14))),"F","")) | F12: =IF(OR($B12="",F$6=""),"",IF(AND(NETWORKDAYS(F$6,F$6,'Feriados'!$F$7:$F$22)=1,OR(AND(F$6>='Mapa de férias'!$E$14,F$6<='Mapa de férias'!$F$14),AND(F$6>='Mapa de férias'!$G$14,F$6<='Mapa de férias'!$H$14),AND(F$6>='Mapa de férias'!$I$14,F$6<='Mapa de férias'!$J$14))),"F","")) | G12: =IF(OR($B12="",G$6=""),"",IF(AND(NETWORKDAYS(G$6,G$6,'Feriados'!$F$7:$F$22)=1,OR(AND(G$6>='Mapa de férias'!$E$14,G$6<='Mapa de férias'!$F$14),AND(G$6>='Mapa de férias'!$G$14,G$6<='Mapa de férias'!$H$14),AND(G$6>='Mapa de férias'!$I$14,G$6<='Mapa de férias'!$J$14))),"F","")) | H12: =IF(OR($B12="",H$6=""),"",IF(AND(NETWORKDAYS(H$6,H$6,'Feriados'!$F$7:$F$22)=1,OR(AND(H$6>='Mapa de férias'!$E$14,H$6<='Mapa de férias'!$F$14),AND(H$6>='Mapa de férias'!$G$14,H$6<='Mapa de férias'!$H$14),AND(H$6>='Mapa de férias'!$I$14,H$6<='Mapa de férias'!$J$14))),"F","")) | I12: =IF(OR($B12="",I$6=""),"",IF(AND(NETWORKDAYS(I$6,I$6,'Feriados'!$F$7:$F$22)=1,OR(AND(I$6>='Mapa de férias'!$E$14,I$6<='Mapa de férias'!$F$14),AND(I$6>='Mapa de férias'!$G$14,I$6<='Mapa de férias'!$H$14),AND(I$6>='Mapa de férias'!$I$14,I$6<='Mapa de férias'!$J$14))),"F","")) | J12: =IF(OR($B12="",J$6=""),"",IF(AND(NETWORKDAYS(J$6,J$6,'Feriados'!$F$7:$F$22)=1,OR(AND(J$6>='Mapa de férias'!$E$14,J$6<='Mapa de férias'!$F$14),AND(J$6>='Mapa de férias'!$G$14,J$6<='Mapa de férias'!$H$14),AND(J$6>='Mapa de férias'!$I$14,J$6<='Mapa de férias'!$J$14))),"F","")) | ... AG12: =IF(OR($B12="",AG$6=""),"",IF(AND(NETWORKDAYS(AG$6,AG$6,'Feriados'!$F$7:$F$22)=1,OR(AND(AG$6>='Mapa de férias'!$E$14,AG$6<='Mapa de férias'!$F$14),AND(AG$6>='Mapa de férias'!$G$14,AG$6<='Mapa de férias'!$H$14),AND(AG$6>='Mapa de férias'!$I$14,AG$6<='Mapa de férias'!$J$14))),"F","")) | AH12: =IF($B12="","",COUNTIF(C12:AG12,"F"))
A13: 6 | B13: =IF('Mapa de férias'!$B$15="","",'Mapa de férias'!$B$15) | C13: =IF(OR($B13="",C$6=""),"",IF(AND(NETWORKDAYS(C$6,C$6,'Feriados'!$F$7:$F$22)=1,OR(AND(C$6>='Mapa de férias'!$E$15,C$6<='Mapa de férias'!$F$15),AND(C$6>='Mapa de férias'!$G$15,C$6<='Mapa de férias'!$H$15),AND(C$6>='Mapa de férias'!$I$15,C$6<='Mapa de férias'!$J$15))),"F","")) | D13: =IF(OR($B13="",D$6=""),"",IF(AND(NETWORKDAYS(D$6,D$6,'Feriados'!$F$7:$F$22)=1,OR(AND(D$6>='Mapa de férias'!$E$15,D$6<='Mapa de férias'!$F$15),AND(D$6>='Mapa de férias'!$G$15,D$6<='Mapa de férias'!$H$15),AND(D$6>='Mapa de férias'!$I$15,D$6<='Mapa de férias'!$J$15))),"F","")) | E13: =IF(OR($B13="",E$6=""),"",IF(AND(NETWORKDAYS(E$6,E$6,'Feriados'!$F$7:$F$22)=1,OR(AND(E$6>='Mapa de férias'!$E$15,E$6<='Mapa de férias'!$F$15),AND(E$6>='Mapa de férias'!$G$15,E$6<='Mapa de férias'!$H$15),AND(E$6>='Mapa de férias'!$I$15,E$6<='Mapa de férias'!$J$15))),"F","")) | F13: =IF(OR($B13="",F$6=""),"",IF(AND(NETWORKDAYS(F$6,F$6,'Feriados'!$F$7:$F$22)=1,OR(AND(F$6>='Mapa de férias'!$E$15,F$6<='Mapa de férias'!$F$15),AND(F$6>='Mapa de férias'!$G$15,F$6<='Mapa de férias'!$H$15),AND(F$6>='Mapa de férias'!$I$15,F$6<='Mapa de férias'!$J$15))),"F","")) | G13: =IF(OR($B13="",G$6=""),"",IF(AND(NETWORKDAYS(G$6,G$6,'Feriados'!$F$7:$F$22)=1,OR(AND(G$6>='Mapa de férias'!$E$15,G$6<='Mapa de férias'!$F$15),AND(G$6>='Mapa de férias'!$G$15,G$6<='Mapa de férias'!$H$15),AND(G$6>='Mapa de férias'!$I$15,G$6<='Mapa de férias'!$J$15))),"F","")) | H13: =IF(OR($B13="",H$6=""),"",IF(AND(NETWORKDAYS(H$6,H$6,'Feriados'!$F$7:$F$22)=1,OR(AND(H$6>='Mapa de férias'!$E$15,H$6<='Mapa de férias'!$F$15),AND(H$6>='Mapa de férias'!$G$15,H$6<='Mapa de férias'!$H$15),AND(H$6>='Mapa de férias'!$I$15,H$6<='Mapa de férias'!$J$15))),"F","")) | I13: =IF(OR($B13="",I$6=""),"",IF(AND(NETWORKDAYS(I$6,I$6,'Feriados'!$F$7:$F$22)=1,OR(AND(I$6>='Mapa de férias'!$E$15,I$6<='Mapa de férias'!$F$15),AND(I$6>='Mapa de férias'!$G$15,I$6<='Mapa de férias'!$H$15),AND(I$6>='Mapa de férias'!$I$15,I$6<='Mapa de férias'!$J$15))),"F","")) | J13: =IF(OR($B13="",J$6=""),"",IF(AND(NETWORKDAYS(J$6,J$6,'Feriados'!$F$7:$F$22)=1,OR(AND(J$6>='Mapa de férias'!$E$15,J$6<='Mapa de férias'!$F$15),AND(J$6>='Mapa de férias'!$G$15,J$6<='Mapa de férias'!$H$15),AND(J$6>='Mapa de férias'!$I$15,J$6<='Mapa de férias'!$J$15))),"F","")) | ... AG13: =IF(OR($B13="",AG$6=""),"",IF(AND(NETWORKDAYS(AG$6,AG$6,'Feriados'!$F$7:$F$22)=1,OR(AND(AG$6>='Mapa de férias'!$E$15,AG$6<='Mapa de férias'!$F$15),AND(AG$6>='Mapa de férias'!$G$15,AG$6<='Mapa de férias'!$H$15),AND(AG$6>='Mapa de férias'!$I$15,AG$6<='Mapa de férias'!$J$15))),"F","")) | AH13: =IF($B13="","",COUNTIF(C13:AG13,"F"))
A14: 7 | B14: =IF('Mapa de férias'!$B$16="","",'Mapa de férias'!$B$16) | C14: =IF(OR($B14="",C$6=""),"",IF(AND(NETWORKDAYS(C$6,C$6,'Feriados'!$F$7:$F$22)=1,OR(AND(C$6>='Mapa de férias'!$E$16,C$6<='Mapa de férias'!$F$16),AND(C$6>='Mapa de férias'!$G$16,C$6<='Mapa de férias'!$H$16),AND(C$6>='Mapa de férias'!$I$16,C$6<='Mapa de férias'!$J$16))),"F","")) | D14: =IF(OR($B14="",D$6=""),"",IF(AND(NETWORKDAYS(D$6,D$6,'Feriados'!$F$7:$F$22)=1,OR(AND(D$6>='Mapa de férias'!$E$16,D$6<='Mapa de férias'!$F$16),AND(D$6>='Mapa de férias'!$G$16,D$6<='Mapa de férias'!$H$16),AND(D$6>='Mapa de férias'!$I$16,D$6<='Mapa de férias'!$J$16))),"F","")) | E14: =IF(OR($B14="",E$6=""),"",IF(AND(NETWORKDAYS(E$6,E$6,'Feriados'!$F$7:$F$22)=1,OR(AND(E$6>='Mapa de férias'!$E$16,E$6<='Mapa de férias'!$F$16),AND(E$6>='Mapa de férias'!$G$16,E$6<='Mapa de férias'!$H$16),AND(E$6>='Mapa de férias'!$I$16,E$6<='Mapa de férias'!$J$16))),"F","")) | F14: =IF(OR($B14="",F$6=""),"",IF(AND(NETWORKDAYS(F$6,F$6,'Feriados'!$F$7:$F$22)=1,OR(AND(F$6>='Mapa de férias'!$E$16,F$6<='Mapa de férias'!$F$16),AND(F$6>='Mapa de férias'!$G$16,F$6<='Mapa de férias'!$H$16),AND(F$6>='Mapa de férias'!$I$16,F$6<='Mapa de férias'!$J$16))),"F","")) | G14: =IF(OR($B14="",G$6=""),"",IF(AND(NETWORKDAYS(G$6,G$6,'Feriados'!$F$7:$F$22)=1,OR(AND(G$6>='Mapa de férias'!$E$16,G$6<='Mapa de férias'!$F$16),AND(G$6>='Mapa de férias'!$G$16,G$6<='Mapa de férias'!$H$16),AND(G$6>='Mapa de férias'!$I$16,G$6<='Mapa de férias'!$J$16))),"F","")) | H14: =IF(OR($B14="",H$6=""),"",IF(AND(NETWORKDAYS(H$6,H$6,'Feriados'!$F$7:$F$22)=1,OR(AND(H$6>='Mapa de férias'!$E$16,H$6<='Mapa de férias'!$F$16),AND(H$6>='Mapa de férias'!$G$16,H$6<='Mapa de férias'!$H$16),AND(H$6>='Mapa de férias'!$I$16,H$6<='Mapa de férias'!$J$16))),"F","")) | I14: =IF(OR($B14="",I$6=""),"",IF(AND(NETWORKDAYS(I$6,I$6,'Feriados'!$F$7:$F$22)=1,OR(AND(I$6>='Mapa de férias'!$E$16,I$6<='Mapa de férias'!$F$16),AND(I$6>='Mapa de férias'!$G$16,I$6<='Mapa de férias'!$H$16),AND(I$6>='Mapa de férias'!$I$16,I$6<='Mapa de férias'!$J$16))),"F","")) | J14: =IF(OR($B14="",J$6=""),"",IF(AND(NETWORKDAYS(J$6,J$6,'Feriados'!$F$7:$F$22)=1,OR(AND(J$6>='Mapa de férias'!$E$16,J$6<='Mapa de férias'!$F$16),AND(J$6>='Mapa de férias'!$G$16,J$6<='Mapa de férias'!$H$16),AND(J$6>='Mapa de férias'!$I$16,J$6<='Mapa de férias'!$J$16))),"F","")) | ... AG14: =IF(OR($B14="",AG$6=""),"",IF(AND(NETWORKDAYS(AG$6,AG$6,'Feriados'!$F$7:$F$22)=1,OR(AND(AG$6>='Mapa de férias'!$E$16,AG$6<='Mapa de férias'!$F$16),AND(AG$6>='Mapa de férias'!$G$16,AG$6<='Mapa de férias'!$H$16),AND(AG$6>='Mapa de férias'!$I$16,AG$6<='Mapa de férias'!$J$16))),"F","")) | AH14: =IF($B14="","",COUNTIF(C14:AG14,"F"))
A15: 8 | B15: =IF('Mapa de férias'!$B$17="","",'Mapa de férias'!$B$17) | C15: =IF(OR($B15="",C$6=""),"",IF(AND(NETWORKDAYS(C$6,C$6,'Feriados'!$F$7:$F$22)=1,OR(AND(C$6>='Mapa de férias'!$E$17,C$6<='Mapa de férias'!$F$17),AND(C$6>='Mapa de férias'!$G$17,C$6<='Mapa de férias'!$H$17),AND(C$6>='Mapa de férias'!$I$17,C$6<='Mapa de férias'!$J$17))),"F","")) | D15: =IF(OR($B15="",D$6=""),"",IF(AND(NETWORKDAYS(D$6,D$6,'Feriados'!$F$7:$F$22)=1,OR(AND(D$6>='Mapa de férias'!$E$17,D$6<='Mapa de férias'!$F$17),AND(D$6>='Mapa de férias'!$G$17,D$6<='Mapa de férias'!$H$17),AND(D$6>='Mapa de férias'!$I$17,D$6<='Mapa de férias'!$J$17))),"F","")) | E15: =IF(OR($B15="",E$6=""),"",IF(AND(NETWORKDAYS(E$6,E$6,'Feriados'!$F$7:$F$22)=1,OR(AND(E$6>='Mapa de férias'!$E$17,E$6<='Mapa de férias'!$F$17),AND(E$6>='Mapa de férias'!$G$17,E$6<='Mapa de férias'!$H$17),AND(E$6>='Mapa de férias'!$I$17,E$6<='Mapa de férias'!$J$17))),"F","")) | F15: =IF(OR($B15="",F$6=""),"",IF(AND(NETWORKDAYS(F$6,F$6,'Feriados'!$F$7:$F$22)=1,OR(AND(F$6>='Mapa de férias'!$E$17,F$6<='Mapa de férias'!$F$17),AND(F$6>='Mapa de férias'!$G$17,F$6<='Mapa de férias'!$H$17),AND(F$6>='Mapa de férias'!$I$17,F$6<='Mapa de férias'!$J$17))),"F","")) | G15: =IF(OR($B15="",G$6=""),"",IF(AND(NETWORKDAYS(G$6,G$6,'Feriados'!$F$7:$F$22)=1,OR(AND(G$6>='Mapa de férias'!$E$17,G$6<='Mapa de férias'!$F$17),AND(G$6>='Mapa de férias'!$G$17,G$6<='Mapa de férias'!$H$17),AND(G$6>='Mapa de férias'!$I$17,G$6<='Mapa de férias'!$J$17))),"F","")) | H15: =IF(OR($B15="",H$6=""),"",IF(AND(NETWORKDAYS(H$6,H$6,'Feriados'!$F$7:$F$22)=1,OR(AND(H$6>='Mapa de férias'!$E$17,H$6<='Mapa de férias'!$F$17),AND(H$6>='Mapa de férias'!$G$17,H$6<='Mapa de férias'!$H$17),AND(H$6>='Mapa de férias'!$I$17,H$6<='Mapa de férias'!$J$17))),"F","")) | I15: =IF(OR($B15="",I$6=""),"",IF(AND(NETWORKDAYS(I$6,I$6,'Feriados'!$F$7:$F$22)=1,OR(AND(I$6>='Mapa de férias'!$E$17,I$6<='Mapa de férias'!$F$17),AND(I$6>='Mapa de férias'!$G$17,I$6<='Mapa de férias'!$H$17),AND(I$6>='Mapa de férias'!$I$17,I$6<='Mapa de férias'!$J$17))),"F","")) | J15: =IF(OR($B15="",J$6=""),"",IF(AND(NETWORKDAYS(J$6,J$6,'Feriados'!$F$7:$F$22)=1,OR(AND(J$6>='Mapa de férias'!$E$17,J$6<='Mapa de férias'!$F$17),AND(J$6>='Mapa de férias'!$G$17,J$6<='Mapa de férias'!$H$17),AND(J$6>='Mapa de férias'!$I$17,J$6<='Mapa de férias'!$J$17))),"F","")) | ... AG15: =IF(OR($B15="",AG$6=""),"",IF(AND(NETWORKDAYS(AG$6,AG$6,'Feriados'!$F$7:$F$22)=1,OR(AND(AG$6>='Mapa de férias'!$E$17,AG$6<='Mapa de férias'!$F$17),AND(AG$6>='Mapa de férias'!$G$17,AG$6<='Mapa de férias'!$H$17),AND(AG$6>='Mapa de férias'!$I$17,AG$6<='Mapa de férias'!$J$17))),"F","")) | AH15: =IF($B15="","",COUNTIF(C15:AG15,"F"))
A16: 9 | B16: =IF('Mapa de férias'!$B$18="","",'Mapa de férias'!$B$18) | C16: =IF(OR($B16="",C$6=""),"",IF(AND(NETWORKDAYS(C$6,C$6,'Feriados'!$F$7:$F$22)=1,OR(AND(C$6>='Mapa de férias'!$E$18,C$6<='Mapa de férias'!$F$18),AND(C$6>='Mapa de férias'!$G$18,C$6<='Mapa de férias'!$H$18),AND(C$6>='Mapa de férias'!$I$18,C$6<='Mapa de férias'!$J$18))),"F","")) | D16: =IF(OR($B16="",D$6=""),"",IF(AND(NETWORKDAYS(D$6,D$6,'Feriados'!$F$7:$F$22)=1,OR(AND(D$6>='Mapa de férias'!$E$18,D$6<='Mapa de férias'!$F$18),AND(D$6>='Mapa de férias'!$G$18,D$6<='Mapa de férias'!$H$18),AND(D$6>='Mapa de férias'!$I$18,D$6<='Mapa de férias'!$J$18))),"F","")) | E16: =IF(OR($B16="",E$6=""),"",IF(AND(NETWORKDAYS(E$6,E$6,'Feriados'!$F$7:$F$22)=1,OR(AND(E$6>='Mapa de férias'!$E$18,E$6<='Mapa de férias'!$F$18),AND(E$6>='Mapa de férias'!$G$18,E$6<='Mapa de férias'!$H$18),AND(E$6>='Mapa de férias'!$I$18,E$6<='Mapa de férias'!$J$18))),"F","")) | F16: =IF(OR($B16="",F$6=""),"",IF(AND(NETWORKDAYS(F$6,F$6,'Feriados'!$F$7:$F$22)=1,OR(AND(F$6>='Mapa de férias'!$E$18,F$6<='Mapa de férias'!$F$18),AND(F$6>='Mapa de férias'!$G$18,F$6<='Mapa de férias'!$H$18),AND(F$6>='Mapa de férias'!$I$18,F$6<='Mapa de férias'!$J$18))),"F","")) | G16: =IF(OR($B16="",G$6=""),"",IF(AND(NETWORKDAYS(G$6,G$6,'Feriados'!$F$7:$F$22)=1,OR(AND(G$6>='Mapa de férias'!$E$18,G$6<='Mapa de férias'!$F$18),AND(G$6>='Mapa de férias'!$G$18,G$6<='Mapa de férias'!$H$18),AND(G$6>='Mapa de férias'!$I$18,G$6<='Mapa de férias'!$J$18))),"F","")) | H16: =IF(OR($B16="",H$6=""),"",IF(AND(NETWORKDAYS(H$6,H$6,'Feriados'!$F$7:$F$22)=1,OR(AND(H$6>='Mapa de férias'!$E$18,H$6<='Mapa de férias'!$F$18),AND(H$6>='Mapa de férias'!$G$18,H$6<='Mapa de férias'!$H$18),AND(H$6>='Mapa de férias'!$I$18,H$6<='Mapa de férias'!$J$18))),"F","")) | I16: =IF(OR($B16="",I$6=""),"",IF(AND(NETWORKDAYS(I$6,I$6,'Feriados'!$F$7:$F$22)=1,OR(AND(I$6>='Mapa de férias'!$E$18,I$6<='Mapa de férias'!$F$18),AND(I$6>='Mapa de férias'!$G$18,I$6<='Mapa de férias'!$H$18),AND(I$6>='Mapa de férias'!$I$18,I$6<='Mapa de férias'!$J$18))),"F","")) | J16: =IF(OR($B16="",J$6=""),"",IF(AND(NETWORKDAYS(J$6,J$6,'Feriados'!$F$7:$F$22)=1,OR(AND(J$6>='Mapa de férias'!$E$18,J$6<='Mapa de férias'!$F$18),AND(J$6>='Mapa de férias'!$G$18,J$6<='Mapa de férias'!$H$18),AND(J$6>='Mapa de férias'!$I$18,J$6<='Mapa de férias'!$J$18))),"F","")) | ... AG16: =IF(OR($B16="",AG$6=""),"",IF(AND(NETWORKDAYS(AG$6,AG$6,'Feriados'!$F$7:$F$22)=1,OR(AND(AG$6>='Mapa de férias'!$E$18,AG$6<='Mapa de férias'!$F$18),AND(AG$6>='Mapa de férias'!$G$18,AG$6<='Mapa de férias'!$H$18),AND(AG$6>='Mapa de férias'!$I$18,AG$6<='Mapa de férias'!$J$18))),"F","")) | AH16: =IF($B16="","",COUNTIF(C16:AG16,"F"))
A17: 10 | B17: =IF('Mapa de férias'!$B$19="","",'Mapa de férias'!$B$19) | C17: =IF(OR($B17="",C$6=""),"",IF(AND(NETWORKDAYS(C$6,C$6,'Feriados'!$F$7:$F$22)=1,OR(AND(C$6>='Mapa de férias'!$E$19,C$6<='Mapa de férias'!$F$19),AND(C$6>='Mapa de férias'!$G$19,C$6<='Mapa de férias'!$H$19),AND(C$6>='Mapa de férias'!$I$19,C$6<='Mapa de férias'!$J$19))),"F","")) | D17: =IF(OR($B17="",D$6=""),"",IF(AND(NETWORKDAYS(D$6,D$6,'Feriados'!$F$7:$F$22)=1,OR(AND(D$6>='Mapa de férias'!$E$19,D$6<='Mapa de férias'!$F$19),AND(D$6>='Mapa de férias'!$G$19,D$6<='Mapa de férias'!$H$19),AND(D$6>='Mapa de férias'!$I$19,D$6<='Mapa de férias'!$J$19))),"F","")) | E17: =IF(OR($B17="",E$6=""),"",IF(AND(NETWORKDAYS(E$6,E$6,'Feriados'!$F$7:$F$22)=1,OR(AND(E$6>='Mapa de férias'!$E$19,E$6<='Mapa de férias'!$F$19),AND(E$6>='Mapa de férias'!$G$19,E$6<='Mapa de férias'!$H$19),AND(E$6>='Mapa de férias'!$I$19,E$6<='Mapa de férias'!$J$19))),"F","")) | F17: =IF(OR($B17="",F$6=""),"",IF(AND(NETWORKDAYS(F$6,F$6,'Feriados'!$F$7:$F$22)=1,OR(AND(F$6>='Mapa de férias'!$E$19,F$6<='Mapa de férias'!$F$19),AND(F$6>='Mapa de férias'!$G$19,F$6<='Mapa de férias'!$H$19),AND(F$6>='Mapa de férias'!$I$19,F$6<='Mapa de férias'!$J$19))),"F","")) | G17: =IF(OR($B17="",G$6=""),"",IF(AND(NETWORKDAYS(G$6,G$6,'Feriados'!$F$7:$F$22)=1,OR(AND(G$6>='Mapa de férias'!$E$19,G$6<='Mapa de férias'!$F$19),AND(G$6>='Mapa de férias'!$G$19,G$6<='Mapa de férias'!$H$19),AND(G$6>='Mapa de férias'!$I$19,G$6<='Mapa de férias'!$J$19))),"F","")) | H17: =IF(OR($B17="",H$6=""),"",IF(AND(NETWORKDAYS(H$6,H$6,'Feriados'!$F$7:$F$22)=1,OR(AND(H$6>='Mapa de férias'!$E$19,H$6<='Mapa de férias'!$F$19),AND(H$6>='Mapa de férias'!$G$19,H$6<='Mapa de férias'!$H$19),AND(H$6>='Mapa de férias'!$I$19,H$6<='Mapa de férias'!$J$19))),"F","")) | I17: =IF(OR($B17="",I$6=""),"",IF(AND(NETWORKDAYS(I$6,I$6,'Feriados'!$F$7:$F$22)=1,OR(AND(I$6>='Mapa de férias'!$E$19,I$6<='Mapa de férias'!$F$19),AND(I$6>='Mapa de férias'!$G$19,I$6<='Mapa de férias'!$H$19),AND(I$6>='Mapa de férias'!$I$19,I$6<='Mapa de férias'!$J$19))),"F","")) | J17: =IF(OR($B17="",J$6=""),"",IF(AND(NETWORKDAYS(J$6,J$6,'Feriados'!$F$7:$F$22)=1,OR(AND(J$6>='Mapa de férias'!$E$19,J$6<='Mapa de férias'!$F$19),AND(J$6>='Mapa de férias'!$G$19,J$6<='Mapa de férias'!$H$19),AND(J$6>='Mapa de férias'!$I$19,J$6<='Mapa de férias'!$J$19))),"F","")) | ... AG17: =IF(OR($B17="",AG$6=""),"",IF(AND(NETWORKDAYS(AG$6,AG$6,'Feriados'!$F$7:$F$22)=1,OR(AND(AG$6>='Mapa de férias'!$E$19,AG$6<='Mapa de férias'!$F$19),AND(AG$6>='Mapa de férias'!$G$19,AG$6<='Mapa de férias'!$H$19),AND(AG$6>='Mapa de férias'!$I$19,AG$6<='Mapa de férias'!$J$19))),"F","")) | AH17: =IF($B17="","",COUNTIF(C17:AG17,"F"))
A18: 11 | B18: =IF('Mapa de férias'!$B$20="","",'Mapa de férias'!$B$20) | C18: =IF(OR($B18="",C$6=""),"",IF(AND(NETWORKDAYS(C$6,C$6,'Feriados'!$F$7:$F$22)=1,OR(AND(C$6>='Mapa de férias'!$E$20,C$6<='Mapa de férias'!$F$20),AND(C$6>='Mapa de férias'!$G$20,C$6<='Mapa de férias'!$H$20),AND(C$6>='Mapa de férias'!$I$20,C$6<='Mapa de férias'!$J$20))),"F","")) | D18: =IF(OR($B18="",D$6=""),"",IF(AND(NETWORKDAYS(D$6,D$6,'Feriados'!$F$7:$F$22)=1,OR(AND(D$6>='Mapa de férias'!$E$20,D$6<='Mapa de férias'!$F$20),AND(D$6>='Mapa de férias'!$G$20,D$6<='Mapa de férias'!$H$20),AND(D$6>='Mapa de férias'!$I$20,D$6<='Mapa de férias'!$J$20))),"F","")) | E18: =IF(OR($B18="",E$6=""),"",IF(AND(NETWORKDAYS(E$6,E$6,'Feriados'!$F$7:$F$22)=1,OR(AND(E$6>='Mapa de férias'!$E$20,E$6<='Mapa de férias'!$F$20),AND(E$6>='Mapa de férias'!$G$20,E$6<='Mapa de férias'!$H$20),AND(E$6>='Mapa de férias'!$I$20,E$6<='Mapa de férias'!$J$20))),"F","")) | F18: =IF(OR($B18="",F$6=""),"",IF(AND(NETWORKDAYS(F$6,F$6,'Feriados'!$F$7:$F$22)=1,OR(AND(F$6>='Mapa de férias'!$E$20,F$6<='Mapa de férias'!$F$20),AND(F$6>='Mapa de férias'!$G$20,F$6<='Mapa de férias'!$H$20),AND(F$6>='Mapa de férias'!$I$20,F$6<='Mapa de férias'!$J$20))),"F","")) | G18: =IF(OR($B18="",G$6=""),"",IF(AND(NETWORKDAYS(G$6,G$6,'Feriados'!$F$7:$F$22)=1,OR(AND(G$6>='Mapa de férias'!$E$20,G$6<='Mapa de férias'!$F$20),AND(G$6>='Mapa de férias'!$G$20,G$6<='Mapa de férias'!$H$20),AND(G$6>='Mapa de férias'!$I$20,G$6<='Mapa de férias'!$J$20))),"F","")) | H18: =IF(OR($B18="",H$6=""),"",IF(AND(NETWORKDAYS(H$6,H$6,'Feriados'!$F$7:$F$22)=1,OR(AND(H$6>='Mapa de férias'!$E$20,H$6<='Mapa de férias'!$F$20),AND(H$6>='Mapa de férias'!$G$20,H$6<='Mapa de férias'!$H$20),AND(H$6>='Mapa de férias'!$I$20,H$6<='Mapa de férias'!$J$20))),"F","")) | I18: =IF(OR($B18="",I$6=""),"",IF(AND(NETWORKDAYS(I$6,I$6,'Feriados'!$F$7:$F$22)=1,OR(AND(I$6>='Mapa de férias'!$E$20,I$6<='Mapa de férias'!$F$20),AND(I$6>='Mapa de férias'!$G$20,I$6<='Mapa de férias'!$H$20),AND(I$6>='Mapa de férias'!$I$20,I$6<='Mapa de férias'!$J$20))),"F","")) | J18: =IF(OR($B18="",J$6=""),"",IF(AND(NETWORKDAYS(J$6,J$6,'Feriados'!$F$7:$F$22)=1,OR(AND(J$6>='Mapa de férias'!$E$20,J$6<='Mapa de férias'!$F$20),AND(J$6>='Mapa de férias'!$G$20,J$6<='Mapa de férias'!$H$20),AND(J$6>='Mapa de férias'!$I$20,J$6<='Mapa de férias'!$J$20))),"F","")) | ... AG18: =IF(OR($B18="",AG$6=""),"",IF(AND(NETWORKDAYS(AG$6,AG$6,'Feriados'!$F$7:$F$22)=1,OR(AND(AG$6>='Mapa de férias'!$E$20,AG$6<='Mapa de férias'!$F$20),AND(AG$6>='Mapa de férias'!$G$20,AG$6<='Mapa de férias'!$H$20),AND(AG$6>='Mapa de férias'!$I$20,AG$6<='Mapa de férias'!$J$20))),"F","")) | AH18: =IF($B18="","",COUNTIF(C18:AG18,"F"))
A19: 12 | B19: =IF('Mapa de férias'!$B$21="","",'Mapa de férias'!$B$21) | C19: =IF(OR($B19="",C$6=""),"",IF(AND(NETWORKDAYS(C$6,C$6,'Feriados'!$F$7:$F$22)=1,OR(AND(C$6>='Mapa de férias'!$E$21,C$6<='Mapa de férias'!$F$21),AND(C$6>='Mapa de férias'!$G$21,C$6<='Mapa de férias'!$H$21),AND(C$6>='Mapa de férias'!$I$21,C$6<='Mapa de férias'!$J$21))),"F","")) | D19: =IF(OR($B19="",D$6=""),"",IF(AND(NETWORKDAYS(D$6,D$6,'Feriados'!$F$7:$F$22)=1,OR(AND(D$6>='Mapa de férias'!$E$21,D$6<='Mapa de férias'!$F$21),AND(D$6>='Mapa de férias'!$G$21,D$6<='Mapa de férias'!$H$21),AND(D$6>='Mapa de férias'!$I$21,D$6<='Mapa de férias'!$J$21))),"F","")) | E19: =IF(OR($B19="",E$6=""),"",IF(AND(NETWORKDAYS(E$6,E$6,'Feriados'!$F$7:$F$22)=1,OR(AND(E$6>='Mapa de férias'!$E$21,E$6<='Mapa de férias'!$F$21),AND(E$6>='Mapa de férias'!$G$21,E$6<='Mapa de férias'!$H$21),AND(E$6>='Mapa de férias'!$I$21,E$6<='Mapa de férias'!$J$21))),"F","")) | F19: =IF(OR($B19="",F$6=""),"",IF(AND(NETWORKDAYS(F$6,F$6,'Feriados'!$F$7:$F$22)=1,OR(AND(F$6>='Mapa de férias'!$E$21,F$6<='Mapa de férias'!$F$21),AND(F$6>='Mapa de férias'!$G$21,F$6<='Mapa de férias'!$H$21),AND(F$6>='Mapa de férias'!$I$21,F$6<='Mapa de férias'!$J$21))),"F","")) | G19: =IF(OR($B19="",G$6=""),"",IF(AND(NETWORKDAYS(G$6,G$6,'Feriados'!$F$7:$F$22)=1,OR(AND(G$6>='Mapa de férias'!$E$21,G$6<='Mapa de férias'!$F$21),AND(G$6>='Mapa de férias'!$G$21,G$6<='Mapa de férias'!$H$21),AND(G$6>='Mapa de férias'!$I$21,G$6<='Mapa de férias'!$J$21))),"F","")) | H19: =IF(OR($B19="",H$6=""),"",IF(AND(NETWORKDAYS(H$6,H$6,'Feriados'!$F$7:$F$22)=1,OR(AND(H$6>='Mapa de férias'!$E$21,H$6<='Mapa de férias'!$F$21),AND(H$6>='Mapa de férias'!$G$21,H$6<='Mapa de férias'!$H$21),AND(H$6>='Mapa de férias'!$I$21,H$6<='Mapa de férias'!$J$21))),"F","")) | I19: =IF(OR($B19="",I$6=""),"",IF(AND(NETWORKDAYS(I$6,I$6,'Feriados'!$F$7:$F$22)=1,OR(AND(I$6>='Mapa de férias'!$E$21,I$6<='Mapa de férias'!$F$21),AND(I$6>='Mapa de férias'!$G$21,I$6<='Mapa de férias'!$H$21),AND(I$6>='Mapa de férias'!$I$21,I$6<='Mapa de férias'!$J$21))),"F","")) | J19: =IF(OR($B19="",J$6=""),"",IF(AND(NETWORKDAYS(J$6,J$6,'Feriados'!$F$7:$F$22)=1,OR(AND(J$6>='Mapa de férias'!$E$21,J$6<='Mapa de férias'!$F$21),AND(J$6>='Mapa de férias'!$G$21,J$6<='Mapa de férias'!$H$21),AND(J$6>='Mapa de férias'!$I$21,J$6<='Mapa de férias'!$J$21))),"F","")) | ... AG19: =IF(OR($B19="",AG$6=""),"",IF(AND(NETWORKDAYS(AG$6,AG$6,'Feriados'!$F$7:$F$22)=1,OR(AND(AG$6>='Mapa de férias'!$E$21,AG$6<='Mapa de férias'!$F$21),AND(AG$6>='Mapa de férias'!$G$21,AG$6<='Mapa de férias'!$H$21),AND(AG$6>='Mapa de férias'!$I$21,AG$6<='Mapa de férias'!$J$21))),"F","")) | AH19: =IF($B19="","",COUNTIF(C19:AG19,"F"))
A20: 13 | B20: =IF('Mapa de férias'!$B$22="","",'Mapa de férias'!$B$22) | C20: =IF(OR($B20="",C$6=""),"",IF(AND(NETWORKDAYS(C$6,C$6,'Feriados'!$F$7:$F$22)=1,OR(AND(C$6>='Mapa de férias'!$E$22,C$6<='Mapa de férias'!$F$22),AND(C$6>='Mapa de férias'!$G$22,C$6<='Mapa de férias'!$H$22),AND(C$6>='Mapa de férias'!$I$22,C$6<='Mapa de férias'!$J$22))),"F","")) | D20: =IF(OR($B20="",D$6=""),"",IF(AND(NETWORKDAYS(D$6,D$6,'Feriados'!$F$7:$F$22)=1,OR(AND(D$6>='Mapa de férias'!$E$22,D$6<='Mapa de férias'!$F$22),AND(D$6>='Mapa de férias'!$G$22,D$6<='Mapa de férias'!$H$22),AND(D$6>='Mapa de férias'!$I$22,D$6<='Mapa de férias'!$J$22))),"F","")) | E20: =IF(OR($B20="",E$6=""),"",IF(AND(NETWORKDAYS(E$6,E$6,'Feriados'!$F$7:$F$22)=1,OR(AND(E$6>='Mapa de férias'!$E$22,E$6<='Mapa de férias'!$F$22),AND(E$6>='Mapa de férias'!$G$22,E$6<='Mapa de férias'!$H$22),AND(E$6>='Mapa de férias'!$I$22,E$6<='Mapa de férias'!$J$22))),"F","")) | F20: =IF(OR($B20="",F$6=""),"",IF(AND(NETWORKDAYS(F$6,F$6,'Feriados'!$F$7:$F$22)=1,OR(AND(F$6>='Mapa de férias'!$E$22,F$6<='Mapa de férias'!$F$22),AND(F$6>='Mapa de férias'!$G$22,F$6<='Mapa de férias'!$H$22),AND(F$6>='Mapa de férias'!$I$22,F$6<='Mapa de férias'!$J$22))),"F","")) | G20: =IF(OR($B20="",G$6=""),"",IF(AND(NETWORKDAYS(G$6,G$6,'Feriados'!$F$7:$F$22)=1,OR(AND(G$6>='Mapa de férias'!$E$22,G$6<='Mapa de férias'!$F$22),AND(G$6>='Mapa de férias'!$G$22,G$6<='Mapa de férias'!$H$22),AND(G$6>='Mapa de férias'!$I$22,G$6<='Mapa de férias'!$J$22))),"F","")) | H20: =IF(OR($B20="",H$6=""),"",IF(AND(NETWORKDAYS(H$6,H$6,'Feriados'!$F$7:$F$22)=1,OR(AND(H$6>='Mapa de férias'!$E$22,H$6<='Mapa de férias'!$F$22),AND(H$6>='Mapa de férias'!$G$22,H$6<='Mapa de férias'!$H$22),AND(H$6>='Mapa de férias'!$I$22,H$6<='Mapa de férias'!$J$22))),"F","")) | I20: =IF(OR($B20="",I$6=""),"",IF(AND(NETWORKDAYS(I$6,I$6,'Feriados'!$F$7:$F$22)=1,OR(AND(I$6>='Mapa de férias'!$E$22,I$6<='Mapa de férias'!$F$22),AND(I$6>='Mapa de férias'!$G$22,I$6<='Mapa de férias'!$H$22),AND(I$6>='Mapa de férias'!$I$22,I$6<='Mapa de férias'!$J$22))),"F","")) | J20: =IF(OR($B20="",J$6=""),"",IF(AND(NETWORKDAYS(J$6,J$6,'Feriados'!$F$7:$F$22)=1,OR(AND(J$6>='Mapa de férias'!$E$22,J$6<='Mapa de férias'!$F$22),AND(J$6>='Mapa de férias'!$G$22,J$6<='Mapa de férias'!$H$22),AND(J$6>='Mapa de férias'!$I$22,J$6<='Mapa de férias'!$J$22))),"F","")) | ... AG20: =IF(OR($B20="",AG$6=""),"",IF(AND(NETWORKDAYS(AG$6,AG$6,'Feriados'!$F$7:$F$22)=1,OR(AND(AG$6>='Mapa de férias'!$E$22,AG$6<='Mapa de férias'!$F$22),AND(AG$6>='Mapa de férias'!$G$22,AG$6<='Mapa de férias'!$H$22),AND(AG$6>='Mapa de férias'!$I$22,AG$6<='Mapa de férias'!$J$22))),"F","")) | AH20: =IF($B20="","",COUNTIF(C20:AG20,"F"))
A21: 14 | B21: =IF('Mapa de férias'!$B$23="","",'Mapa de férias'!$B$23) | C21: =IF(OR($B21="",C$6=""),"",IF(AND(NETWORKDAYS(C$6,C$6,'Feriados'!$F$7:$F$22)=1,OR(AND(C$6>='Mapa de férias'!$E$23,C$6<='Mapa de férias'!$F$23),AND(C$6>='Mapa de férias'!$G$23,C$6<='Mapa de férias'!$H$23),AND(C$6>='Mapa de férias'!$I$23,C$6<='Mapa de férias'!$J$23))),"F","")) | D21: =IF(OR($B21="",D$6=""),"",IF(AND(NETWORKDAYS(D$6,D$6,'Feriados'!$F$7:$F$22)=1,OR(AND(D$6>='Mapa de férias'!$E$23,D$6<='Mapa de férias'!$F$23),AND(D$6>='Mapa de férias'!$G$23,D$6<='Mapa de férias'!$H$23),AND(D$6>='Mapa de férias'!$I$23,D$6<='Mapa de férias'!$J$23))),"F","")) | E21: =IF(OR($B21="",E$6=""),"",IF(AND(NETWORKDAYS(E$6,E$6,'Feriados'!$F$7:$F$22)=1,OR(AND(E$6>='Mapa de férias'!$E$23,E$6<='Mapa de férias'!$F$23),AND(E$6>='Mapa de férias'!$G$23,E$6<='Mapa de férias'!$H$23),AND(E$6>='Mapa de férias'!$I$23,E$6<='Mapa de férias'!$J$23))),"F","")) | F21: =IF(OR($B21="",F$6=""),"",IF(AND(NETWORKDAYS(F$6,F$6,'Feriados'!$F$7:$F$22)=1,OR(AND(F$6>='Mapa de férias'!$E$23,F$6<='Mapa de férias'!$F$23),AND(F$6>='Mapa de férias'!$G$23,F$6<='Mapa de férias'!$H$23),AND(F$6>='Mapa de férias'!$I$23,F$6<='Mapa de férias'!$J$23))),"F","")) | G21: =IF(OR($B21="",G$6=""),"",IF(AND(NETWORKDAYS(G$6,G$6,'Feriados'!$F$7:$F$22)=1,OR(AND(G$6>='Mapa de férias'!$E$23,G$6<='Mapa de férias'!$F$23),AND(G$6>='Mapa de férias'!$G$23,G$6<='Mapa de férias'!$H$23),AND(G$6>='Mapa de férias'!$I$23,G$6<='Mapa de férias'!$J$23))),"F","")) | H21: =IF(OR($B21="",H$6=""),"",IF(AND(NETWORKDAYS(H$6,H$6,'Feriados'!$F$7:$F$22)=1,OR(AND(H$6>='Mapa de férias'!$E$23,H$6<='Mapa de férias'!$F$23),AND(H$6>='Mapa de férias'!$G$23,H$6<='Mapa de férias'!$H$23),AND(H$6>='Mapa de férias'!$I$23,H$6<='Mapa de férias'!$J$23))),"F","")) | I21: =IF(OR($B21="",I$6=""),"",IF(AND(NETWORKDAYS(I$6,I$6,'Feriados'!$F$7:$F$22)=1,OR(AND(I$6>='Mapa de férias'!$E$23,I$6<='Mapa de férias'!$F$23),AND(I$6>='Mapa de férias'!$G$23,I$6<='Mapa de férias'!$H$23),AND(I$6>='Mapa de férias'!$I$23,I$6<='Mapa de férias'!$J$23))),"F","")) | J21: =IF(OR($B21="",J$6=""),"",IF(AND(NETWORKDAYS(J$6,J$6,'Feriados'!$F$7:$F$22)=1,OR(AND(J$6>='Mapa de férias'!$E$23,J$6<='Mapa de férias'!$F$23),AND(J$6>='Mapa de férias'!$G$23,J$6<='Mapa de férias'!$H$23),AND(J$6>='Mapa de férias'!$I$23,J$6<='Mapa de férias'!$J$23))),"F","")) | ... AG21: =IF(OR($B21="",AG$6=""),"",IF(AND(NETWORKDAYS(AG$6,AG$6,'Feriados'!$F$7:$F$22)=1,OR(AND(AG$6>='Mapa de férias'!$E$23,AG$6<='Mapa de férias'!$F$23),AND(AG$6>='Mapa de férias'!$G$23,AG$6<='Mapa de férias'!$H$23),AND(AG$6>='Mapa de férias'!$I$23,AG$6<='Mapa de férias'!$J$23))),"F","")) | AH21: =IF($B21="","",COUNTIF(C21:AG21,"F"))
A22: 15 | B22: =IF('Mapa de férias'!$B$24="","",'Mapa de férias'!$B$24) | C22: =IF(OR($B22="",C$6=""),"",IF(AND(NETWORKDAYS(C$6,C$6,'Feriados'!$F$7:$F$22)=1,OR(AND(C$6>='Mapa de férias'!$E$24,C$6<='Mapa de férias'!$F$24),AND(C$6>='Mapa de férias'!$G$24,C$6<='Mapa de férias'!$H$24),AND(C$6>='Mapa de férias'!$I$24,C$6<='Mapa de férias'!$J$24))),"F","")) | D22: =IF(OR($B22="",D$6=""),"",IF(AND(NETWORKDAYS(D$6,D$6,'Feriados'!$F$7:$F$22)=1,OR(AND(D$6>='Mapa de férias'!$E$24,D$6<='Mapa de férias'!$F$24),AND(D$6>='Mapa de férias'!$G$24,D$6<='Mapa de férias'!$H$24),AND(D$6>='Mapa de férias'!$I$24,D$6<='Mapa de férias'!$J$24))),"F","")) | E22: =IF(OR($B22="",E$6=""),"",IF(AND(NETWORKDAYS(E$6,E$6,'Feriados'!$F$7:$F$22)=1,OR(AND(E$6>='Mapa de férias'!$E$24,E$6<='Mapa de férias'!$F$24),AND(E$6>='Mapa de férias'!$G$24,E$6<='Mapa de férias'!$H$24),AND(E$6>='Mapa de férias'!$I$24,E$6<='Mapa de férias'!$J$24))),"F","")) | F22: =IF(OR($B22="",F$6=""),"",IF(AND(NETWORKDAYS(F$6,F$6,'Feriados'!$F$7:$F$22)=1,OR(AND(F$6>='Mapa de férias'!$E$24,F$6<='Mapa de férias'!$F$24),AND(F$6>='Mapa de férias'!$G$24,F$6<='Mapa de férias'!$H$24),AND(F$6>='Mapa de férias'!$I$24,F$6<='Mapa de férias'!$J$24))),"F","")) | G22: =IF(OR($B22="",G$6=""),"",IF(AND(NETWORKDAYS(G$6,G$6,'Feriados'!$F$7:$F$22)=1,OR(AND(G$6>='Mapa de férias'!$E$24,G$6<='Mapa de férias'!$F$24),AND(G$6>='Mapa de férias'!$G$24,G$6<='Mapa de férias'!$H$24),AND(G$6>='Mapa de férias'!$I$24,G$6<='Mapa de férias'!$J$24))),"F","")) | H22: =IF(OR($B22="",H$6=""),"",IF(AND(NETWORKDAYS(H$6,H$6,'Feriados'!$F$7:$F$22)=1,OR(AND(H$6>='Mapa de férias'!$E$24,H$6<='Mapa de férias'!$F$24),AND(H$6>='Mapa de férias'!$G$24,H$6<='Mapa de férias'!$H$24),AND(H$6>='Mapa de férias'!$I$24,H$6<='Mapa de férias'!$J$24))),"F","")) | I22: =IF(OR($B22="",I$6=""),"",IF(AND(NETWORKDAYS(I$6,I$6,'Feriados'!$F$7:$F$22)=1,OR(AND(I$6>='Mapa de férias'!$E$24,I$6<='Mapa de férias'!$F$24),AND(I$6>='Mapa de férias'!$G$24,I$6<='Mapa de férias'!$H$24),AND(I$6>='Mapa de férias'!$I$24,I$6<='Mapa de férias'!$J$24))),"F","")) | J22: =IF(OR($B22="",J$6=""),"",IF(AND(NETWORKDAYS(J$6,J$6,'Feriados'!$F$7:$F$22)=1,OR(AND(J$6>='Mapa de férias'!$E$24,J$6<='Mapa de férias'!$F$24),AND(J$6>='Mapa de férias'!$G$24,J$6<='Mapa de férias'!$H$24),AND(J$6>='Mapa de férias'!$I$24,J$6<='Mapa de férias'!$J$24))),"F","")) | ... AG22: =IF(OR($B22="",AG$6=""),"",IF(AND(NETWORKDAYS(AG$6,AG$6,'Feriados'!$F$7:$F$22)=1,OR(AND(AG$6>='Mapa de férias'!$E$24,AG$6<='Mapa de férias'!$F$24),AND(AG$6>='Mapa de férias'!$G$24,AG$6<='Mapa de férias'!$H$24),AND(AG$6>='Mapa de férias'!$I$24,AG$6<='Mapa de férias'!$J$24))),"F","")) | AH22: =IF($B22="","",COUNTIF(C22:AG22,"F"))
A23: 16 | B23: =IF('Mapa de férias'!$B$25="","",'Mapa de férias'!$B$25) | C23: =IF(OR($B23="",C$6=""),"",IF(AND(NETWORKDAYS(C$6,C$6,'Feriados'!$F$7:$F$22)=1,OR(AND(C$6>='Mapa de férias'!$E$25,C$6<='Mapa de férias'!$F$25),AND(C$6>='Mapa de férias'!$G$25,C$6<='Mapa de férias'!$H$25),AND(C$6>='Mapa de férias'!$I$25,C$6<='Mapa de férias'!$J$25))),"F","")) | D23: =IF(OR($B23="",D$6=""),"",IF(AND(NETWORKDAYS(D$6,D$6,'Feriados'!$F$7:$F$22)=1,OR(AND(D$6>='Mapa de férias'!$E$25,D$6<='Mapa de férias'!$F$25),AND(D$6>='Mapa de férias'!$G$25,D$6<='Mapa de férias'!$H$25),AND(D$6>='Mapa de férias'!$I$25,D$6<='Mapa de férias'!$J$25))),"F","")) | E23: =IF(OR($B23="",E$6=""),"",IF(AND(NETWORKDAYS(E$6,E$6,'Feriados'!$F$7:$F$22)=1,OR(AND(E$6>='Mapa de férias'!$E$25,E$6<='Mapa de férias'!$F$25),AND(E$6>='Mapa de férias'!$G$25,E$6<='Mapa de férias'!$H$25),AND(E$6>='Mapa de férias'!$I$25,E$6<='Mapa de férias'!$J$25))),"F","")) | F23: =IF(OR($B23="",F$6=""),"",IF(AND(NETWORKDAYS(F$6,F$6,'Feriados'!$F$7:$F$22)=1,OR(AND(F$6>='Mapa de férias'!$E$25,F$6<='Mapa de férias'!$F$25),AND(F$6>='Mapa de férias'!$G$25,F$6<='Mapa de férias'!$H$25),AND(F$6>='Mapa de férias'!$I$25,F$6<='Mapa de férias'!$J$25))),"F","")) | G23: =IF(OR($B23="",G$6=""),"",IF(AND(NETWORKDAYS(G$6,G$6,'Feriados'!$F$7:$F$22)=1,OR(AND(G$6>='Mapa de férias'!$E$25,G$6<='Mapa de férias'!$F$25),AND(G$6>='Mapa de férias'!$G$25,G$6<='Mapa de férias'!$H$25),AND(G$6>='Mapa de férias'!$I$25,G$6<='Mapa de férias'!$J$25))),"F","")) | H23: =IF(OR($B23="",H$6=""),"",IF(AND(NETWORKDAYS(H$6,H$6,'Feriados'!$F$7:$F$22)=1,OR(AND(H$6>='Mapa de férias'!$E$25,H$6<='Mapa de férias'!$F$25),AND(H$6>='Mapa de férias'!$G$25,H$6<='Mapa de férias'!$H$25),AND(H$6>='Mapa de férias'!$I$25,H$6<='Mapa de férias'!$J$25))),"F","")) | I23: =IF(OR($B23="",I$6=""),"",IF(AND(NETWORKDAYS(I$6,I$6,'Feriados'!$F$7:$F$22)=1,OR(AND(I$6>='Mapa de férias'!$E$25,I$6<='Mapa de férias'!$F$25),AND(I$6>='Mapa de férias'!$G$25,I$6<='Mapa de férias'!$H$25),AND(I$6>='Mapa de férias'!$I$25,I$6<='Mapa de férias'!$J$25))),"F","")) | J23: =IF(OR($B23="",J$6=""),"",IF(AND(NETWORKDAYS(J$6,J$6,'Feriados'!$F$7:$F$22)=1,OR(AND(J$6>='Mapa de férias'!$E$25,J$6<='Mapa de férias'!$F$25),AND(J$6>='Mapa de férias'!$G$25,J$6<='Mapa de férias'!$H$25),AND(J$6>='Mapa de férias'!$I$25,J$6<='Mapa de férias'!$J$25))),"F","")) | ... AG23: =IF(OR($B23="",AG$6=""),"",IF(AND(NETWORKDAYS(AG$6,AG$6,'Feriados'!$F$7:$F$22)=1,OR(AND(AG$6>='Mapa de férias'!$E$25,AG$6<='Mapa de férias'!$F$25),AND(AG$6>='Mapa de férias'!$G$25,AG$6<='Mapa de férias'!$H$25),AND(AG$6>='Mapa de férias'!$I$25,AG$6<='Mapa de férias'!$J$25))),"F","")) | AH23: =IF($B23="","",COUNTIF(C23:AG23,"F"))
A24: 17 | B24: =IF('Mapa de férias'!$B$26="","",'Mapa de férias'!$B$26) | C24: =IF(OR($B24="",C$6=""),"",IF(AND(NETWORKDAYS(C$6,C$6,'Feriados'!$F$7:$F$22)=1,OR(AND(C$6>='Mapa de férias'!$E$26,C$6<='Mapa de férias'!$F$26),AND(C$6>='Mapa de férias'!$G$26,C$6<='Mapa de férias'!$H$26),AND(C$6>='Mapa de férias'!$I$26,C$6<='Mapa de férias'!$J$26))),"F","")) | D24: =IF(OR($B24="",D$6=""),"",IF(AND(NETWORKDAYS(D$6,D$6,'Feriados'!$F$7:$F$22)=1,OR(AND(D$6>='Mapa de férias'!$E$26,D$6<='Mapa de férias'!$F$26),AND(D$6>='Mapa de férias'!$G$26,D$6<='Mapa de férias'!$H$26),AND(D$6>='Mapa de férias'!$I$26,D$6<='Mapa de férias'!$J$26))),"F","")) | E24: =IF(OR($B24="",E$6=""),"",IF(AND(NETWORKDAYS(E$6,E$6,'Feriados'!$F$7:$F$22)=1,OR(AND(E$6>='Mapa de férias'!$E$26,E$6<='Mapa de férias'!$F$26),AND(E$6>='Mapa de férias'!$G$26,E$6<='Mapa de férias'!$H$26),AND(E$6>='Mapa de férias'!$I$26,E$6<='Mapa de férias'!$J$26))),"F","")) | F24: =IF(OR($B24="",F$6=""),"",IF(AND(NETWORKDAYS(F$6,F$6,'Feriados'!$F$7:$F$22)=1,OR(AND(F$6>='Mapa de férias'!$E$26,F$6<='Mapa de férias'!$F$26),AND(F$6>='Mapa de férias'!$G$26,F$6<='Mapa de férias'!$H$26),AND(F$6>='Mapa de férias'!$I$26,F$6<='Mapa de férias'!$J$26))),"F","")) | G24: =IF(OR($B24="",G$6=""),"",IF(AND(NETWORKDAYS(G$6,G$6,'Feriados'!$F$7:$F$22)=1,OR(AND(G$6>='Mapa de férias'!$E$26,G$6<='Mapa de férias'!$F$26),AND(G$6>='Mapa de férias'!$G$26,G$6<='Mapa de férias'!$H$26),AND(G$6>='Mapa de férias'!$I$26,G$6<='Mapa de férias'!$J$26))),"F","")) | H24: =IF(OR($B24="",H$6=""),"",IF(AND(NETWORKDAYS(H$6,H$6,'Feriados'!$F$7:$F$22)=1,OR(AND(H$6>='Mapa de férias'!$E$26,H$6<='Mapa de férias'!$F$26),AND(H$6>='Mapa de férias'!$G$26,H$6<='Mapa de férias'!$H$26),AND(H$6>='Mapa de férias'!$I$26,H$6<='Mapa de férias'!$J$26))),"F","")) | I24: =IF(OR($B24="",I$6=""),"",IF(AND(NETWORKDAYS(I$6,I$6,'Feriados'!$F$7:$F$22)=1,OR(AND(I$6>='Mapa de férias'!$E$26,I$6<='Mapa de férias'!$F$26),AND(I$6>='Mapa de férias'!$G$26,I$6<='Mapa de férias'!$H$26),AND(I$6>='Mapa de férias'!$I$26,I$6<='Mapa de férias'!$J$26))),"F","")) | J24: =IF(OR($B24="",J$6=""),"",IF(AND(NETWORKDAYS(J$6,J$6,'Feriados'!$F$7:$F$22)=1,OR(AND(J$6>='Mapa de férias'!$E$26,J$6<='Mapa de férias'!$F$26),AND(J$6>='Mapa de férias'!$G$26,J$6<='Mapa de férias'!$H$26),AND(J$6>='Mapa de férias'!$I$26,J$6<='Mapa de férias'!$J$26))),"F","")) | ... AG24: =IF(OR($B24="",AG$6=""),"",IF(AND(NETWORKDAYS(AG$6,AG$6,'Feriados'!$F$7:$F$22)=1,OR(AND(AG$6>='Mapa de férias'!$E$26,AG$6<='Mapa de férias'!$F$26),AND(AG$6>='Mapa de férias'!$G$26,AG$6<='Mapa de férias'!$H$26),AND(AG$6>='Mapa de férias'!$I$26,AG$6<='Mapa de férias'!$J$26))),"F","")) | AH24: =IF($B24="","",COUNTIF(C24:AG24,"F"))
A25: 18 | B25: =IF('Mapa de férias'!$B$27="","",'Mapa de férias'!$B$27) | C25: =IF(OR($B25="",C$6=""),"",IF(AND(NETWORKDAYS(C$6,C$6,'Feriados'!$F$7:$F$22)=1,OR(AND(C$6>='Mapa de férias'!$E$27,C$6<='Mapa de férias'!$F$27),AND(C$6>='Mapa de férias'!$G$27,C$6<='Mapa de férias'!$H$27),AND(C$6>='Mapa de férias'!$I$27,C$6<='Mapa de férias'!$J$27))),"F","")) | D25: =IF(OR($B25="",D$6=""),"",IF(AND(NETWORKDAYS(D$6,D$6,'Feriados'!$F$7:$F$22)=1,OR(AND(D$6>='Mapa de férias'!$E$27,D$6<='Mapa de férias'!$F$27),AND(D$6>='Mapa de férias'!$G$27,D$6<='Mapa de férias'!$H$27),AND(D$6>='Mapa de férias'!$I$27,D$6<='Mapa de férias'!$J$27))),"F","")) | E25: =IF(OR($B25="",E$6=""),"",IF(AND(NETWORKDAYS(E$6,E$6,'Feriados'!$F$7:$F$22)=1,OR(AND(E$6>='Mapa de férias'!$E$27,E$6<='Mapa de férias'!$F$27),AND(E$6>='Mapa de férias'!$G$27,E$6<='Mapa de férias'!$H$27),AND(E$6>='Mapa de férias'!$I$27,E$6<='Mapa de férias'!$J$27))),"F","")) | F25: =IF(OR($B25="",F$6=""),"",IF(AND(NETWORKDAYS(F$6,F$6,'Feriados'!$F$7:$F$22)=1,OR(AND(F$6>='Mapa de férias'!$E$27,F$6<='Mapa de férias'!$F$27),AND(F$6>='Mapa de férias'!$G$27,F$6<='Mapa de férias'!$H$27),AND(F$6>='Mapa de férias'!$I$27,F$6<='Mapa de férias'!$J$27))),"F","")) | G25: =IF(OR($B25="",G$6=""),"",IF(AND(NETWORKDAYS(G$6,G$6,'Feriados'!$F$7:$F$22)=1,OR(AND(G$6>='Mapa de férias'!$E$27,G$6<='Mapa de férias'!$F$27),AND(G$6>='Mapa de férias'!$G$27,G$6<='Mapa de férias'!$H$27),AND(G$6>='Mapa de férias'!$I$27,G$6<='Mapa de férias'!$J$27))),"F","")) | H25: =IF(OR($B25="",H$6=""),"",IF(AND(NETWORKDAYS(H$6,H$6,'Feriados'!$F$7:$F$22)=1,OR(AND(H$6>='Mapa de férias'!$E$27,H$6<='Mapa de férias'!$F$27),AND(H$6>='Mapa de férias'!$G$27,H$6<='Mapa de férias'!$H$27),AND(H$6>='Mapa de férias'!$I$27,H$6<='Mapa de férias'!$J$27))),"F","")) | I25: =IF(OR($B25="",I$6=""),"",IF(AND(NETWORKDAYS(I$6,I$6,'Feriados'!$F$7:$F$22)=1,OR(AND(I$6>='Mapa de férias'!$E$27,I$6<='Mapa de férias'!$F$27),AND(I$6>='Mapa de férias'!$G$27,I$6<='Mapa de férias'!$H$27),AND(I$6>='Mapa de férias'!$I$27,I$6<='Mapa de férias'!$J$27))),"F","")) | J25: =IF(OR($B25="",J$6=""),"",IF(AND(NETWORKDAYS(J$6,J$6,'Feriados'!$F$7:$F$22)=1,OR(AND(J$6>='Mapa de férias'!$E$27,J$6<='Mapa de férias'!$F$27),AND(J$6>='Mapa de férias'!$G$27,J$6<='Mapa de férias'!$H$27),AND(J$6>='Mapa de férias'!$I$27,J$6<='Mapa de férias'!$J$27))),"F","")) | ... AG25: =IF(OR($B25="",AG$6=""),"",IF(AND(NETWORKDAYS(AG$6,AG$6,'Feriados'!$F$7:$F$22)=1,OR(AND(AG$6>='Mapa de férias'!$E$27,AG$6<='Mapa de férias'!$F$27),AND(AG$6>='Mapa de férias'!$G$27,AG$6<='Mapa de férias'!$H$27),AND(AG$6>='Mapa de férias'!$I$27,AG$6<='Mapa de férias'!$J$27))),"F","")) | AH25: =IF($B25="","",COUNTIF(C25:AG25,"F"))
