Workbook

Sheet Mapa de férias
A1: Mapa de férias | L1: =$C$6
A2: Indique, para cada trabalhador, o início e o fim de cada período de férias. Os dias úteis contam-se sozinhos, sem fins de semana nem feriados, e o calendário anual preenche-se automaticamente.
A4: Entidade empregadora | J4: NIPC
A5: Estabelecimento / local de trabalho | J5: Elaborado em
A6: Ano | C6: 2027 | J6: Dias de férias por ano | L6: 22
A8: N.º | B8: Trabalhador | C8: Categoria / função | D8: Dias de férias | E8: 1.º período | G8: 2.º período | I8: 3.º período | K8: Dias úteis marcados | L8: Por marcar | M8: 10 dias úteis seguidos | N8: Observações
E9: Início | F9: Fim | G9: Início | H9: Fim | I9: Início | J9: Fim
A10: 1 | K10: =IF(AND(E10="",G10="",I10=""),"",IF(OR(E10="",F10=""),0,NETWORKDAYS(E10,F10,'Feriados'!$F$7:$F$22))+IF(OR(G10="",H10=""),0,NETWORKDAYS(G10,H10,'Feriados'!$F$7:$F$22))+IF(OR(I10="",J10=""),0,NETWORKDAYS(I10,J10,'Feriados'!$F$7:$F$22))) | L10: =IF(B10="","",IF(D10="",N($L$6),D10)-N(K10)) | M10: =IF(N(K10)=0,"",IF(MAX(IF(OR(E10="",F10=""),0,NETWORKDAYS(E10,F10,'Feriados'!$F$7:$F$22)),IF(OR(G10="",H10=""),0,NETWORKDAYS(G10,H10,'Feriados'!$F$7:$F$22)),IF(OR(I10="",J10=""),0,NETWORKDAYS(I10,J10,'Feriados'!$F$7:$F$22)))>=10,"Sim","Não"))
A11: 2 | K11: =IF(AND(E11="",G11="",I11=""),"",IF(OR(E11="",F11=""),0,NETWORKDAYS(E11,F11,'Feriados'!$F$7:$F$22))+IF(OR(G11="",H11=""),0,NETWORKDAYS(G11,H11,'Feriados'!$F$7:$F$22))+IF(OR(I11="",J11=""),0,NETWORKDAYS(I11,J11,'Feriados'!$F$7:$F$22))) | L11: =IF(B11="","",IF(D11="",N($L$6),D11)-N(K11)) | M11: =IF(N(K11)=0,"",IF(MAX(IF(OR(E11="",F11=""),0,NETWORKDAYS(E11,F11,'Feriados'!$F$7:$F$22)),IF(OR(G11="",H11=""),0,NETWORKDAYS(G11,H11,'Feriados'!$F$7:$F$22)),IF(OR(I11="",J11=""),0,NETWORKDAYS(I11,J11,'Feriados'!$F$7:$F$22)))>=10,"Sim","Não"))
A12: 3 | K12: =IF(AND(E12="",G12="",I12=""),"",IF(OR(E12="",F12=""),0,NETWORKDAYS(E12,F12,'Feriados'!$F$7:$F$22))+IF(OR(G12="",H12=""),0,NETWORKDAYS(G12,H12,'Feriados'!$F$7:$F$22))+IF(OR(I12="",J12=""),0,NETWORKDAYS(I12,J12,'Feriados'!$F$7:$F$22))) | L12: =IF(B12="","",IF(D12="",N($L$6),D12)-N(K12)) | M12: =IF(N(K12)=0,"",IF(MAX(IF(OR(E12="",F12=""),0,NETWORKDAYS(E12,F12,'Feriados'!$F$7:$F$22)),IF(OR(G12="",H12=""),0,NETWORKDAYS(G12,H12,'Feriados'!$F$7:$F$22)),IF(OR(I12="",J12=""),0,NETWORKDAYS(I12,J12,'Feriados'!$F$7:$F$22)))>=10,"Sim","Não"))
A13: 4 | K13: =IF(AND(E13="",G13="",I13=""),"",IF(OR(E13="",F13=""),0,NETWORKDAYS(E13,F13,'Feriados'!$F$7:$F$22))+IF(OR(G13="",H13=""),0,NETWORKDAYS(G13,H13,'Feriados'!$F$7:$F$22))+IF(OR(I13="",J13=""),0,NETWORKDAYS(I13,J13,'Feriados'!$F$7:$F$22))) | L13: =IF(B13="","",IF(D13="",N($L$6),D13)-N(K13)) | M13: =IF(N(K13)=0,"",IF(MAX(IF(OR(E13="",F13=""),0,NETWORKDAYS(E13,F13,'Feriados'!$F$7:$F$22)),IF(OR(G13="",H13=""),0,NETWORKDAYS(G13,H13,'Feriados'!$F$7:$F$22)),IF(OR(I13="",J13=""),0,NETWORKDAYS(I13,J13,'Feriados'!$F$7:$F$22)))>=10,"Sim","Não"))
A14: 5 | K14: =IF(AND(E14="",G14="",I14=""),"",IF(OR(E14="",F14=""),0,NETWORKDAYS(E14,F14,'Feriados'!$F$7:$F$22))+IF(OR(G14="",H14=""),0,NETWORKDAYS(G14,H14,'Feriados'!$F$7:$F$22))+IF(OR(I14="",J14=""),0,NETWORKDAYS(I14,J14,'Feriados'!$F$7:$F$22))) | L14: =IF(B14="","",IF(D14="",N($L$6),D14)-N(K14)) | M14: =IF(N(K14)=0,"",IF(MAX(IF(OR(E14="",F14=""),0,NETWORKDAYS(E14,F14,'Feriados'!$F$7:$F$22)),IF(OR(G14="",H14=""),0,NETWORKDAYS(G14,H14,'Feriados'!$F$7:$F$22)),IF(OR(I14="",J14=""),0,NETWORKDAYS(I14,J14,'Feriados'!$F$7:$F$22)))>=10,"Sim","Não"))
A15: 6 | K15: =IF(AND(E15="",G15="",I15=""),"",IF(OR(E15="",F15=""),0,NETWORKDAYS(E15,F15,'Feriados'!$F$7:$F$22))+IF(OR(G15="",H15=""),0,NETWORKDAYS(G15,H15,'Feriados'!$F$7:$F$22))+IF(OR(I15="",J15=""),0,NETWORKDAYS(I15,J15,'Feriados'!$F$7:$F$22))) | L15: =IF(B15="","",IF(D15="",N($L$6),D15)-N(K15)) | M15: =IF(N(K15)=0,"",IF(MAX(IF(OR(E15="",F15=""),0,NETWORKDAYS(E15,F15,'Feriados'!$F$7:$F$22)),IF(OR(G15="",H15=""),0,NETWORKDAYS(G15,H15,'Feriados'!$F$7:$F$22)),IF(OR(I15="",J15=""),0,NETWORKDAYS(I15,J15,'Feriados'!$F$7:$F$22)))>=10,"Sim","Não"))
A16: 7 | K16: =IF(AND(E16="",G16="",I16=""),"",IF(OR(E16="",F16=""),0,NETWORKDAYS(E16,F16,'Feriados'!$F$7:$F$22))+IF(OR(G16="",H16=""),0,NETWORKDAYS(G16,H16,'Feriados'!$F$7:$F$22))+IF(OR(I16="",J16=""),0,NETWORKDAYS(I16,J16,'Feriados'!$F$7:$F$22))) | L16: =IF(B16="","",IF(D16="",N($L$6),D16)-N(K16)) | M16: =IF(N(K16)=0,"",IF(MAX(IF(OR(E16="",F16=""),0,NETWORKDAYS(E16,F16,'Feriados'!$F$7:$F$22)),IF(OR(G16="",H16=""),0,NETWORKDAYS(G16,H16,'Feriados'!$F$7:$F$22)),IF(OR(I16="",J16=""),0,NETWORKDAYS(I16,J16,'Feriados'!$F$7:$F$22)))>=10,"Sim","Não"))
A17: 8 | K17: =IF(AND(E17="",G17="",I17=""),"",IF(OR(E17="",F17=""),0,NETWORKDAYS(E17,F17,'Feriados'!$F$7:$F$22))+IF(OR(G17="",H17=""),0,NETWORKDAYS(G17,H17,'Feriados'!$F$7:$F$22))+IF(OR(I17="",J17=""),0,NETWORKDAYS(I17,J17,'Feriados'!$F$7:$F$22))) | L17: =IF(B17="","",IF(D17="",N($L$6),D17)-N(K17)) | M17: =IF(N(K17)=0,"",IF(MAX(IF(OR(E17="",F17=""),0,NETWORKDAYS(E17,F17,'Feriados'!$F$7:$F$22)),IF(OR(G17="",H17=""),0,NETWORKDAYS(G17,H17,'Feriados'!$F$7:$F$22)),IF(OR(I17="",J17=""),0,NETWORKDAYS(I17,J17,'Feriados'!$F$7:$F$22)))>=10,"Sim","Não"))
A18: 9 | K18: =IF(AND(E18="",G18="",I18=""),"",IF(OR(E18="",F18=""),0,NETWORKDAYS(E18,F18,'Feriados'!$F$7:$F$22))+IF(OR(G18="",H18=""),0,NETWORKDAYS(G18,H18,'Feriados'!$F$7:$F$22))+IF(OR(I18="",J18=""),0,NETWORKDAYS(I18,J18,'Feriados'!$F$7:$F$22))) | L18: =IF(B18="","",IF(D18="",N($L$6),D18)-N(K18)) | M18: =IF(N(K18)=0,"",IF(MAX(IF(OR(E18="",F18=""),0,NETWORKDAYS(E18,F18,'Feriados'!$F$7:$F$22)),IF(OR(G18="",H18=""),0,NETWORKDAYS(G18,H18,'Feriados'!$F$7:$F$22)),IF(OR(I18="",J18=""),0,NETWORKDAYS(I18,J18,'Feriados'!$F$7:$F$22)))>=10,"Sim","Não"))
A19: 10 | K19: =IF(AND(E19="",G19="",I19=""),"",IF(OR(E19="",F19=""),0,NETWORKDAYS(E19,F19,'Feriados'!$F$7:$F$22))+IF(OR(G19="",H19=""),0,NETWORKDAYS(G19,H19,'Feriados'!$F$7:$F$22))+IF(OR(I19="",J19=""),0,NETWORKDAYS(I19,J19,'Feriados'!$F$7:$F$22))) | L19: =IF(B19="","",IF(D19="",N($L$6),D19)-N(K19)) | M19: =IF(N(K19)=0,"",IF(MAX(IF(OR(E19="",F19=""),0,NETWORKDAYS(E19,F19,'Feriados'!$F$7:$F$22)),IF(OR(G19="",H19=""),0,NETWORKDAYS(G19,H19,'Feriados'!$F$7:$F$22)),IF(OR(I19="",J19=""),0,NETWORKDAYS(I19,J19,'Feriados'!$F$7:$F$22)))>=10,"Sim","Não"))
A20: 11 | K20: =IF(AND(E20="",G20="",I20=""),"",IF(OR(E20="",F20=""),0,NETWORKDAYS(E20,F20,'Feriados'!$F$7:$F$22))+IF(OR(G20="",H20=""),0,NETWORKDAYS(G20,H20,'Feriados'!$F$7:$F$22))+IF(OR(I20="",J20=""),0,NETWORKDAYS(I20,J20,'Feriados'!$F$7:$F$22))) | L20: =IF(B20="","",IF(D20="",N($L$6),D20)-N(K20)) | M20: =IF(N(K20)=0,"",IF(MAX(IF(OR(E20="",F20=""),0,NETWORKDAYS(E20,F20,'Feriados'!$F$7:$F$22)),IF(OR(G20="",H20=""),0,NETWORKDAYS(G20,H20,'Feriados'!$F$7:$F$22)),IF(OR(I20="",J20=""),0,NETWORKDAYS(I20,J20,'Feriados'!$F$7:$F$22)))>=10,"Sim","Não"))
A21: 12 | K21: =IF(AND(E21="",G21="",I21=""),"",IF(OR(E21="",F21=""),0,NETWORKDAYS(E21,F21,'Feriados'!$F$7:$F$22))+IF(OR(G21="",H21=""),0,NETWORKDAYS(G21,H21,'Feriados'!$F$7:$F$22))+IF(OR(I21="",J21=""),0,NETWORKDAYS(I21,J21,'Feriados'!$F$7:$F$22))) | L21: =IF(B21="","",IF(D21="",N($L$6),D21)-N(K21)) | M21: =IF(N(K21)=0,"",IF(MAX(IF(OR(E21="",F21=""),0,NETWORKDAYS(E21,F21,'Feriados'!$F$7:$F$22)),IF(OR(G21="",H21=""),0,NETWORKDAYS(G21,H21,'Feriados'!$F$7:$F$22)),IF(OR(I21="",J21=""),0,NETWORKDAYS(I21,J21,'Feriados'!$F$7:$F$22)))>=10,"Sim","Não"))
... A29: 20 | K29: =IF(AND(E29="",G29="",I29=""),"",IF(OR(E29="",F29=""),0,NETWORKDAYS(E29,F29,'Feriados'!$F$7:$F$22))+IF(OR(G29="",H29=""),0,NETWORKDAYS(G29,H29,'Feriados'!$F$7:$F$22))+IF(OR(I29="",J29=""),0,NETWORKDAYS(I29,J29,'Feriados'!$F$7:$F$22))) | L29: =IF(B29="","",IF(D29="",N($L$6),D29)-N(K29)) | M29: =IF(N(K29)=0,"",IF(MAX(IF(OR(E29="",F29=""),0,NETWORKDAYS(E29,F29,'Feriados'!$F$7:$F$22)),IF(OR(G29="",H29=""),0,NETWORKDAYS(G29,H29,'Feriados'!$F$7:$F$22)),IF(OR(I29="",J29=""),0,NETWORKDAYS(I29,J29,'Feriados'!$F$7:$F$22)))>=10,"Sim","Não"))
A30: Total | K30: =SUM(K10:K29)
A32: Regras a ter em conta
A33: Elaborar até 15 de abril e manter afixado nos locais de trabalho de 15 de abril a 31 de outubro (art. 241.º, n.º 9, do Código do Trabalho). Direito anual: 22 dias úteis (art. 238.º). Sem acordo, as férias são marcadas entre 1 de maio e 31 de outubro (art. 241.º, n.º 3). Se forem repartidas, um dos períodos tem de ter pelo menos 10 dias úteis seguidos (art. 241.º, n.º 8). Atualize e volte a afixar o mapa quando houver alterações.
J36: O empregador (assinatura e data)
A39: Modelo gratuito da EasyHours · easyhours.com.pt — registe o ponto no telemóvel ou num tablet partilhado, em vez de papel.

Sheet Calendário
A1: Calendário de férias | Z1: ='Mapa de férias'!$C$6
A2: Preenche-se a partir do mapa. Só os dias úteis de férias ficam marcados; fins de semana e feriados aparecem sombreados.
B4: Códigos | C4: F | D4: Dia útil de férias | M4: Feriado | V4: Fim de semana
A6: =DATE('Mapa de férias'!$C$6,1,1) | C6: =IF(1>DAY(DATE('Mapa de férias'!$C$6,1+1,0)),"",DATE('Mapa de férias'!$C$6,1,1)) | D6: =IF(2>DAY(DATE('Mapa de férias'!$C$6,1+1,0)),"",DATE('Mapa de férias'!$C$6,1,2)) | E6: =IF(3>DAY(DATE('Mapa de férias'!$C$6,1+1,0)),"",DATE('Mapa de férias'!$C$6,1,3)) | F6: =IF(4>DAY(DATE('Mapa de férias'!$C$6,1+1,0)),"",DATE('Mapa de férias'!$C$6,1,4)) | G6: =IF(5>DAY(DATE('Mapa de férias'!$C$6,1+1,0)),"",DATE('Mapa de férias'!$C$6,1,5)) | H6: =IF(6>DAY(DATE('Mapa de férias'!$C$6,1+1,0)),"",DATE('Mapa de férias'!$C$6,1,6)) | I6: =IF(7>DAY(DATE('Mapa de férias'!$C$6,1+1,0)),"",DATE('Mapa de férias'!$C$6,1,7)) | J6: =IF(8>DAY(DATE('Mapa de férias'!$C$6,1+1,0)),"",DATE('Mapa de férias'!$C$6,1,8)) | K6: =IF(9>DAY(DATE('Mapa de férias'!$C$6,1+1,0)),"",DATE('Mapa de férias'!$C$6,1,9)) | L6: =IF(10>DAY(DATE('Mapa de férias'!$C$6,1+1,0)),"",DATE('Mapa de férias'!$C$6,1,10)) | M6: =IF(11>DAY(DATE('Mapa de férias'!$C$6,1+1,0)),"",DATE('Mapa de férias'!$C$6,1,11)) | N6: =IF(12>DAY(DATE('Mapa de férias'!$C$6,1+1,0)),"",DATE('Mapa de férias'!$C$6,1,12)) | O6: =IF(13>DAY(DATE('Mapa de férias'!$C$6,1+1,0)),"",DATE('Mapa de férias'!$C$6,1,13)) | P6: =IF(14>DAY(DATE('Mapa de férias'!$C$6,1+1,0)),"",DATE('Mapa de férias'!$C$6,1,14)) | Q6: =IF(15>DAY(DATE('Mapa de férias'!$C$6,1+1,0)),"",DATE('Mapa de férias'!$C$6,1,15)) | R6: =IF(16>DAY(DATE('Mapa de férias'!$C$6,1+1,0)),"",DATE('Mapa de férias'!$C$6,1,16)) | S6: =IF(17>DAY(DATE('Mapa de férias'!$C$6,1+1,0)),"",DATE('Mapa de férias'!$C$6,1,17)) | T6: =IF(18>DAY(DATE('Mapa de férias'!$C$6,1+1,0)),"",DATE('Mapa de férias'!$C$6,1,18)) | U6: =IF(19>DAY(DATE('Mapa de férias'!$C$6,1+1,0)),"",DATE('Mapa de férias'!$C$6,1,19)) | V6: =IF(20>DAY(DATE('Mapa de férias'!$C$6,1+1,0)),"",DATE('Mapa de férias'!$C$6,1,20)) | W6: =IF(21>DAY(DATE('Mapa de férias'!$C$6,1+1,0)),"",DATE('Mapa de férias'!$C$6,1,21)) | X6: =IF(22>DAY(DATE('Mapa de férias'!$C$6,1+1,0)),"",DATE('Mapa de férias'!$C$6,1,22)) | Y6: =IF(23>DAY(DATE('Mapa de férias'!$C$6,1+1,0)),"",DATE('Mapa de férias'!$C$6,1,23)) | Z6: =IF(24>DAY(DATE('Mapa de férias'!$C$6,1+1,0)),"",DATE('Mapa de férias'!$C$6,1,24)) | AA6: =IF(25>DAY(DATE('Mapa de férias'!$C$6,1+1,0)),"",DATE('Mapa de férias'!$C$6,1,25)) | AB6: =IF(26>DAY(DATE('Mapa de férias'!$C$6,1+1,0)),"",DATE('Mapa de férias'!$C$6,1,26)) | AC6: =IF(27>DAY(DATE('Mapa de férias'!$C$6,1+1,0)),"",DATE('Mapa de férias'!$C$6,1,27)) | AD6: =IF(28>DAY(DATE('Mapa de férias'!$C$6,1+1,0)),"",DATE('Mapa de férias'!$C$6,1,28)) | AE6: =IF(29>DAY(DATE('Mapa de férias'!$C$6,1+1,0)),"",DATE('Mapa de férias'!$C$6,1,29)) | AF6: =IF(30>DAY(DATE('Mapa de férias'!$C$6,1+1,0)),"",DATE('Mapa de férias'!$C$6,1,30)) | AG6: =IF(31>DAY(DATE('Mapa de férias'!$C$6,1+1,0)),"",DATE('Mapa de férias'!$C$6,1,31)) | AH6: Dias
C7: =IF(C6="","",C6) | D7: =IF(D6="","",D6) | E7: =IF(E6="","",E6) | F7: =IF(F6="","",F6) | G7: =IF(G6="","",G6) | H7: =IF(H6="","",H6) | I7: =IF(I6="","",I6) | J7: =IF(J6="","",J6) | ... AG7: =IF(AG6="","",AG6)
A8: 1 | B8: =IF('Mapa de férias'!$B$10="","",'Mapa de férias'!$B$10) | C8: =IF(OR($B8="",C$6=""),"",IF(AND(NETWORKDAYS(C$6,C$6,'Feriados'!$F$7:$F$22)=1,OR(AND(C$6>='Mapa de férias'!$E$10,C$6<='Mapa de férias'!$F$10),AND(C$6>='Mapa de férias'!$G$10,C$6<='Mapa de férias'!$H$10),AND(C$6>='Mapa de férias'!$I$10,C$6<='Mapa de férias'!$J$10))),"F","")) | D8: =IF(OR($B8="",D$6=""),"",IF(AND(NETWORKDAYS(D$6,D$6,'Feriados'!$F$7:$F$22)=1,OR(AND(D$6>='Mapa de férias'!$E$10,D$6<='Mapa de férias'!$F$10),AND(D$6>='Mapa de férias'!$G$10,D$6<='Mapa de férias'!$H$10),AND(D$6>='Mapa de férias'!$I$10,D$6<='Mapa de férias'!$J$10))),"F","")) | E8: =IF(OR($B8="",E$6=""),"",IF(AND(NETWORKDAYS(E$6,E$6,'Feriados'!$F$7:$F$22)=1,OR(AND(E$6>='Mapa de férias'!$E$10,E$6<='Mapa de férias'!$F$10),AND(E$6>='Mapa de férias'!$G$10,E$6<='Mapa de férias'!$H$10),AND(E$6>='Mapa de férias'!$I$10,E$6<='Mapa de férias'!$J$10))),"F","")) | F8: =IF(OR($B8="",F$6=""),"",IF(AND(NETWORKDAYS(F$6,F$6,'Feriados'!$F$7:$F$22)=1,OR(AND(F$6>='Mapa de férias'!$E$10,F$6<='Mapa de férias'!$F$10),AND(F$6>='Mapa de férias'!$G$10,F$6<='Mapa de férias'!$H$10),AND(F$6>='Mapa de férias'!$I$10,F$6<='Mapa de férias'!$J$10))),"F","")) | G8: =IF(OR($B8="",G$6=""),"",IF(AND(NETWORKDAYS(G$6,G$6,'Feriados'!$F$7:$F$22)=1,OR(AND(G$6>='Mapa de férias'!$E$10,G$6<='Mapa de férias'!$F$10),AND(G$6>='Mapa de férias'!$G$10,G$6<='Mapa de férias'!$H$10),AND(G$6>='Mapa de férias'!$I$10,G$6<='Mapa de férias'!$J$10))),"F","")) | H8: =IF(OR($B8="",H$6=""),"",IF(AND(NETWORKDAYS(H$6,H$6,'Feriados'!$F$7:$F$22)=1,OR(AND(H$6>='Mapa de férias'!$E$10,H$6<='Mapa de férias'!$F$10),AND(H$6>='Mapa de férias'!$G$10,H$6<='Mapa de férias'!$H$10),AND(H$6>='Mapa de férias'!$I$10,H$6<='Mapa de férias'!$J$10))),"F","")) | I8: =IF(OR($B8="",I$6=""),"",IF(AND(NETWORKDAYS(I$6,I$6,'Feriados'!$F$7:$F$22)=1,OR(AND(I$6>='Mapa de férias'!$E$10,I$6<='Mapa de férias'!$F$10),AND(I$6>='Mapa de férias'!$G$10,I$6<='Mapa de férias'!$H$10),AND(I$6>='Mapa de férias'!$I$10,I$6<='Mapa de férias'!$J$10))),"F","")) | J8: =IF(OR($B8="",J$6=""),"",IF(AND(NETWORKDAYS(J$6,J$6,'Feriados'!$F$7:$F$22)=1,OR(AND(J$6>='Mapa de férias'!$E$10,J$6<='Mapa de férias'!$F$10),AND(J$6>='Mapa de férias'!$G$10,J$6<='Mapa de férias'!$H$10),AND(J$6>='Mapa de férias'!$I$10,J$6<='Mapa de férias'!$J$10))),"F","")) | ... AG8: =IF(OR($B8="",AG$6=""),"",IF(AND(NETWORKDAYS(AG$6,AG$6,'Feriados'!$F$7:$F$22)=1,OR(AND(AG$6>='Mapa de férias'!$E$10,AG$6<='Mapa de férias'!$F$10),AND(AG$6>='Mapa de férias'!$G$10,AG$6<='Mapa de férias'!$H$10),AND(AG$6>='Mapa de férias'!$I$10,AG$6<='Mapa de férias'!$J$10))),"F","")) | AH8: =IF($B8="","",COUNTIF(C8:AG8,"F"))
A9: 2 | B9: =IF('Mapa de férias'!$B$11="","",'Mapa de férias'!$B$11) | C9: =IF(OR($B9="",C$6=""),"",IF(AND(NETWORKDAYS(C$6,C$6,'Feriados'!$F$7:$F$22)=1,OR(AND(C$6>='Mapa de férias'!$E$11,C$6<='Mapa de férias'!$F$11),AND(C$6>='Mapa de férias'!$G$11,C$6<='Mapa de férias'!$H$11),AND(C$6>='Mapa de férias'!$I$11,C$6<='Mapa de férias'!$J$11))),"F","")) | D9: =IF(OR($B9="",D$6=""),"",IF(AND(NETWORKDAYS(D$6,D$6,'Feriados'!$F$7:$F$22)=1,OR(AND(D$6>='Mapa de férias'!$E$11,D$6<='Mapa de férias'!$F$11),AND(D$6>='Mapa de férias'!$G$11,D$6<='Mapa de férias'!$H$11),AND(D$6>='Mapa de férias'!$I$11,D$6<='Mapa de férias'!$J$11))),"F","")) | E9: =IF(OR($B9="",E$6=""),"",IF(AND(NETWORKDAYS(E$6,E$6,'Feriados'!$F$7:$F$22)=1,OR(AND(E$6>='Mapa de férias'!$E$11,E$6<='Mapa de férias'!$F$11),AND(E$6>='Mapa de férias'!$G$11,E$6<='Mapa de férias'!$H$11),AND(E$6>='Mapa de férias'!$I$11,E$6<='Mapa de férias'!$J$11))),"F","")) | F9: =IF(OR($B9="",F$6=""),"",IF(AND(NETWORKDAYS(F$6,F$6,'Feriados'!$F$7:$F$22)=1,OR(AND(F$6>='Mapa de férias'!$E$11,F$6<='Mapa de férias'!$F$11),AND(F$6>='Mapa de férias'!$G$11,F$6<='Mapa de férias'!$H$11),AND(F$6>='Mapa de férias'!$I$11,F$6<='Mapa de férias'!$J$11))),"F","")) | G9: =IF(OR($B9="",G$6=""),"",IF(AND(NETWORKDAYS(G$6,G$6,'Feriados'!$F$7:$F$22)=1,OR(AND(G$6>='Mapa de férias'!$E$11,G$6<='Mapa de férias'!$F$11),AND(G$6>='Mapa de férias'!$G$11,G$6<='Mapa de férias'!$H$11),AND(G$6>='Mapa de férias'!$I$11,G$6<='Mapa de férias'!$J$11))),"F","")) | H9: =IF(OR($B9="",H$6=""),"",IF(AND(NETWORKDAYS(H$6,H$6,'Feriados'!$F$7:$F$22)=1,OR(AND(H$6>='Mapa de férias'!$E$11,H$6<='Mapa de férias'!$F$11),AND(H$6>='Mapa de férias'!$G$11,H$6<='Mapa de férias'!$H$11),AND(H$6>='Mapa de férias'!$I$11,H$6<='Mapa de férias'!$J$11))),"F","")) | I9: =IF(OR($B9="",I$6=""),"",IF(AND(NETWORKDAYS(I$6,I$6,'Feriados'!$F$7:$F$22)=1,OR(AND(I$6>='Mapa de férias'!$E$11,I$6<='Mapa de férias'!$F$11),AND(I$6>='Mapa de férias'!$G$11,I$6<='Mapa de férias'!$H$11),AND(I$6>='Mapa de férias'!$I$11,I$6<='Mapa de férias'!$J$11))),"F","")) | J9: =IF(OR($B9="",J$6=""),"",IF(AND(NETWORKDAYS(J$6,J$6,'Feriados'!$F$7:$F$22)=1,OR(AND(J$6>='Mapa de férias'!$E$11,J$6<='Mapa de férias'!$F$11),AND(J$6>='Mapa de férias'!$G$11,J$6<='Mapa de férias'!$H$11),AND(J$6>='Mapa de férias'!$I$11,J$6<='Mapa de férias'!$J$11))),"F","")) | ... AG9: =IF(OR($B9="",AG$6=""),"",IF(AND(NETWORKDAYS(AG$6,AG$6,'Feriados'!$F$7:$F$22)=1,OR(AND(AG$6>='Mapa de férias'!$E$11,AG$6<='Mapa de férias'!$F$11),AND(AG$6>='Mapa de férias'!$G$11,AG$6<='Mapa de férias'!$H$11),AND(AG$6>='Mapa de férias'!$I$11,AG$6<='Mapa de férias'!$J$11))),"F","")) | AH9: =IF($B9="","",COUNTIF(C9:AG9,"F"))
A10: 3 | B10: =IF('Mapa de férias'!$B$12="","",'Mapa de férias'!$B$12) | C10: =IF(OR($B10="",C$6=""),"",IF(AND(NETWORKDAYS(C$6,C$6,'Feriados'!$F$7:$F$22)=1,OR(AND(C$6>='Mapa de férias'!$E$12,C$6<='Mapa de férias'!$F$12),AND(C$6>='Mapa de férias'!$G$12,C$6<='Mapa de férias'!$H$12),AND(C$6>='Mapa de férias'!$I$12,C$6<='Mapa de férias'!$J$12))),"F","")) | D10: =IF(OR($B10="",D$6=""),"",IF(AND(NETWORKDAYS(D$6,D$6,'Feriados'!$F$7:$F$22)=1,OR(AND(D$6>='Mapa de férias'!$E$12,D$6<='Mapa de férias'!$F$12),AND(D$6>='Mapa de férias'!$G$12,D$6<='Mapa de férias'!$H$12),AND(D$6>='Mapa de férias'!$I$12,D$6<='Mapa de férias'!$J$12))),"F","")) | E10: =IF(OR($B10="",E$6=""),"",IF(AND(NETWORKDAYS(E$6,E$6,'Feriados'!$F$7:$F$22)=1,OR(AND(E$6>='Mapa de férias'!$E$12,E$6<='Mapa de férias'!$F$12),AND(E$6>='Mapa de férias'!$G$12,E$6<='Mapa de férias'!$H$12),AND(E$6>='Mapa de férias'!$I$12,E$6<='Mapa de férias'!$J$12))),"F","")) | F10: =IF(OR($B10="",F$6=""),"",IF(AND(NETWORKDAYS(F$6,F$6,'Feriados'!$F$7:$F$22)=1,OR(AND(F$6>='Mapa de férias'!$E$12,F$6<='Mapa de férias'!$F$12),AND(F$6>='Mapa de férias'!$G$12,F$6<='Mapa de férias'!$H$12),AND(F$6>='Mapa de férias'!$I$12,F$6<='Mapa de férias'!$J$12))),"F","")) | G10: =IF(OR($B10="",G$6=""),"",IF(AND(NETWORKDAYS(G$6,G$6,'Feriados'!$F$7:$F$22)=1,OR(AND(G$6>='Mapa de férias'!$E$12,G$6<='Mapa de férias'!$F$12),AND(G$6>='Mapa de férias'!$G$12,G$6<='Mapa de férias'!$H$12),AND(G$6>='Mapa de férias'!$I$12,G$6<='Mapa de férias'!$J$12))),"F","")) | H10: =IF(OR($B10="",H$6=""),"",IF(AND(NETWORKDAYS(H$6,H$6,'Feriados'!$F$7:$F$22)=1,OR(AND(H$6>='Mapa de férias'!$E$12,H$6<='Mapa de férias'!$F$12),AND(H$6>='Mapa de férias'!$G$12,H$6<='Mapa de férias'!$H$12),AND(H$6>='Mapa de férias'!$I$12,H$6<='Mapa de férias'!$J$12))),"F","")) | I10: =IF(OR($B10="",I$6=""),"",IF(AND(NETWORKDAYS(I$6,I$6,'Feriados'!$F$7:$F$22)=1,OR(AND(I$6>='Mapa de férias'!$E$12,I$6<='Mapa de férias'!$F$12),AND(I$6>='Mapa de férias'!$G$12,I$6<='Mapa de férias'!$H$12),AND(I$6>='Mapa de férias'!$I$12,I$6<='Mapa de férias'!$J$12))),"F","")) | J10: =IF(OR($B10="",J$6=""),"",IF(AND(NETWORKDAYS(J$6,J$6,'Feriados'!$F$7:$F$22)=1,OR(AND(J$6>='Mapa de férias'!$E$12,J$6<='Mapa de férias'!$F$12),AND(J$6>='Mapa de férias'!$G$12,J$6<='Mapa de férias'!$H$12),AND(J$6>='Mapa de férias'!$I$12,J$6<='Mapa de férias'!$J$12))),"F","")) | ... AG10: =IF(OR($B10="",AG$6=""),"",IF(AND(NETWORKDAYS(AG$6,AG$6,'Feriados'!$F$7:$F$22)=1,OR(AND(AG$6>='Mapa de férias'!$E$12,AG$6<='Mapa de férias'!$F$12),AND(AG$6>='Mapa de férias'!$G$12,AG$6<='Mapa de férias'!$H$12),AND(AG$6>='Mapa de férias'!$I$12,AG$6<='Mapa de férias'!$J$12))),"F","")) | AH10: =IF($B10="","",COUNTIF(C10:AG10,"F"))
A11: 4 | B11: =IF('Mapa de férias'!$B$13="","",'Mapa de férias'!$B$13) | C11: =IF(OR($B11="",C$6=""),"",IF(AND(NETWORKDAYS(C$6,C$6,'Feriados'!$F$7:$F$22)=1,OR(AND(C$6>='Mapa de férias'!$E$13,C$6<='Mapa de férias'!$F$13),AND(C$6>='Mapa de férias'!$G$13,C$6<='Mapa de férias'!$H$13),AND(C$6>='Mapa de férias'!$I$13,C$6<='Mapa de férias'!$J$13))),"F","")) | D11: =IF(OR($B11="",D$6=""),"",IF(AND(NETWORKDAYS(D$6,D$6,'Feriados'!$F$7:$F$22)=1,OR(AND(D$6>='Mapa de férias'!$E$13,D$6<='Mapa de férias'!$F$13),AND(D$6>='Mapa de férias'!$G$13,D$6<='Mapa de férias'!$H$13),AND(D$6>='Mapa de férias'!$I$13,D$6<='Mapa de férias'!$J$13))),"F","")) | E11: =IF(OR($B11="",E$6=""),"",IF(AND(NETWORKDAYS(E$6,E$6,'Feriados'!$F$7:$F$22)=1,OR(AND(E$6>='Mapa de férias'!$E$13,E$6<='Mapa de férias'!$F$13),AND(E$6>='Mapa de férias'!$G$13,E$6<='Mapa de férias'!$H$13),AND(E$6>='Mapa de férias'!$I$13,E$6<='Mapa de férias'!$J$13))),"F","")) | F11: =IF(OR($B11="",F$6=""),"",IF(AND(NETWORKDAYS(F$6,F$6,'Feriados'!$F$7:$F$22)=1,OR(AND(F$6>='Mapa de férias'!$E$13,F$6<='Mapa de férias'!$F$13),AND(F$6>='Mapa de férias'!$G$13,F$6<='Mapa de férias'!$H$13),AND(F$6>='Mapa de férias'!$I$13,F$6<='Mapa de férias'!$J$13))),"F","")) | G11: =IF(OR($B11="",G$6=""),"",IF(AND(NETWORKDAYS(G$6,G$6,'Feriados'!$F$7:$F$22)=1,OR(AND(G$6>='Mapa de férias'!$E$13,G$6<='Mapa de férias'!$F$13),AND(G$6>='Mapa de férias'!$G$13,G$6<='Mapa de férias'!$H$13),AND(G$6>='Mapa de férias'!$I$13,G$6<='Mapa de férias'!$J$13))),"F","")) | H11: =IF(OR($B11="",H$6=""),"",IF(AND(NETWORKDAYS(H$6,H$6,'Feriados'!$F$7:$F$22)=1,OR(AND(H$6>='Mapa de férias'!$E$13,H$6<='Mapa de férias'!$F$13),AND(H$6>='Mapa de férias'!$G$13,H$6<='Mapa de férias'!$H$13),AND(H$6>='Mapa de férias'!$I$13,H$6<='Mapa de férias'!$J$13))),"F","")) | I11: =IF(OR($B11="",I$6=""),"",IF(AND(NETWORKDAYS(I$6,I$6,'Feriados'!$F$7:$F$22)=1,OR(AND(I$6>='Mapa de férias'!$E$13,I$6<='Mapa de férias'!$F$13),AND(I$6>='Mapa de férias'!$G$13,I$6<='Mapa de férias'!$H$13),AND(I$6>='Mapa de férias'!$I$13,I$6<='Mapa de férias'!$J$13))),"F","")) | J11: =IF(OR($B11="",J$6=""),"",IF(AND(NETWORKDAYS(J$6,J$6,'Feriados'!$F$7:$F$22)=1,OR(AND(J$6>='Mapa de férias'!$E$13,J$6<='Mapa de férias'!$F$13),AND(J$6>='Mapa de férias'!$G$13,J$6<='Mapa de férias'!$H$13),AND(J$6>='Mapa de férias'!$I$13,J$6<='Mapa de férias'!$J$13))),"F","")) | ... AG11: =IF(OR($B11="",AG$6=""),"",IF(AND(NETWORKDAYS(AG$6,AG$6,'Feriados'!$F$7:$F$22)=1,OR(AND(AG$6>='Mapa de férias'!$E$13,AG$6<='Mapa de férias'!$F$13),AND(AG$6>='Mapa de férias'!$G$13,AG$6<='Mapa de férias'!$H$13),AND(AG$6>='Mapa de férias'!$I$13,AG$6<='Mapa de férias'!$J$13))),"F","")) | AH11: =IF($B11="","",COUNTIF(C11:AG11,"F"))
A12: 5 | B12: =IF('Mapa de férias'!$B$14="","",'Mapa de férias'!$B$14) | C12: =IF(OR($B12="",C$6=""),"",IF(AND(NETWORKDAYS(C$6,C$6,'Feriados'!$F$7:$F$22)=1,OR(AND(C$6>='Mapa de férias'!$E$14,C$6<='Mapa de férias'!$F$14),AND(C$6>='Mapa de férias'!$G$14,C$6<='Mapa de férias'!$H$14),AND(C$6>='Mapa de férias'!$I$14,C$6<='Mapa de férias'!$J$14))),"F","")) | D12: =IF(OR($B12="",D$6=""),"",IF(AND(NETWORKDAYS(D$6,D$6,'Feriados'!$F$7:$F$22)=1,OR(AND(D$6>='Mapa de férias'!$E$14,D$6<='Mapa de férias'!$F$14),AND(D$6>='Mapa de férias'!$G$14,D$6<='Mapa de férias'!$H$14),AND(D$6>='Mapa de férias'!$I$14,D$6<='Mapa de férias'!$J$14))),"F","")) | E12: =IF(OR($B12="",E$6=""),"",IF(AND(NETWORKDAYS(E$6,E$6,'Feriados'!$F$7:$F$22)=1,OR(AND(E$6>='Mapa de férias'!$E$14,E$6<='Mapa de férias'!$F$14),AND(E$6>='Mapa de férias'!$G$14,E$6<='Mapa de férias'!$H$14),AND(E$6>='Mapa de férias'!$I$14,E$6<='Mapa de férias'!$J$14))),"F","")) | F12: =IF(OR($B12="",F$6=""),"",IF(AND(NETWORKDAYS(F$6,F$6,'Feriados'!$F$7:$F$22)=1,OR(AND(F$6>='Mapa de férias'!$E$14,F$6<='Mapa de férias'!$F$14),AND(F$6>='Mapa de férias'!$G$14,F$6<='Mapa de férias'!$H$14),AND(F$6>='Mapa de férias'!$I$14,F$6<='Mapa de férias'!$J$14))),"F","")) | G12: =IF(OR($B12="",G$6=""),"",IF(AND(NETWORKDAYS(G$6,G$6,'Feriados'!$F$7:$F$22)=1,OR(AND(G$6>='Mapa de férias'!$E$14,G$6<='Mapa de férias'!$F$14),AND(G$6>='Mapa de férias'!$G$14,G$6<='Mapa de férias'!$H$14),AND(G$6>='Mapa de férias'!$I$14,G$6<='Mapa de férias'!$J$14))),"F","")) | H12: =IF(OR($B12="",H$6=""),"",IF(AND(NETWORKDAYS(H$6,H$6,'Feriados'!$F$7:$F$22)=1,OR(AND(H$6>='Mapa de férias'!$E$14,H$6<='Mapa de férias'!$F$14),AND(H$6>='Mapa de férias'!$G$14,H$6<='Mapa de férias'!$H$14),AND(H$6>='Mapa de férias'!$I$14,H$6<='Mapa de férias'!$J$14))),"F","")) | I12: =IF(OR($B12="",I$6=""),"",IF(AND(NETWORKDAYS(I$6,I$6,'Feriados'!$F$7:$F$22)=1,OR(AND(I$6>='Mapa de férias'!$E$14,I$6<='Mapa de férias'!$F$14),AND(I$6>='Mapa de férias'!$G$14,I$6<='Mapa de férias'!$H$14),AND(I$6>='Mapa de férias'!$I$14,I$6<='Mapa de férias'!$J$14))),"F","")) | J12: =IF(OR($B12="",J$6=""),"",IF(AND(NETWORKDAYS(J$6,J$6,'Feriados'!$F$7:$F$22)=1,OR(AND(J$6>='Mapa de férias'!$E$14,J$6<='Mapa de férias'!$F$14),AND(J$6>='Mapa de férias'!$G$14,J$6<='Mapa de férias'!$H$14),AND(J$6>='Mapa de férias'!$I$14,J$6<='Mapa de férias'!$J$14))),"F","")) | ... AG12: =IF(OR($B12="",AG$6=""),"",IF(AND(NETWORKDAYS(AG$6,AG$6,'Feriados'!$F$7:$F$22)=1,OR(AND(AG$6>='Mapa de férias'!$E$14,AG$6<='Mapa de férias'!$F$14),AND(AG$6>='Mapa de férias'!$G$14,AG$6<='Mapa de férias'!$H$14),AND(AG$6>='Mapa de férias'!$I$14,AG$6<='Mapa de férias'!$J$14))),"F","")) | AH12: =IF($B12="","",COUNTIF(C12:AG12,"F"))
A13: 6 | B13: =IF('Mapa de férias'!$B$15="","",'Mapa de férias'!$B$15) | C13: =IF(OR($B13="",C$6=""),"",IF(AND(NETWORKDAYS(C$6,C$6,'Feriados'!$F$7:$F$22)=1,OR(AND(C$6>='Mapa de férias'!$E$15,C$6<='Mapa de férias'!$F$15),AND(C$6>='Mapa de férias'!$G$15,C$6<='Mapa de férias'!$H$15),AND(C$6>='Mapa de férias'!$I$15,C$6<='Mapa de férias'!$J$15))),"F","")) | D13: =IF(OR($B13="",D$6=""),"",IF(AND(NETWORKDAYS(D$6,D$6,'Feriados'!$F$7:$F$22)=1,OR(AND(D$6>='Mapa de férias'!$E$15,D$6<='Mapa de férias'!$F$15),AND(D$6>='Mapa de férias'!$G$15,D$6<='Mapa de férias'!$H$15),AND(D$6>='Mapa de férias'!$I$15,D$6<='Mapa de férias'!$J$15))),"F","")) | E13: =IF(OR($B13="",E$6=""),"",IF(AND(NETWORKDAYS(E$6,E$6,'Feriados'!$F$7:$F$22)=1,OR(AND(E$6>='Mapa de férias'!$E$15,E$6<='Mapa de férias'!$F$15),AND(E$6>='Mapa de férias'!$G$15,E$6<='Mapa de férias'!$H$15),AND(E$6>='Mapa de férias'!$I$15,E$6<='Mapa de férias'!$J$15))),"F","")) | F13: =IF(OR($B13="",F$6=""),"",IF(AND(NETWORKDAYS(F$6,F$6,'Feriados'!$F$7:$F$22)=1,OR(AND(F$6>='Mapa de férias'!$E$15,F$6<='Mapa de férias'!$F$15),AND(F$6>='Mapa de férias'!$G$15,F$6<='Mapa de férias'!$H$15),AND(F$6>='Mapa de férias'!$I$15,F$6<='Mapa de férias'!$J$15))),"F","")) | G13: =IF(OR($B13="",G$6=""),"",IF(AND(NETWORKDAYS(G$6,G$6,'Feriados'!$F$7:$F$22)=1,OR(AND(G$6>='Mapa de férias'!$E$15,G$6<='Mapa de férias'!$F$15),AND(G$6>='Mapa de férias'!$G$15,G$6<='Mapa de férias'!$H$15),AND(G$6>='Mapa de férias'!$I$15,G$6<='Mapa de férias'!$J$15))),"F","")) | H13: =IF(OR($B13="",H$6=""),"",IF(AND(NETWORKDAYS(H$6,H$6,'Feriados'!$F$7:$F$22)=1,OR(AND(H$6>='Mapa de férias'!$E$15,H$6<='Mapa de férias'!$F$15),AND(H$6>='Mapa de férias'!$G$15,H$6<='Mapa de férias'!$H$15),AND(H$6>='Mapa de férias'!$I$15,H$6<='Mapa de férias'!$J$15))),"F","")) | I13: =IF(OR($B13="",I$6=""),"",IF(AND(NETWORKDAYS(I$6,I$6,'Feriados'!$F$7:$F$22)=1,OR(AND(I$6>='Mapa de férias'!$E$15,I$6<='Mapa de férias'!$F$15),AND(I$6>='Mapa de férias'!$G$15,I$6<='Mapa de férias'!$H$15),AND(I$6>='Mapa de férias'!$I$15,I$6<='Mapa de férias'!$J$15))),"F","")) | J13: =IF(OR($B13="",J$6=""),"",IF(AND(NETWORKDAYS(J$6,J$6,'Feriados'!$F$7:$F$22)=1,OR(AND(J$6>='Mapa de férias'!$E$15,J$6<='Mapa de férias'!$F$15),AND(J$6>='Mapa de férias'!$G$15,J$6<='Mapa de férias'!$H$15),AND(J$6>='Mapa de férias'!$I$15,J$6<='Mapa de férias'!$J$15))),"F","")) | ... AG13: =IF(OR($B13="",AG$6=""),"",IF(AND(NETWORKDAYS(AG$6,AG$6,'Feriados'!$F$7:$F$22)=1,OR(AND(AG$6>='Mapa de férias'!$E$15,AG$6<='Mapa de férias'!$F$15),AND(AG$6>='Mapa de férias'!$G$15,AG$6<='Mapa de férias'!$H$15),AND(AG$6>='Mapa de férias'!$I$15,AG$6<='Mapa de férias'!$J$15))),"F","")) | AH13: =IF($B13="","",COUNTIF(C13:AG13,"F"))
A14: 7 | B14: =IF('Mapa de férias'!$B$16="","",'Mapa de férias'!$B$16) | C14: =IF(OR($B14="",C$6=""),"",IF(AND(NETWORKDAYS(C$6,C$6,'Feriados'!$F$7:$F$22)=1,OR(AND(C$6>='Mapa de férias'!$E$16,C$6<='Mapa de férias'!$F$16),AND(C$6>='Mapa de férias'!$G$16,C$6<='Mapa de férias'!$H$16),AND(C$6>='Mapa de férias'!$I$16,C$6<='Mapa de férias'!$J$16))),"F","")) | D14: =IF(OR($B14="",D$6=""),"",IF(AND(NETWORKDAYS(D$6,D$6,'Feriados'!$F$7:$F$22)=1,OR(AND(D$6>='Mapa de férias'!$E$16,D$6<='Mapa de férias'!$F$16),AND(D$6>='Mapa de férias'!$G$16,D$6<='Mapa de férias'!$H$16),AND(D$6>='Mapa de férias'!$I$16,D$6<='Mapa de férias'!$J$16))),"F","")) | E14: =IF(OR($B14="",E$6=""),"",IF(AND(NETWORKDAYS(E$6,E$6,'Feriados'!$F$7:$F$22)=1,OR(AND(E$6>='Mapa de férias'!$E$16,E$6<='Mapa de férias'!$F$16),AND(E$6>='Mapa de férias'!$G$16,E$6<='Mapa de férias'!$H$16),AND(E$6>='Mapa de férias'!$I$16,E$6<='Mapa de férias'!$J$16))),"F","")) | F14: =IF(OR($B14="",F$6=""),"",IF(AND(NETWORKDAYS(F$6,F$6,'Feriados'!$F$7:$F$22)=1,OR(AND(F$6>='Mapa de férias'!$E$16,F$6<='Mapa de férias'!$F$16),AND(F$6>='Mapa de férias'!$G$16,F$6<='Mapa de férias'!$H$16),AND(F$6>='Mapa de férias'!$I$16,F$6<='Mapa de férias'!$J$16))),"F","")) | G14: =IF(OR($B14="",G$6=""),"",IF(AND(NETWORKDAYS(G$6,G$6,'Feriados'!$F$7:$F$22)=1,OR(AND(G$6>='Mapa de férias'!$E$16,G$6<='Mapa de férias'!$F$16),AND(G$6>='Mapa de férias'!$G$16,G$6<='Mapa de férias'!$H$16),AND(G$6>='Mapa de férias'!$I$16,G$6<='Mapa de férias'!$J$16))),"F","")) | H14: =IF(OR($B14="",H$6=""),"",IF(AND(NETWORKDAYS(H$6,H$6,'Feriados'!$F$7:$F$22)=1,OR(AND(H$6>='Mapa de férias'!$E$16,H$6<='Mapa de férias'!$F$16),AND(H$6>='Mapa de férias'!$G$16,H$6<='Mapa de férias'!$H$16),AND(H$6>='Mapa de férias'!$I$16,H$6<='Mapa de férias'!$J$16))),"F","")) | I14: =IF(OR($B14="",I$6=""),"",IF(AND(NETWORKDAYS(I$6,I$6,'Feriados'!$F$7:$F$22)=1,OR(AND(I$6>='Mapa de férias'!$E$16,I$6<='Mapa de férias'!$F$16),AND(I$6>='Mapa de férias'!$G$16,I$6<='Mapa de férias'!$H$16),AND(I$6>='Mapa de férias'!$I$16,I$6<='Mapa de férias'!$J$16))),"F","")) | J14: =IF(OR($B14="",J$6=""),"",IF(AND(NETWORKDAYS(J$6,J$6,'Feriados'!$F$7:$F$22)=1,OR(AND(J$6>='Mapa de férias'!$E$16,J$6<='Mapa de férias'!$F$16),AND(J$6>='Mapa de férias'!$G$16,J$6<='Mapa de férias'!$H$16),AND(J$6>='Mapa de férias'!$I$16,J$6<='Mapa de férias'!$J$16))),"F","")) | ... AG14: =IF(OR($B14="",AG$6=""),"",IF(AND(NETWORKDAYS(AG$6,AG$6,'Feriados'!$F$7:$F$22)=1,OR(AND(AG$6>='Mapa de férias'!$E$16,AG$6<='Mapa de férias'!$F$16),AND(AG$6>='Mapa de férias'!$G$16,AG$6<='Mapa de férias'!$H$16),AND(AG$6>='Mapa de férias'!$I$16,AG$6<='Mapa de férias'!$J$16))),"F","")) | AH14: =IF($B14="","",COUNTIF(C14:AG14,"F"))
A15: 8 | B15: =IF('Mapa de férias'!$B$17="","",'Mapa de férias'!$B$17) | C15: =IF(OR($B15="",C$6=""),"",IF(AND(NETWORKDAYS(C$6,C$6,'Feriados'!$F$7:$F$22)=1,OR(AND(C$6>='Mapa de férias'!$E$17,C$6<='Mapa de férias'!$F$17),AND(C$6>='Mapa de férias'!$G$17,C$6<='Mapa de férias'!$H$17),AND(C$6>='Mapa de férias'!$I$17,C$6<='Mapa de férias'!$J$17))),"F","")) | D15: =IF(OR($B15="",D$6=""),"",IF(AND(NETWORKDAYS(D$6,D$6,'Feriados'!$F$7:$F$22)=1,OR(AND(D$6>='Mapa de férias'!$E$17,D$6<='Mapa de férias'!$F$17),AND(D$6>='Mapa de férias'!$G$17,D$6<='Mapa de férias'!$H$17),AND(D$6>='Mapa de férias'!$I$17,D$6<='Mapa de férias'!$J$17))),"F","")) | E15: =IF(OR($B15="",E$6=""),"",IF(AND(NETWORKDAYS(E$6,E$6,'Feriados'!$F$7:$F$22)=1,OR(AND(E$6>='Mapa de férias'!$E$17,E$6<='Mapa de férias'!$F$17),AND(E$6>='Mapa de férias'!$G$17,E$6<='Mapa de férias'!$H$17),AND(E$6>='Mapa de férias'!$I$17,E$6<='Mapa de férias'!$J$17))),"F","")) | F15: =IF(OR($B15="",F$6=""),"",IF(AND(NETWORKDAYS(F$6,F$6,'Feriados'!$F$7:$F$22)=1,OR(AND(F$6>='Mapa de férias'!$E$17,F$6<='Mapa de férias'!$F$17),AND(F$6>='Mapa de férias'!$G$17,F$6<='Mapa de férias'!$H$17),AND(F$6>='Mapa de férias'!$I$17,F$6<='Mapa de férias'!$J$17))),"F","")) | G15: =IF(OR($B15="",G$6=""),"",IF(AND(NETWORKDAYS(G$6,G$6,'Feriados'!$F$7:$F$22)=1,OR(AND(G$6>='Mapa de férias'!$E$17,G$6<='Mapa de férias'!$F$17),AND(G$6>='Mapa de férias'!$G$17,G$6<='Mapa de férias'!$H$17),AND(G$6>='Mapa de férias'!$I$17,G$6<='Mapa de férias'!$J$17))),"F","")) | H15: =IF(OR($B15="",H$6=""),"",IF(AND(NETWORKDAYS(H$6,H$6,'Feriados'!$F$7:$F$22)=1,OR(AND(H$6>='Mapa de férias'!$E$17,H$6<='Mapa de férias'!$F$17),AND(H$6>='Mapa de férias'!$G$17,H$6<='Mapa de férias'!$H$17),AND(H$6>='Mapa de férias'!$I$17,H$6<='Mapa de férias'!$J$17))),"F","")) | I15: =IF(OR($B15="",I$6=""),"",IF(AND(NETWORKDAYS(I$6,I$6,'Feriados'!$F$7:$F$22)=1,OR(AND(I$6>='Mapa de férias'!$E$17,I$6<='Mapa de férias'!$F$17),AND(I$6>='Mapa de férias'!$G$17,I$6<='Mapa de férias'!$H$17),AND(I$6>='Mapa de férias'!$I$17,I$6<='Mapa de férias'!$J$17))),"F","")) | J15: =IF(OR($B15="",J$6=""),"",IF(AND(NETWORKDAYS(J$6,J$6,'Feriados'!$F$7:$F$22)=1,OR(AND(J$6>='Mapa de férias'!$E$17,J$6<='Mapa de férias'!$F$17),AND(J$6>='Mapa de férias'!$G$17,J$6<='Mapa de férias'!$H$17),AND(J$6>='Mapa de férias'!$I$17,J$6<='Mapa de férias'!$J$17))),"F","")) | ... AG15: =IF(OR($B15="",AG$6=""),"",IF(AND(NETWORKDAYS(AG$6,AG$6,'Feriados'!$F$7:$F$22)=1,OR(AND(AG$6>='Mapa de férias'!$E$17,AG$6<='Mapa de férias'!$F$17),AND(AG$6>='Mapa de férias'!$G$17,AG$6<='Mapa de férias'!$H$17),AND(AG$6>='Mapa de férias'!$I$17,AG$6<='Mapa de férias'!$J$17))),"F","")) | AH15: =IF($B15="","",COUNTIF(C15:AG15,"F"))
A16: 9 | B16: =IF('Mapa de férias'!$B$18="","",'Mapa de férias'!$B$18) | C16: =IF(OR($B16="",C$6=""),"",IF(AND(NETWORKDAYS(C$6,C$6,'Feriados'!$F$7:$F$22)=1,OR(AND(C$6>='Mapa de férias'!$E$18,C$6<='Mapa de férias'!$F$18),AND(C$6>='Mapa de férias'!$G$18,C$6<='Mapa de férias'!$H$18),AND(C$6>='Mapa de férias'!$I$18,C$6<='Mapa de férias'!$J$18))),"F","")) | D16: =IF(OR($B16="",D$6=""),"",IF(AND(NETWORKDAYS(D$6,D$6,'Feriados'!$F$7:$F$22)=1,OR(AND(D$6>='Mapa de férias'!$E$18,D$6<='Mapa de férias'!$F$18),AND(D$6>='Mapa de férias'!$G$18,D$6<='Mapa de férias'!$H$18),AND(D$6>='Mapa de férias'!$I$18,D$6<='Mapa de férias'!$J$18))),"F","")) | E16: =IF(OR($B16="",E$6=""),"",IF(AND(NETWORKDAYS(E$6,E$6,'Feriados'!$F$7:$F$22)=1,OR(AND(E$6>='Mapa de férias'!$E$18,E$6<='Mapa de férias'!$F$18),AND(E$6>='Mapa de férias'!$G$18,E$6<='Mapa de férias'!$H$18),AND(E$6>='Mapa de férias'!$I$18,E$6<='Mapa de férias'!$J$18))),"F","")) | F16: =IF(OR($B16="",F$6=""),"",IF(AND(NETWORKDAYS(F$6,F$6,'Feriados'!$F$7:$F$22)=1,OR(AND(F$6>='Mapa de férias'!$E$18,F$6<='Mapa de férias'!$F$18),AND(F$6>='Mapa de férias'!$G$18,F$6<='Mapa de férias'!$H$18),AND(F$6>='Mapa de férias'!$I$18,F$6<='Mapa de férias'!$J$18))),"F","")) | G16: =IF(OR($B16="",G$6=""),"",IF(AND(NETWORKDAYS(G$6,G$6,'Feriados'!$F$7:$F$22)=1,OR(AND(G$6>='Mapa de férias'!$E$18,G$6<='Mapa de férias'!$F$18),AND(G$6>='Mapa de férias'!$G$18,G$6<='Mapa de férias'!$H$18),AND(G$6>='Mapa de férias'!$I$18,G$6<='Mapa de férias'!$J$18))),"F","")) | H16: =IF(OR($B16="",H$6=""),"",IF(AND(NETWORKDAYS(H$6,H$6,'Feriados'!$F$7:$F$22)=1,OR(AND(H$6>='Mapa de férias'!$E$18,H$6<='Mapa de férias'!$F$18),AND(H$6>='Mapa de férias'!$G$18,H$6<='Mapa de férias'!$H$18),AND(H$6>='Mapa de férias'!$I$18,H$6<='Mapa de férias'!$J$18))),"F","")) | I16: =IF(OR($B16="",I$6=""),"",IF(AND(NETWORKDAYS(I$6,I$6,'Feriados'!$F$7:$F$22)=1,OR(AND(I$6>='Mapa de férias'!$E$18,I$6<='Mapa de férias'!$F$18),AND(I$6>='Mapa de férias'!$G$18,I$6<='Mapa de férias'!$H$18),AND(I$6>='Mapa de férias'!$I$18,I$6<='Mapa de férias'!$J$18))),"F","")) | J16: =IF(OR($B16="",J$6=""),"",IF(AND(NETWORKDAYS(J$6,J$6,'Feriados'!$F$7:$F$22)=1,OR(AND(J$6>='Mapa de férias'!$E$18,J$6<='Mapa de férias'!$F$18),AND(J$6>='Mapa de férias'!$G$18,J$6<='Mapa de férias'!$H$18),AND(J$6>='Mapa de férias'!$I$18,J$6<='Mapa de férias'!$J$18))),"F","")) | ... AG16: =IF(OR($B16="",AG$6=""),"",IF(AND(NETWORKDAYS(AG$6,AG$6,'Feriados'!$F$7:$F$22)=1,OR(AND(AG$6>='Mapa de férias'!$E$18,AG$6<='Mapa de férias'!$F$18),AND(AG$6>='Mapa de férias'!$G$18,AG$6<='Mapa de férias'!$H$18),AND(AG$6>='Mapa de férias'!$I$18,AG$6<='Mapa de férias'!$J$18))),"F","")) | AH16: =IF($B16="","",COUNTIF(C16:AG16,"F"))
A17: 10 | B17: =IF('Mapa de férias'!$B$19="","",'Mapa de férias'!$B$19) | C17: =IF(OR($B17="",C$6=""),"",IF(AND(NETWORKDAYS(C$6,C$6,'Feriados'!$F$7:$F$22)=1,OR(AND(C$6>='Mapa de férias'!$E$19,C$6<='Mapa de férias'!$F$19),AND(C$6>='Mapa de férias'!$G$19,C$6<='Mapa de férias'!$H$19),AND(C$6>='Mapa de férias'!$I$19,C$6<='Mapa de férias'!$J$19))),"F","")) | D17: =IF(OR($B17="",D$6=""),"",IF(AND(NETWORKDAYS(D$6,D$6,'Feriados'!$F$7:$F$22)=1,OR(AND(D$6>='Mapa de férias'!$E$19,D$6<='Mapa de férias'!$F$19),AND(D$6>='Mapa de férias'!$G$19,D$6<='Mapa de férias'!$H$19),AND(D$6>='Mapa de férias'!$I$19,D$6<='Mapa de férias'!$J$19))),"F","")) | E17: =IF(OR($B17="",E$6=""),"",IF(AND(NETWORKDAYS(E$6,E$6,'Feriados'!$F$7:$F$22)=1,OR(AND(E$6>='Mapa de férias'!$E$19,E$6<='Mapa de férias'!$F$19),AND(E$6>='Mapa de férias'!$G$19,E$6<='Mapa de férias'!$H$19),AND(E$6>='Mapa de férias'!$I$19,E$6<='Mapa de férias'!$J$19))),"F","")) | F17: =IF(OR($B17="",F$6=""),"",IF(AND(NETWORKDAYS(F$6,F$6,'Feriados'!$F$7:$F$22)=1,OR(AND(F$6>='Mapa de férias'!$E$19,F$6<='Mapa de férias'!$F$19),AND(F$6>='Mapa de férias'!$G$19,F$6<='Mapa de férias'!$H$19),AND(F$6>='Mapa de férias'!$I$19,F$6<='Mapa de férias'!$J$19))),"F","")) | G17: =IF(OR($B17="",G$6=""),"",IF(AND(NETWORKDAYS(G$6,G$6,'Feriados'!$F$7:$F$22)=1,OR(AND(G$6>='Mapa de férias'!$E$19,G$6<='Mapa de férias'!$F$19),AND(G$6>='Mapa de férias'!$G$19,G$6<='Mapa de férias'!$H$19),AND(G$6>='Mapa de férias'!$I$19,G$6<='Mapa de férias'!$J$19))),"F","")) | H17: =IF(OR($B17="",H$6=""),"",IF(AND(NETWORKDAYS(H$6,H$6,'Feriados'!$F$7:$F$22)=1,OR(AND(H$6>='Mapa de férias'!$E$19,H$6<='Mapa de férias'!$F$19),AND(H$6>='Mapa de férias'!$G$19,H$6<='Mapa de férias'!$H$19),AND(H$6>='Mapa de férias'!$I$19,H$6<='Mapa de férias'!$J$19))),"F","")) | I17: =IF(OR($B17="",I$6=""),"",IF(AND(NETWORKDAYS(I$6,I$6,'Feriados'!$F$7:$F$22)=1,OR(AND(I$6>='Mapa de férias'!$E$19,I$6<='Mapa de férias'!$F$19),AND(I$6>='Mapa de férias'!$G$19,I$6<='Mapa de férias'!$H$19),AND(I$6>='Mapa de férias'!$I$19,I$6<='Mapa de férias'!$J$19))),"F","")) | J17: =IF(OR($B17="",J$6=""),"",IF(AND(NETWORKDAYS(J$6,J$6,'Feriados'!$F$7:$F$22)=1,OR(AND(J$6>='Mapa de férias'!$E$19,J$6<='Mapa de férias'!$F$19),AND(J$6>='Mapa de férias'!$G$19,J$6<='Mapa de férias'!$H$19),AND(J$6>='Mapa de férias'!$I$19,J$6<='Mapa de férias'!$J$19))),"F","")) | ... AG17: =IF(OR($B17="",AG$6=""),"",IF(AND(NETWORKDAYS(AG$6,AG$6,'Feriados'!$F$7:$F$22)=1,OR(AND(AG$6>='Mapa de férias'!$E$19,AG$6<='Mapa de férias'!$F$19),AND(AG$6>='Mapa de férias'!$G$19,AG$6<='Mapa de férias'!$H$19),AND(AG$6>='Mapa de férias'!$I$19,AG$6<='Mapa de férias'!$J$19))),"F","")) | AH17: =IF($B17="","",COUNTIF(C17:AG17,"F"))
A18: 11 | B18: =IF('Mapa de férias'!$B$20="","",'Mapa de férias'!$B$20) | C18: =IF(OR($B18="",C$6=""),"",IF(AND(NETWORKDAYS(C$6,C$6,'Feriados'!$F$7:$F$22)=1,OR(AND(C$6>='Mapa de férias'!$E$20,C$6<='Mapa de férias'!$F$20),AND(C$6>='Mapa de férias'!$G$20,C$6<='Mapa de férias'!$H$20),AND(C$6>='Mapa de férias'!$I$20,C$6<='Mapa de férias'!$J$20))),"F","")) | D18: =IF(OR($B18="",D$6=""),"",IF(AND(NETWORKDAYS(D$6,D$6,'Feriados'!$F$7:$F$22)=1,OR(AND(D$6>='Mapa de férias'!$E$20,D$6<='Mapa de férias'!$F$20),AND(D$6>='Mapa de férias'!$G$20,D$6<='Mapa de férias'!$H$20),AND(D$6>='Mapa de férias'!$I$20,D$6<='Mapa de férias'!$J$20))),"F","")) | E18: =IF(OR($B18="",E$6=""),"",IF(AND(NETWORKDAYS(E$6,E$6,'Feriados'!$F$7:$F$22)=1,OR(AND(E$6>='Mapa de férias'!$E$20,E$6<='Mapa de férias'!$F$20),AND(E$6>='Mapa de férias'!$G$20,E$6<='Mapa de férias'!$H$20),AND(E$6>='Mapa de férias'!$I$20,E$6<='Mapa de férias'!$J$20))),"F","")) | F18: =IF(OR($B18="",F$6=""),"",IF(AND(NETWORKDAYS(F$6,F$6,'Feriados'!$F$7:$F$22)=1,OR(AND(F$6>='Mapa de férias'!$E$20,F$6<='Mapa de férias'!$F$20),AND(F$6>='Mapa de férias'!$G$20,F$6<='Mapa de férias'!$H$20),AND(F$6>='Mapa de férias'!$I$20,F$6<='Mapa de férias'!$J$20))),"F","")) | G18: =IF(OR($B18="",G$6=""),"",IF(AND(NETWORKDAYS(G$6,G$6,'Feriados'!$F$7:$F$22)=1,OR(AND(G$6>='Mapa de férias'!$E$20,G$6<='Mapa de férias'!$F$20),AND(G$6>='Mapa de férias'!$G$20,G$6<='Mapa de férias'!$H$20),AND(G$6>='Mapa de férias'!$I$20,G$6<='Mapa de férias'!$J$20))),"F","")) | H18: =IF(OR($B18="",H$6=""),"",IF(AND(NETWORKDAYS(H$6,H$6,'Feriados'!$F$7:$F$22)=1,OR(AND(H$6>='Mapa de férias'!$E$20,H$6<='Mapa de férias'!$F$20),AND(H$6>='Mapa de férias'!$G$20,H$6<='Mapa de férias'!$H$20),AND(H$6>='Mapa de férias'!$I$20,H$6<='Mapa de férias'!$J$20))),"F","")) | I18: =IF(OR($B18="",I$6=""),"",IF(AND(NETWORKDAYS(I$6,I$6,'Feriados'!$F$7:$F$22)=1,OR(AND(I$6>='Mapa de férias'!$E$20,I$6<='Mapa de férias'!$F$20),AND(I$6>='Mapa de férias'!$G$20,I$6<='Mapa de férias'!$H$20),AND(I$6>='Mapa de férias'!$I$20,I$6<='Mapa de férias'!$J$20))),"F","")) | J18: =IF(OR($B18="",J$6=""),"",IF(AND(NETWORKDAYS(J$6,J$6,'Feriados'!$F$7:$F$22)=1,OR(AND(J$6>='Mapa de férias'!$E$20,J$6<='Mapa de férias'!$F$20),AND(J$6>='Mapa de férias'!$G$20,J$6<='Mapa de férias'!$H$20),AND(J$6>='Mapa de férias'!$I$20,J$6<='Mapa de férias'!$J$20))),"F","")) | ... AG18: =IF(OR($B18="",AG$6=""),"",IF(AND(NETWORKDAYS(AG$6,AG$6,'Feriados'!$F$7:$F$22)=1,OR(AND(AG$6>='Mapa de férias'!$E$20,AG$6<='Mapa de férias'!$F$20),AND(AG$6>='Mapa de férias'!$G$20,AG$6<='Mapa de férias'!$H$20),AND(AG$6>='Mapa de férias'!$I$20,AG$6<='Mapa de férias'!$J$20))),"F","")) | AH18: =IF($B18="","",COUNTIF(C18:AG18,"F"))
A19: 12 | B19: =IF('Mapa de férias'!$B$21="","",'Mapa de férias'!$B$21) | C19: =IF(OR($B19="",C$6=""),"",IF(AND(NETWORKDAYS(C$6,C$6,'Feriados'!$F$7:$F$22)=1,OR(AND(C$6>='Mapa de férias'!$E$21,C$6<='Mapa de férias'!$F$21),AND(C$6>='Mapa de férias'!$G$21,C$6<='Mapa de férias'!$H$21),AND(C$6>='Mapa de férias'!$I$21,C$6<='Mapa de férias'!$J$21))),"F","")) | D19: =IF(OR($B19="",D$6=""),"",IF(AND(NETWORKDAYS(D$6,D$6,'Feriados'!$F$7:$F$22)=1,OR(AND(D$6>='Mapa de férias'!$E$21,D$6<='Mapa de férias'!$F$21),AND(D$6>='Mapa de férias'!$G$21,D$6<='Mapa de férias'!$H$21),AND(D$6>='Mapa de férias'!$I$21,D$6<='Mapa de férias'!$J$21))),"F","")) | E19: =IF(OR($B19="",E$6=""),"",IF(AND(NETWORKDAYS(E$6,E$6,'Feriados'!$F$7:$F$22)=1,OR(AND(E$6>='Mapa de férias'!$E$21,E$6<='Mapa de férias'!$F$21),AND(E$6>='Mapa de férias'!$G$21,E$6<='Mapa de férias'!$H$21),AND(E$6>='Mapa de férias'!$I$21,E$6<='Mapa de férias'!$J$21))),"F","")) | F19: =IF(OR($B19="",F$6=""),"",IF(AND(NETWORKDAYS(F$6,F$6,'Feriados'!$F$7:$F$22)=1,OR(AND(F$6>='Mapa de férias'!$E$21,F$6<='Mapa de férias'!$F$21),AND(F$6>='Mapa de férias'!$G$21,F$6<='Mapa de férias'!$H$21),AND(F$6>='Mapa de férias'!$I$21,F$6<='Mapa de férias'!$J$21))),"F","")) | G19: =IF(OR($B19="",G$6=""),"",IF(AND(NETWORKDAYS(G$6,G$6,'Feriados'!$F$7:$F$22)=1,OR(AND(G$6>='Mapa de férias'!$E$21,G$6<='Mapa de férias'!$F$21),AND(G$6>='Mapa de férias'!$G$21,G$6<='Mapa de férias'!$H$21),AND(G$6>='Mapa de férias'!$I$21,G$6<='Mapa de férias'!$J$21))),"F","")) | H19: =IF(OR($B19="",H$6=""),"",IF(AND(NETWORKDAYS(H$6,H$6,'Feriados'!$F$7:$F$22)=1,OR(AND(H$6>='Mapa de férias'!$E$21,H$6<='Mapa de férias'!$F$21),AND(H$6>='Mapa de férias'!$G$21,H$6<='Mapa de férias'!$H$21),AND(H$6>='Mapa de férias'!$I$21,H$6<='Mapa de férias'!$J$21))),"F","")) | I19: =IF(OR($B19="",I$6=""),"",IF(AND(NETWORKDAYS(I$6,I$6,'Feriados'!$F$7:$F$22)=1,OR(AND(I$6>='Mapa de férias'!$E$21,I$6<='Mapa de férias'!$F$21),AND(I$6>='Mapa de férias'!$G$21,I$6<='Mapa de férias'!$H$21),AND(I$6>='Mapa de férias'!$I$21,I$6<='Mapa de férias'!$J$21))),"F","")) | J19: =IF(OR($B19="",J$6=""),"",IF(AND(NETWORKDAYS(J$6,J$6,'Feriados'!$F$7:$F$22)=1,OR(AND(J$6>='Mapa de férias'!$E$21,J$6<='Mapa de férias'!$F$21),AND(J$6>='Mapa de férias'!$G$21,J$6<='Mapa de férias'!$H$21),AND(J$6>='Mapa de férias'!$I$21,J$6<='Mapa de férias'!$J$21))),"F","")) | ... AG19: =IF(OR($B19="",AG$6=""),"",IF(AND(NETWORKDAYS(AG$6,AG$6,'Feriados'!$F$7:$F$22)=1,OR(AND(AG$6>='Mapa de férias'!$E$21,AG$6<='Mapa de férias'!$F$21),AND(AG$6>='Mapa de férias'!$G$21,AG$6<='Mapa de férias'!$H$21),AND(AG$6>='Mapa de férias'!$I$21,AG$6<='Mapa de férias'!$J$21))),"F","")) | AH19: =IF($B19="","",COUNTIF(C19:AG19,"F"))
A20: 13 | B20: =IF('Mapa de férias'!$B$22="","",'Mapa de férias'!$B$22) | C20: =IF(OR($B20="",C$6=""),"",IF(AND(NETWORKDAYS(C$6,C$6,'Feriados'!$F$7:$F$22)=1,OR(AND(C$6>='Mapa de férias'!$E$22,C$6<='Mapa de férias'!$F$22),AND(C$6>='Mapa de férias'!$G$22,C$6<='Mapa de férias'!$H$22),AND(C$6>='Mapa de férias'!$I$22,C$6<='Mapa de férias'!$J$22))),"F","")) | D20: =IF(OR($B20="",D$6=""),"",IF(AND(NETWORKDAYS(D$6,D$6,'Feriados'!$F$7:$F$22)=1,OR(AND(D$6>='Mapa de férias'!$E$22,D$6<='Mapa de férias'!$F$22),AND(D$6>='Mapa de férias'!$G$22,D$6<='Mapa de férias'!$H$22),AND(D$6>='Mapa de férias'!$I$22,D$6<='Mapa de férias'!$J$22))),"F","")) | E20: =IF(OR($B20="",E$6=""),"",IF(AND(NETWORKDAYS(E$6,E$6,'Feriados'!$F$7:$F$22)=1,OR(AND(E$6>='Mapa de férias'!$E$22,E$6<='Mapa de férias'!$F$22),AND(E$6>='Mapa de férias'!$G$22,E$6<='Mapa de férias'!$H$22),AND(E$6>='Mapa de férias'!$I$22,E$6<='Mapa de férias'!$J$22))),"F","")) | F20: =IF(OR($B20="",F$6=""),"",IF(AND(NETWORKDAYS(F$6,F$6,'Feriados'!$F$7:$F$22)=1,OR(AND(F$6>='Mapa de férias'!$E$22,F$6<='Mapa de férias'!$F$22),AND(F$6>='Mapa de férias'!$G$22,F$6<='Mapa de férias'!$H$22),AND(F$6>='Mapa de férias'!$I$22,F$6<='Mapa de férias'!$J$22))),"F","")) | G20: =IF(OR($B20="",G$6=""),"",IF(AND(NETWORKDAYS(G$6,G$6,'Feriados'!$F$7:$F$22)=1,OR(AND(G$6>='Mapa de férias'!$E$22,G$6<='Mapa de férias'!$F$22),AND(G$6>='Mapa de férias'!$G$22,G$6<='Mapa de férias'!$H$22),AND(G$6>='Mapa de férias'!$I$22,G$6<='Mapa de férias'!$J$22))),"F","")) | H20: =IF(OR($B20="",H$6=""),"",IF(AND(NETWORKDAYS(H$6,H$6,'Feriados'!$F$7:$F$22)=1,OR(AND(H$6>='Mapa de férias'!$E$22,H$6<='Mapa de férias'!$F$22),AND(H$6>='Mapa de férias'!$G$22,H$6<='Mapa de férias'!$H$22),AND(H$6>='Mapa de férias'!$I$22,H$6<='Mapa de férias'!$J$22))),"F","")) | I20: =IF(OR($B20="",I$6=""),"",IF(AND(NETWORKDAYS(I$6,I$6,'Feriados'!$F$7:$F$22)=1,OR(AND(I$6>='Mapa de férias'!$E$22,I$6<='Mapa de férias'!$F$22),AND(I$6>='Mapa de férias'!$G$22,I$6<='Mapa de férias'!$H$22),AND(I$6>='Mapa de férias'!$I$22,I$6<='Mapa de férias'!$J$22))),"F","")) | J20: =IF(OR($B20="",J$6=""),"",IF(AND(NETWORKDAYS(J$6,J$6,'Feriados'!$F$7:$F$22)=1,OR(AND(J$6>='Mapa de férias'!$E$22,J$6<='Mapa de férias'!$F$22),AND(J$6>='Mapa de férias'!$G$22,J$6<='Mapa de férias'!$H$22),AND(J$6>='Mapa de férias'!$I$22,J$6<='Mapa de férias'!$J$22))),"F","")) | ... AG20: =IF(OR($B20="",AG$6=""),"",IF(AND(NETWORKDAYS(AG$6,AG$6,'Feriados'!$F$7:$F$22)=1,OR(AND(AG$6>='Mapa de férias'!$E$22,AG$6<='Mapa de férias'!$F$22),AND(AG$6>='Mapa de férias'!$G$22,AG$6<='Mapa de férias'!$H$22),AND(AG$6>='Mapa de férias'!$I$22,AG$6<='Mapa de férias'!$J$22))),"F","")) | AH20: =IF($B20="","",COUNTIF(C20:AG20,"F"))
A21: 14 | B21: =IF('Mapa de férias'!$B$23="","",'Mapa de férias'!$B$23) | C21: =IF(OR($B21="",C$6=""),"",IF(AND(NETWORKDAYS(C$6,C$6,'Feriados'!$F$7:$F$22)=1,OR(AND(C$6>='Mapa de férias'!$E$23,C$6<='Mapa de férias'!$F$23),AND(C$6>='Mapa de férias'!$G$23,C$6<='Mapa de férias'!$H$23),AND(C$6>='Mapa de férias'!$I$23,C$6<='Mapa de férias'!$J$23))),"F","")) | D21: =IF(OR($B21="",D$6=""),"",IF(AND(NETWORKDAYS(D$6,D$6,'Feriados'!$F$7:$F$22)=1,OR(AND(D$6>='Mapa de férias'!$E$23,D$6<='Mapa de férias'!$F$23),AND(D$6>='Mapa de férias'!$G$23,D$6<='Mapa de férias'!$H$23),AND(D$6>='Mapa de férias'!$I$23,D$6<='Mapa de férias'!$J$23))),"F","")) | E21: =IF(OR($B21="",E$6=""),"",IF(AND(NETWORKDAYS(E$6,E$6,'Feriados'!$F$7:$F$22)=1,OR(AND(E$6>='Mapa de férias'!$E$23,E$6<='Mapa de férias'!$F$23),AND(E$6>='Mapa de férias'!$G$23,E$6<='Mapa de férias'!$H$23),AND(E$6>='Mapa de férias'!$I$23,E$6<='Mapa de férias'!$J$23))),"F","")) | F21: =IF(OR($B21="",F$6=""),"",IF(AND(NETWORKDAYS(F$6,F$6,'Feriados'!$F$7:$F$22)=1,OR(AND(F$6>='Mapa de férias'!$E$23,F$6<='Mapa de férias'!$F$23),AND(F$6>='Mapa de férias'!$G$23,F$6<='Mapa de férias'!$H$23),AND(F$6>='Mapa de férias'!$I$23,F$6<='Mapa de férias'!$J$23))),"F","")) | G21: =IF(OR($B21="",G$6=""),"",IF(AND(NETWORKDAYS(G$6,G$6,'Feriados'!$F$7:$F$22)=1,OR(AND(G$6>='Mapa de férias'!$E$23,G$6<='Mapa de férias'!$F$23),AND(G$6>='Mapa de férias'!$G$23,G$6<='Mapa de férias'!$H$23),AND(G$6>='Mapa de férias'!$I$23,G$6<='Mapa de férias'!$J$23))),"F","")) | H21: =IF(OR($B21="",H$6=""),"",IF(AND(NETWORKDAYS(H$6,H$6,'Feriados'!$F$7:$F$22)=1,OR(AND(H$6>='Mapa de férias'!$E$23,H$6<='Mapa de férias'!$F$23),AND(H$6>='Mapa de férias'!$G$23,H$6<='Mapa de férias'!$H$23),AND(H$6>='Mapa de férias'!$I$23,H$6<='Mapa de férias'!$J$23))),"F","")) | I21: =IF(OR($B21="",I$6=""),"",IF(AND(NETWORKDAYS(I$6,I$6,'Feriados'!$F$7:$F$22)=1,OR(AND(I$6>='Mapa de férias'!$E$23,I$6<='Mapa de férias'!$F$23),AND(I$6>='Mapa de férias'!$G$23,I$6<='Mapa de férias'!$H$23),AND(I$6>='Mapa de férias'!$I$23,I$6<='Mapa de férias'!$J$23))),"F","")) | J21: =IF(OR($B21="",J$6=""),"",IF(AND(NETWORKDAYS(J$6,J$6,'Feriados'!$F$7:$F$22)=1,OR(AND(J$6>='Mapa de férias'!$E$23,J$6<='Mapa de férias'!$F$23),AND(J$6>='Mapa de férias'!$G$23,J$6<='Mapa de férias'!$H$23),AND(J$6>='Mapa de férias'!$I$23,J$6<='Mapa de férias'!$J$23))),"F","")) | ... AG21: =IF(OR($B21="",AG$6=""),"",IF(AND(NETWORKDAYS(AG$6,AG$6,'Feriados'!$F$7:$F$22)=1,OR(AND(AG$6>='Mapa de férias'!$E$23,AG$6<='Mapa de férias'!$F$23),AND(AG$6>='Mapa de férias'!$G$23,AG$6<='Mapa de férias'!$H$23),AND(AG$6>='Mapa de férias'!$I$23,AG$6<='Mapa de férias'!$J$23))),"F","")) | AH21: =IF($B21="","",COUNTIF(C21:AG21,"F"))
A22: 15 | B22: =IF('Mapa de férias'!$B$24="","",'Mapa de férias'!$B$24) | C22: =IF(OR($B22="",C$6=""),"",IF(AND(NETWORKDAYS(C$6,C$6,'Feriados'!$F$7:$F$22)=1,OR(AND(C$6>='Mapa de férias'!$E$24,C$6<='Mapa de férias'!$F$24),AND(C$6>='Mapa de férias'!$G$24,C$6<='Mapa de férias'!$H$24),AND(C$6>='Mapa de férias'!$I$24,C$6<='Mapa de férias'!$J$24))),"F","")) | D22: =IF(OR($B22="",D$6=""),"",IF(AND(NETWORKDAYS(D$6,D$6,'Feriados'!$F$7:$F$22)=1,OR(AND(D$6>='Mapa de férias'!$E$24,D$6<='Mapa de férias'!$F$24),AND(D$6>='Mapa de férias'!$G$24,D$6<='Mapa de férias'!$H$24),AND(D$6>='Mapa de férias'!$I$24,D$6<='Mapa de férias'!$J$24))),"F","")) | E22: =IF(OR($B22="",E$6=""),"",IF(AND(NETWORKDAYS(E$6,E$6,'Feriados'!$F$7:$F$22)=1,OR(AND(E$6>='Mapa de férias'!$E$24,E$6<='Mapa de férias'!$F$24),AND(E$6>='Mapa de férias'!$G$24,E$6<='Mapa de férias'!$H$24),AND(E$6>='Mapa de férias'!$I$24,E$6<='Mapa de férias'!$J$24))),"F","")) | F22: =IF(OR($B22="",F$6=""),"",IF(AND(NETWORKDAYS(F$6,F$6,'Feriados'!$F$7:$F$22)=1,OR(AND(F$6>='Mapa de férias'!$E$24,F$6<='Mapa de férias'!$F$24),AND(F$6>='Mapa de férias'!$G$24,F$6<='Mapa de férias'!$H$24),AND(F$6>='Mapa de férias'!$I$24,F$6<='Mapa de férias'!$J$24))),"F","")) | G22: =IF(OR($B22="",G$6=""),"",IF(AND(NETWORKDAYS(G$6,G$6,'Feriados'!$F$7:$F$22)=1,OR(AND(G$6>='Mapa de férias'!$E$24,G$6<='Mapa de férias'!$F$24),AND(G$6>='Mapa de férias'!$G$24,G$6<='Mapa de férias'!$H$24),AND(G$6>='Mapa de férias'!$I$24,G$6<='Mapa de férias'!$J$24))),"F","")) | H22: =IF(OR($B22="",H$6=""),"",IF(AND(NETWORKDAYS(H$6,H$6,'Feriados'!$F$7:$F$22)=1,OR(AND(H$6>='Mapa de férias'!$E$24,H$6<='Mapa de férias'!$F$24),AND(H$6>='Mapa de férias'!$G$24,H$6<='Mapa de férias'!$H$24),AND(H$6>='Mapa de férias'!$I$24,H$6<='Mapa de férias'!$J$24))),"F","")) | I22: =IF(OR($B22="",I$6=""),"",IF(AND(NETWORKDAYS(I$6,I$6,'Feriados'!$F$7:$F$22)=1,OR(AND(I$6>='Mapa de férias'!$E$24,I$6<='Mapa de férias'!$F$24),AND(I$6>='Mapa de férias'!$G$24,I$6<='Mapa de férias'!$H$24),AND(I$6>='Mapa de férias'!$I$24,I$6<='Mapa de férias'!$J$24))),"F","")) | J22: =IF(OR($B22="",J$6=""),"",IF(AND(NETWORKDAYS(J$6,J$6,'Feriados'!$F$7:$F$22)=1,OR(AND(J$6>='Mapa de férias'!$E$24,J$6<='Mapa de férias'!$F$24),AND(J$6>='Mapa de férias'!$G$24,J$6<='Mapa de férias'!$H$24),AND(J$6>='Mapa de férias'!$I$24,J$6<='Mapa de férias'!$J$24))),"F","")) | ... AG22: =IF(OR($B22="",AG$6=""),"",IF(AND(NETWORKDAYS(AG$6,AG$6,'Feriados'!$F$7:$F$22)=1,OR(AND(AG$6>='Mapa de férias'!$E$24,AG$6<='Mapa de férias'!$F$24),AND(AG$6>='Mapa de férias'!$G$24,AG$6<='Mapa de férias'!$H$24),AND(AG$6>='Mapa de férias'!$I$24,AG$6<='Mapa de férias'!$J$24))),"F","")) | AH22: =IF($B22="","",COUNTIF(C22:AG22,"F"))
A23: 16 | B23: =IF('Mapa de férias'!$B$25="","",'Mapa de férias'!$B$25) | C23: =IF(OR($B23="",C$6=""),"",IF(AND(NETWORKDAYS(C$6,C$6,'Feriados'!$F$7:$F$22)=1,OR(AND(C$6>='Mapa de férias'!$E$25,C$6<='Mapa de férias'!$F$25),AND(C$6>='Mapa de férias'!$G$25,C$6<='Mapa de férias'!$H$25),AND(C$6>='Mapa de férias'!$I$25,C$6<='Mapa de férias'!$J$25))),"F","")) | D23: =IF(OR($B23="",D$6=""),"",IF(AND(NETWORKDAYS(D$6,D$6,'Feriados'!$F$7:$F$22)=1,OR(AND(D$6>='Mapa de férias'!$E$25,D$6<='Mapa de férias'!$F$25),AND(D$6>='Mapa de férias'!$G$25,D$6<='Mapa de férias'!$H$25),AND(D$6>='Mapa de férias'!$I$25,D$6<='Mapa de férias'!$J$25))),"F","")) | E23: =IF(OR($B23="",E$6=""),"",IF(AND(NETWORKDAYS(E$6,E$6,'Feriados'!$F$7:$F$22)=1,OR(AND(E$6>='Mapa de férias'!$E$25,E$6<='Mapa de férias'!$F$25),AND(E$6>='Mapa de férias'!$G$25,E$6<='Mapa de férias'!$H$25),AND(E$6>='Mapa de férias'!$I$25,E$6<='Mapa de férias'!$J$25))),"F","")) | F23: =IF(OR($B23="",F$6=""),"",IF(AND(NETWORKDAYS(F$6,F$6,'Feriados'!$F$7:$F$22)=1,OR(AND(F$6>='Mapa de férias'!$E$25,F$6<='Mapa de férias'!$F$25),AND(F$6>='Mapa de férias'!$G$25,F$6<='Mapa de férias'!$H$25),AND(F$6>='Mapa de férias'!$I$25,F$6<='Mapa de férias'!$J$25))),"F","")) | G23: =IF(OR($B23="",G$6=""),"",IF(AND(NETWORKDAYS(G$6,G$6,'Feriados'!$F$7:$F$22)=1,OR(AND(G$6>='Mapa de férias'!$E$25,G$6<='Mapa de férias'!$F$25),AND(G$6>='Mapa de férias'!$G$25,G$6<='Mapa de férias'!$H$25),AND(G$6>='Mapa de férias'!$I$25,G$6<='Mapa de férias'!$J$25))),"F","")) | H23: =IF(OR($B23="",H$6=""),"",IF(AND(NETWORKDAYS(H$6,H$6,'Feriados'!$F$7:$F$22)=1,OR(AND(H$6>='Mapa de férias'!$E$25,H$6<='Mapa de férias'!$F$25),AND(H$6>='Mapa de férias'!$G$25,H$6<='Mapa de férias'!$H$25),AND(H$6>='Mapa de férias'!$I$25,H$6<='Mapa de férias'!$J$25))),"F","")) | I23: =IF(OR($B23="",I$6=""),"",IF(AND(NETWORKDAYS(I$6,I$6,'Feriados'!$F$7:$F$22)=1,OR(AND(I$6>='Mapa de férias'!$E$25,I$6<='Mapa de férias'!$F$25),AND(I$6>='Mapa de férias'!$G$25,I$6<='Mapa de férias'!$H$25),AND(I$6>='Mapa de férias'!$I$25,I$6<='Mapa de férias'!$J$25))),"F","")) | J23: =IF(OR($B23="",J$6=""),"",IF(AND(NETWORKDAYS(J$6,J$6,'Feriados'!$F$7:$F$22)=1,OR(AND(J$6>='Mapa de férias'!$E$25,J$6<='Mapa de férias'!$F$25),AND(J$6>='Mapa de férias'!$G$25,J$6<='Mapa de férias'!$H$25),AND(J$6>='Mapa de férias'!$I$25,J$6<='Mapa de férias'!$J$25))),"F","")) | ... AG23: =IF(OR($B23="",AG$6=""),"",IF(AND(NETWORKDAYS(AG$6,AG$6,'Feriados'!$F$7:$F$22)=1,OR(AND(AG$6>='Mapa de férias'!$E$25,AG$6<='Mapa de férias'!$F$25),AND(AG$6>='Mapa de férias'!$G$25,AG$6<='Mapa de férias'!$H$25),AND(AG$6>='Mapa de férias'!$I$25,AG$6<='Mapa de férias'!$J$25))),"F","")) | AH23: =IF($B23="","",COUNTIF(C23:AG23,"F"))
A24: 17 | B24: =IF('Mapa de férias'!$B$26="","",'Mapa de férias'!$B$26) | C24: =IF(OR($B24="",C$6=""),"",IF(AND(NETWORKDAYS(C$6,C$6,'Feriados'!$F$7:$F$22)=1,OR(AND(C$6>='Mapa de férias'!$E$26,C$6<='Mapa de férias'!$F$26),AND(C$6>='Mapa de férias'!$G$26,C$6<='Mapa de férias'!$H$26),AND(C$6>='Mapa de férias'!$I$26,C$6<='Mapa de férias'!$J$26))),"F","")) | D24: =IF(OR($B24="",D$6=""),"",IF(AND(NETWORKDAYS(D$6,D$6,'Feriados'!$F$7:$F$22)=1,OR(AND(D$6>='Mapa de férias'!$E$26,D$6<='Mapa de férias'!$F$26),AND(D$6>='Mapa de férias'!$G$26,D$6<='Mapa de férias'!$H$26),AND(D$6>='Mapa de férias'!$I$26,D$6<='Mapa de férias'!$J$26))),"F","")) | E24: =IF(OR($B24="",E$6=""),"",IF(AND(NETWORKDAYS(E$6,E$6,'Feriados'!$F$7:$F$22)=1,OR(AND(E$6>='Mapa de férias'!$E$26,E$6<='Mapa de férias'!$F$26),AND(E$6>='Mapa de férias'!$G$26,E$6<='Mapa de férias'!$H$26),AND(E$6>='Mapa de férias'!$I$26,E$6<='Mapa de férias'!$J$26))),"F","")) | F24: =IF(OR($B24="",F$6=""),"",IF(AND(NETWORKDAYS(F$6,F$6,'Feriados'!$F$7:$F$22)=1,OR(AND(F$6>='Mapa de férias'!$E$26,F$6<='Mapa de férias'!$F$26),AND(F$6>='Mapa de férias'!$G$26,F$6<='Mapa de férias'!$H$26),AND(F$6>='Mapa de férias'!$I$26,F$6<='Mapa de férias'!$J$26))),"F","")) | G24: =IF(OR($B24="",G$6=""),"",IF(AND(NETWORKDAYS(G$6,G$6,'Feriados'!$F$7:$F$22)=1,OR(AND(G$6>='Mapa de férias'!$E$26,G$6<='Mapa de férias'!$F$26),AND(G$6>='Mapa de férias'!$G$26,G$6<='Mapa de férias'!$H$26),AND(G$6>='Mapa de férias'!$I$26,G$6<='Mapa de férias'!$J$26))),"F","")) | H24: =IF(OR($B24="",H$6=""),"",IF(AND(NETWORKDAYS(H$6,H$6,'Feriados'!$F$7:$F$22)=1,OR(AND(H$6>='Mapa de férias'!$E$26,H$6<='Mapa de férias'!$F$26),AND(H$6>='Mapa de férias'!$G$26,H$6<='Mapa de férias'!$H$26),AND(H$6>='Mapa de férias'!$I$26,H$6<='Mapa de férias'!$J$26))),"F","")) | I24: =IF(OR($B24="",I$6=""),"",IF(AND(NETWORKDAYS(I$6,I$6,'Feriados'!$F$7:$F$22)=1,OR(AND(I$6>='Mapa de férias'!$E$26,I$6<='Mapa de férias'!$F$26),AND(I$6>='Mapa de férias'!$G$26,I$6<='Mapa de férias'!$H$26),AND(I$6>='Mapa de férias'!$I$26,I$6<='Mapa de férias'!$J$26))),"F","")) | J24: =IF(OR($B24="",J$6=""),"",IF(AND(NETWORKDAYS(J$6,J$6,'Feriados'!$F$7:$F$22)=1,OR(AND(J$6>='Mapa de férias'!$E$26,J$6<='Mapa de férias'!$F$26),AND(J$6>='Mapa de férias'!$G$26,J$6<='Mapa de férias'!$H$26),AND(J$6>='Mapa de férias'!$I$26,J$6<='Mapa de férias'!$J$26))),"F","")) | ... AG24: =IF(OR($B24="",AG$6=""),"",IF(AND(NETWORKDAYS(AG$6,AG$6,'Feriados'!$F$7:$F$22)=1,OR(AND(AG$6>='Mapa de férias'!$E$26,AG$6<='Mapa de férias'!$F$26),AND(AG$6>='Mapa de férias'!$G$26,AG$6<='Mapa de férias'!$H$26),AND(AG$6>='Mapa de férias'!$I$26,AG$6<='Mapa de férias'!$J$26))),"F","")) | AH24: =IF($B24="","",COUNTIF(C24:AG24,"F"))
A25: 18 | B25: =IF('Mapa de férias'!$B$27="","",'Mapa de férias'!$B$27) | C25: =IF(OR($B25="",C$6=""),"",IF(AND(NETWORKDAYS(C$6,C$6,'Feriados'!$F$7:$F$22)=1,OR(AND(C$6>='Mapa de férias'!$E$27,C$6<='Mapa de férias'!$F$27),AND(C$6>='Mapa de férias'!$G$27,C$6<='Mapa de férias'!$H$27),AND(C$6>='Mapa de férias'!$I$27,C$6<='Mapa de férias'!$J$27))),"F","")) | D25: =IF(OR($B25="",D$6=""),"",IF(AND(NETWORKDAYS(D$6,D$6,'Feriados'!$F$7:$F$22)=1,OR(AND(D$6>='Mapa de férias'!$E$27,D$6<='Mapa de férias'!$F$27),AND(D$6>='Mapa de férias'!$G$27,D$6<='Mapa de férias'!$H$27),AND(D$6>='Mapa de férias'!$I$27,D$6<='Mapa de férias'!$J$27))),"F","")) | E25: =IF(OR($B25="",E$6=""),"",IF(AND(NETWORKDAYS(E$6,E$6,'Feriados'!$F$7:$F$22)=1,OR(AND(E$6>='Mapa de férias'!$E$27,E$6<='Mapa de férias'!$F$27),AND(E$6>='Mapa de férias'!$G$27,E$6<='Mapa de férias'!$H$27),AND(E$6>='Mapa de férias'!$I$27,E$6<='Mapa de férias'!$J$27))),"F","")) | F25: =IF(OR($B25="",F$6=""),"",IF(AND(NETWORKDAYS(F$6,F$6,'Feriados'!$F$7:$F$22)=1,OR(AND(F$6>='Mapa de férias'!$E$27,F$6<='Mapa de férias'!$F$27),AND(F$6>='Mapa de férias'!$G$27,F$6<='Mapa de férias'!$H$27),AND(F$6>='Mapa de férias'!$I$27,F$6<='Mapa de férias'!$J$27))),"F","")) | G25: =IF(OR($B25="",G$6=""),"",IF(AND(NETWORKDAYS(G$6,G$6,'Feriados'!$F$7:$F$22)=1,OR(AND(G$6>='Mapa de férias'!$E$27,G$6<='Mapa de férias'!$F$27),AND(G$6>='Mapa de férias'!$G$27,G$6<='Mapa de férias'!$H$27),AND(G$6>='Mapa de férias'!$I$27,G$6<='Mapa de férias'!$J$27))),"F","")) | H25: =IF(OR($B25="",H$6=""),"",IF(AND(NETWORKDAYS(H$6,H$6,'Feriados'!$F$7:$F$22)=1,OR(AND(H$6>='Mapa de férias'!$E$27,H$6<='Mapa de férias'!$F$27),AND(H$6>='Mapa de férias'!$G$27,H$6<='Mapa de férias'!$H$27),AND(H$6>='Mapa de férias'!$I$27,H$6<='Mapa de férias'!$J$27))),"F","")) | I25: =IF(OR($B25="",I$6=""),"",IF(AND(NETWORKDAYS(I$6,I$6,'Feriados'!$F$7:$F$22)=1,OR(AND(I$6>='Mapa de férias'!$E$27,I$6<='Mapa de férias'!$F$27),AND(I$6>='Mapa de férias'!$G$27,I$6<='Mapa de férias'!$H$27),AND(I$6>='Mapa de férias'!$I$27,I$6<='Mapa de férias'!$J$27))),"F","")) | J25: =IF(OR($B25="",J$6=""),"",IF(AND(NETWORKDAYS(J$6,J$6,'Feriados'!$F$7:$F$22)=1,OR(AND(J$6>='Mapa de férias'!$E$27,J$6<='Mapa de férias'!$F$27),AND(J$6>='Mapa de férias'!$G$27,J$6<='Mapa de férias'!$H$27),AND(J$6>='Mapa de férias'!$I$27,J$6<='Mapa de férias'!$J$27))),"F","")) | ... AG25: =IF(OR($B25="",AG$6=""),"",IF(AND(NETWORKDAYS(AG$6,AG$6,'Feriados'!$F$7:$F$22)=1,OR(AND(AG$6>='Mapa de férias'!$E$27,AG$6<='Mapa de férias'!$F$27),AND(AG$6>='Mapa de férias'!$G$27,AG$6<='Mapa de férias'!$H$27),AND(AG$6>='Mapa de férias'!$I$27,AG$6<='Mapa de férias'!$J$27))),"F","")) | AH25: =IF($B25="","",COUNTIF(C25:AG25,"F"))
A26: 19 | B26: =IF('Mapa de férias'!$B$28="","",'Mapa de férias'!$B$28) | C26: =IF(OR($B26="",C$6=""),"",IF(AND(NETWORKDAYS(C$6,C$6,'Feriados'!$F$7:$F$22)=1,OR(AND(C$6>='Mapa de férias'!$E$28,C$6<='Mapa de férias'!$F$28),AND(C$6>='Mapa de férias'!$G$28,C$6<='Mapa de férias'!$H$28),AND(C$6>='Mapa de férias'!$I$28,C$6<='Mapa de férias'!$J$28))),"F","")) | D26: =IF(OR($B26="",D$6=""),"",IF(AND(NETWORKDAYS(D$6,D$6,'Feriados'!$F$7:$F$22)=1,OR(AND(D$6>='Mapa de férias'!$E$28,D$6<='Mapa de férias'!$F$28),AND(D$6>='Mapa de férias'!$G$28,D$6<='Mapa de férias'!$H$28),AND(D$6>='Mapa de férias'!$I$28,D$6<='Mapa de férias'!$J$28))),"F","")) | E26: =IF(OR($B26="",E$6=""),"",IF(AND(NETWORKDAYS(E$6,E$6,'Feriados'!$F$7:$F$22)=1,OR(AND(E$6>='Mapa de férias'!$E$28,E$6<='Mapa de férias'!$F$28),AND(E$6>='Mapa de férias'!$G$28,E$6<='Mapa de férias'!$H$28),AND(E$6>='Mapa de férias'!$I$28,E$6<='Mapa de férias'!$J$28))),"F","")) | F26: =IF(OR($B26="",F$6=""),"",IF(AND(NETWORKDAYS(F$6,F$6,'Feriados'!$F$7:$F$22)=1,OR(AND(F$6>='Mapa de férias'!$E$28,F$6<='Mapa de férias'!$F$28),AND(F$6>='Mapa de férias'!$G$28,F$6<='Mapa de férias'!$H$28),AND(F$6>='Mapa de férias'!$I$28,F$6<='Mapa de férias'!$J$28))),"F","")) | G26: =IF(OR($B26="",G$6=""),"",IF(AND(NETWORKDAYS(G$6,G$6,'Feriados'!$F$7:$F$22)=1,OR(AND(G$6>='Mapa de férias'!$E$28,G$6<='Mapa de férias'!$F$28),AND(G$6>='Mapa de férias'!$G$28,G$6<='Mapa de férias'!$H$28),AND(G$6>='Mapa de férias'!$I$28,G$6<='Mapa de férias'!$J$28))),"F","")) | H26: =IF(OR($B26="",H$6=""),"",IF(AND(NETWORKDAYS(H$6,H$6,'Feriados'!$F$7:$F$22)=1,OR(AND(H$6>='Mapa de férias'!$E$28,H$6<='Mapa de férias'!$F$28),AND(H$6>='Mapa de férias'!$G$28,H$6<='Mapa de férias'!$H$28),AND(H$6>='Mapa de férias'!$I$28,H$6<='Mapa de férias'!$J$28))),"F","")) | I26: =IF(OR($B26="",I$6=""),"",IF(AND(NETWORKDAYS(I$6,I$6,'Feriados'!$F$7:$F$22)=1,OR(AND(I$6>='Mapa de férias'!$E$28,I$6<='Mapa de férias'!$F$28),AND(I$6>='Mapa de férias'!$G$28,I$6<='Mapa de férias'!$H$28),AND(I$6>='Mapa de férias'!$I$28,I$6<='Mapa de férias'!$J$28))),"F","")) | J26: =IF(OR($B26="",J$6=""),"",IF(AND(NETWORKDAYS(J$6,J$6,'Feriados'!$F$7:$F$22)=1,OR(AND(J$6>='Mapa de férias'!$E$28,J$6<='Mapa de férias'!$F$28),AND(J$6>='Mapa de férias'!$G$28,J$6<='Mapa de férias'!$H$28),AND(J$6>='Mapa de férias'!$I$28,J$6<='Mapa de férias'!$J$28))),"F","")) | ... AG26: =IF(OR($B26="",AG$6=""),"",IF(AND(NETWORKDAYS(AG$6,AG$6,'Feriados'!$F$7:$F$22)=1,OR(AND(AG$6>='Mapa de férias'!$E$28,AG$6<='Mapa de férias'!$F$28),AND(AG$6>='Mapa de férias'!$G$28,AG$6<='Mapa de férias'!$H$28),AND(AG$6>='Mapa de férias'!$I$28,AG$6<='Mapa de férias'!$J$28))),"F","")) | AH26: =IF($B26="","",COUNTIF(C26:AG26,"F"))
A27: 20 | B27: =IF('Mapa de férias'!$B$29="","",'Mapa de férias'!$B$29) | C27: =IF(OR($B27="",C$6=""),"",IF(AND(NETWORKDAYS(C$6,C$6,'Feriados'!$F$7:$F$22)=1,OR(AND(C$6>='Mapa de férias'!$E$29,C$6<='Mapa de férias'!$F$29),AND(C$6>='Mapa de férias'!$G$29,C$6<='Mapa de férias'!$H$29),AND(C$6>='Mapa de férias'!$I$29,C$6<='Mapa de férias'!$J$29))),"F","")) | D27: =IF(OR($B27="",D$6=""),"",IF(AND(NETWORKDAYS(D$6,D$6,'Feriados'!$F$7:$F$22)=1,OR(AND(D$6>='Mapa de férias'!$E$29,D$6<='Mapa de férias'!$F$29),AND(D$6>='Mapa de férias'!$G$29,D$6<='Mapa de férias'!$H$29),AND(D$6>='Mapa de férias'!$I$29,D$6<='Mapa de férias'!$J$29))),"F","")) | E27: =IF(OR($B27="",E$6=""),"",IF(AND(NETWORKDAYS(E$6,E$6,'Feriados'!$F$7:$F$22)=1,OR(AND(E$6>='Mapa de férias'!$E$29,E$6<='Mapa de férias'!$F$29),AND(E$6>='Mapa de férias'!$G$29,E$6<='Mapa de férias'!$H$29),AND(E$6>='Mapa de férias'!$I$29,E$6<='Mapa de férias'!$J$29))),"F","")) | F27: =IF(OR($B27="",F$6=""),"",IF(AND(NETWORKDAYS(F$6,F$6,'Feriados'!$F$7:$F$22)=1,OR(AND(F$6>='Mapa de férias'!$E$29,F$6<='Mapa de férias'!$F$29),AND(F$6>='Mapa de férias'!$G$29,F$6<='Mapa de férias'!$H$29),AND(F$6>='Mapa de férias'!$I$29,F$6<='Mapa de férias'!$J$29))),"F","")) | G27: =IF(OR($B27="",G$6=""),"",IF(AND(NETWORKDAYS(G$6,G$6,'Feriados'!$F$7:$F$22)=1,OR(AND(G$6>='Mapa de férias'!$E$29,G$6<='Mapa de férias'!$F$29),AND(G$6>='Mapa de férias'!$G$29,G$6<='Mapa de férias'!$H$29),AND(G$6>='Mapa de férias'!$I$29,G$6<='Mapa de férias'!$J$29))),"F","")) | H27: =IF(OR($B27="",H$6=""),"",IF(AND(NETWORKDAYS(H$6,H$6,'Feriados'!$F$7:$F$22)=1,OR(AND(H$6>='Mapa de férias'!$E$29,H$6<='Mapa de férias'!$F$29),AND(H$6>='Mapa de férias'!$G$29,H$6<='Mapa de férias'!$H$29),AND(H$6>='Mapa de férias'!$I$29,H$6<='Mapa de férias'!$J$29))),"F","")) | I27: =IF(OR($B27="",I$6=""),"",IF(AND(NETWORKDAYS(I$6,I$6,'Feriados'!$F$7:$F$22)=1,OR(AND(I$6>='Mapa de férias'!$E$29,I$6<='Mapa de férias'!$F$29),AND(I$6>='Mapa de férias'!$G$29,I$6<='Mapa de férias'!$H$29),AND(I$6>='Mapa de férias'!$I$29,I$6<='Mapa de férias'!$J$29))),"F","")) | J27: =IF(OR($B27="",J$6=""),"",IF(AND(NETWORKDAYS(J$6,J$6,'Feriados'!$F$7:$F$22)=1,OR(AND(J$6>='Mapa de férias'!$E$29,J$6<='Mapa de férias'!$F$29),AND(J$6>='Mapa de férias'!$G$29,J$6<='Mapa de férias'!$H$29),AND(J$6>='Mapa de férias'!$I$29,J$6<='Mapa de férias'!$J$29))),"F","")) | ... AG27: =IF(OR($B27="",AG$6=""),"",IF(AND(NETWORKDAYS(AG$6,AG$6,'Feriados'!$F$7:$F$22)=1,OR(AND(AG$6>='Mapa de férias'!$E$29,AG$6<='Mapa de férias'!$F$29),AND(AG$6>='Mapa de férias'!$G$29,AG$6<='Mapa de férias'!$H$29),AND(AG$6>='Mapa de férias'!$I$29,AG$6<='Mapa de férias'!$J$29))),"F","")) | AH27: =IF($B27="","",COUNTIF(C27:AG27,"F"))
A29: =DATE('Mapa de férias'!$C$6,2,1) | C29: =IF(1>DAY(DATE('Mapa de férias'!$C$6,2+1,0)),"",DATE('Mapa de férias'!$C$6,2,1)) | D29: =IF(2>DAY(DATE('Mapa de férias'!$C$6,2+1,0)),"",DATE('Mapa de férias'!$C$6,2,2)) | E29: =IF(3>DAY(DATE('Mapa de férias'!$C$6,2+1,0)),"",DATE('Mapa de férias'!$C$6,2,3)) | F29: =IF(4>DAY(DATE('Mapa de férias'!$C$6,2+1,0)),"",DATE('Mapa de férias'!$C$6,2,4)) | G29: =IF(5>DAY(DATE('Mapa de férias'!$C$6,2+1,0)),"",DATE('Mapa de férias'!$C$6,2,5)) | H29: =IF(6>DAY(DATE('Mapa de férias'!$C$6,2+1,0)),"",DATE('Mapa de férias'!$C$6,2,6)) | I29: =IF(7>DAY(DATE('Mapa de férias'!$C$6,2+1,0)),"",DATE('Mapa de férias'!$C$6,2,7)) | J29: =IF(8>DAY(DATE('Mapa de férias'!$C$6,2+1,0)),"",DATE('Mapa de férias'!$C$6,2,8)) | K29: =IF(9>DAY(DATE('Mapa de férias'!$C$6,2+1,0)),"",DATE('Mapa de férias'!$C$6,2,9)) | L29: =IF(10>DAY(DATE('Mapa de férias'!$C$6,2+1,0)),"",DATE('Mapa de férias'!$C$6,2,10)) | M29: =IF(11>DAY(DATE('Mapa de férias'!$C$6,2+1,0)),"",DATE('Mapa de férias'!$C$6,2,11)) | N29: =IF(12>DAY(DATE('Mapa de férias'!$C$6,2+1,0)),"",DATE('Mapa de férias'!$C$6,2,12)) | O29: =IF(13>DAY(DATE('Mapa de férias'!$C$6,2+1,0)),"",DATE('Mapa de férias'!$C$6,2,13)) | P29: =IF(14>DAY(DATE('Mapa de férias'!$C$6,2+1,0)),"",DATE('Mapa de férias'!$C$6,2,14)) | Q29: =IF(15>DAY(DATE('Mapa de férias'!$C$6,2+1,0)),"",DATE('Mapa de férias'!$C$6,2,15)) | R29: =IF(16>DAY(DATE('Mapa de férias'!$C$6,2+1,0)),"",DATE('Mapa de férias'!$C$6,2,16)) | S29: =IF(17>DAY(DATE('Mapa de férias'!$C$6,2+1,0)),"",DATE('Mapa de férias'!$C$6,2,17)) | T29: =IF(18>DAY(DATE('Mapa de férias'!$C$6,2+1,0)),"",DATE('Mapa de férias'!$C$6,2,18)) | U29: =IF(19>DAY(DATE('Mapa de férias'!$C$6,2+1,0)),"",DATE('Mapa de férias'!$C$6,2,19)) | V29: =IF(20>DAY(DATE('Mapa de férias'!$C$6,2+1,0)),"",DATE('Mapa de férias'!$C$6,2,20)) | W29: =IF(21>DAY(DATE('Mapa de férias'!$C$6,2+1,0)),"",DATE('Mapa de férias'!$C$6,2,21)) | X29: =IF(22>DAY(DATE('Mapa de férias'!$C$6,2+1,0)),"",DATE('Mapa de férias'!$C$6,2,22)) | Y29: =IF(23>DAY(DATE('Mapa de férias'!$C$6,2+1,0)),"",DATE('Mapa de férias'!$C$6,2,23)) | Z29: =IF(24>DAY(DATE('Mapa de férias'!$C$6,2+1,0)),"",DATE('Mapa de férias'!$C$6,2,24)) | AA29: =IF(25>DAY(DATE('Mapa de férias'!$C$6,2+1,0)),"",DATE('Mapa de férias'!$C$6,2,25)) | AB29: =IF(26>DAY(DATE('Mapa de férias'!$C$6,2+1,0)),"",DATE('Mapa de férias'!$C$6,2,26)) | AC29: =IF(27>DAY(DATE('Mapa de férias'!$C$6,2+1,0)),"",DATE('Mapa de férias'!$C$6,2,27)) | AD29: =IF(28>DAY(DATE('Mapa de férias'!$C$6,2+1,0)),"",DATE('Mapa de férias'!$C$6,2,28)) | AE29: =IF(29>DAY(DATE('Mapa de férias'!$C$6,2+1,0)),"",DATE('Mapa de férias'!$C$6,2,29)) | AF29: =IF(30>DAY(DATE('Mapa de férias'!$C$6,2+1,0)),"",DATE('Mapa de férias'!$C$6,2,30)) | AG29: =IF(31>DAY(DATE('Mapa de férias'!$C$6,2+1,0)),"",DATE('Mapa de férias'!$C$6,2,31)) | AH29: Dias
C30: =IF(C29="","",C29) | D30: =IF(D29="","",D29) | E30: =IF(E29="","",E29) | F30: =IF(F29="","",F29) | G30: =IF(G29="","",G29) | H30: =IF(H29="","",H29) | I30: =IF(I29="","",I29) | J30: =IF(J29="","",J29) | ... AG30: =IF(AG29="","",AG29)
A31: 1 | B31: =IF('Mapa de férias'!$B$10="","",'Mapa de férias'!$B$10) | C31: =IF(OR($B31="",C$29=""),"",IF(AND(NETWORKDAYS(C$29,C$29,'Feriados'!$F$7:$F$22)=1,OR(AND(C$29>='Mapa de férias'!$E$10,C$29<='Mapa de férias'!$F$10),AND(C$29>='Mapa de férias'!$G$10,C$29<='Mapa de férias'!$H$10),AND(C$29>='Mapa de férias'!$I$10,C$29<='Mapa de férias'!$J$10))),"F","")) | D31: =IF(OR($B31="",D$29=""),"",IF(AND(NETWORKDAYS(D$29,D$29,'Feriados'!$F$7:$F$22)=1,OR(AND(D$29>='Mapa de férias'!$E$10,D$29<='Mapa de férias'!$F$10),AND(D$29>='Mapa de férias'!$G$10,D$29<='Mapa de férias'!$H$10),AND(D$29>='Mapa de férias'!$I$10,D$29<='Mapa de férias'!$J$10))),"F","")) | E31: =IF(OR($B31="",E$29=""),"",IF(AND(NETWORKDAYS(E$29,E$29,'Feriados'!$F$7:$F$22)=1,OR(AND(E$29>='Mapa de férias'!$E$10,E$29<='Mapa de férias'!$F$10),AND(E$29>='Mapa de férias'!$G$10,E$29<='Mapa de férias'!$H$10),AND(E$29>='Mapa de férias'!$I$10,E$29<='Mapa de férias'!$J$10))),"F","")) | F31: =IF(OR($B31="",F$29=""),"",IF(AND(NETWORKDAYS(F$29,F$29,'Feriados'!$F$7:$F$22)=1,OR(AND(F$29>='Mapa de férias'!$E$10,F$29<='Mapa de férias'!$F$10),AND(F$29>='Mapa de férias'!$G$10,F$29<='Mapa de férias'!$H$10),AND(F$29>='Mapa de férias'!$I$10,F$29<='Mapa de férias'!$J$10))),"F","")) | G31: =IF(OR($B31="",G$29=""),"",IF(AND(NETWORKDAYS(G$29,G$29,'Feriados'!$F$7:$F$22)=1,OR(AND(G$29>='Mapa de férias'!$E$10,G$29<='Mapa de férias'!$F$10),AND(G$29>='Mapa de férias'!$G$10,G$29<='Mapa de férias'!$H$10),AND(G$29>='Mapa de férias'!$I$10,G$29<='Mapa de férias'!$J$10))),"F","")) | H31: =IF(OR($B31="",H$29=""),"",IF(AND(NETWORKDAYS(H$29,H$29,'Feriados'!$F$7:$F$22)=1,OR(AND(H$29>='Mapa de férias'!$E$10,H$29<='Mapa de férias'!$F$10),AND(H$29>='Mapa de férias'!$G$10,H$29<='Mapa de férias'!$H$10),AND(H$29>='Mapa de férias'!$I$10,H$29<='Mapa de férias'!$J$10))),"F","")) | I31: =IF(OR($B31="",I$29=""),"",IF(AND(NETWORKDAYS(I$29,I$29,'Feriados'!$F$7:$F$22)=1,OR(AND(I$29>='Mapa de férias'!$E$10,I$29<='Mapa de férias'!$F$10),AND(I$29>='Mapa de férias'!$G$10,I$29<='Mapa de férias'!$H$10),AND(I$29>='Mapa de férias'!$I$10,I$29<='Mapa de férias'!$J$10))),"F","")) | J31: =IF(OR($B31="",J$29=""),"",IF(AND(NETWORKDAYS(J$29,J$29,'Feriados'!$F$7:$F$22)=1,OR(AND(J$29>='Mapa de férias'!$E$10,J$29<='Mapa de férias'!$F$10),AND(J$29>='Mapa de férias'!$G$10,J$29<='Mapa de férias'!$H$10),AND(J$29>='Mapa de férias'!$I$10,J$29<='Mapa de férias'!$J$10))),"F","")) | ... AG31: =IF(OR($B31="",AG$29=""),"",IF(AND(NETWORKDAYS(AG$29,AG$29,'Feriados'!$F$7:$F$22)=1,OR(AND(AG$29>='Mapa de férias'!$E$10,AG$29<='Mapa de férias'!$F$10),AND(AG$29>='Mapa de férias'!$G$10,AG$29<='Mapa de férias'!$H$10),AND(AG$29>='Mapa de férias'!$I$10,AG$29<='Mapa de férias'!$J$10))),"F","")) | AH31: =IF($B31="","",COUNTIF(C31:AG31,"F"))
A32: 2 | B32: =IF('Mapa de férias'!$B$11="","",'Mapa de férias'!$B$11) | C32: =IF(OR($B32="",C$29=""),"",IF(AND(NETWORKDAYS(C$29,C$29,'Feriados'!$F$7:$F$22)=1,OR(AND(C$29>='Mapa de férias'!$E$11,C$29<='Mapa de férias'!$F$11),AND(C$29>='Mapa de férias'!$G$11,C$29<='Mapa de férias'!$H$11),AND(C$29>='Mapa de férias'!$I$11,C$29<='Mapa de férias'!$J$11))),"F","")) | D32: =IF(OR($B32="",D$29=""),"",IF(AND(NETWORKDAYS(D$29,D$29,'Feriados'!$F$7:$F$22)=1,OR(AND(D$29>='Mapa de férias'!$E$11,D$29<='Mapa de férias'!$F$11),AND(D$29>='Mapa de férias'!$G$11,D$29<='Mapa de férias'!$H$11),AND(D$29>='Mapa de férias'!$I$11,D$29<='Mapa de férias'!$J$11))),"F","")) | E32: =IF(OR($B32="",E$29=""),"",IF(AND(NETWORKDAYS(E$29,E$29,'Feriados'!$F$7:$F$22)=1,OR(AND(E$29>='Mapa de férias'!$E$11,E$29<='Mapa de férias'!$F$11),AND(E$29>='Mapa de férias'!$G$11,E$29<='Mapa de férias'!$H$11),AND(E$29>='Mapa de férias'!$I$11,E$29<='Mapa de férias'!$J$11))),"F","")) | F32: =IF(OR($B32="",F$29=""),"",IF(AND(NETWORKDAYS(F$29,F$29,'Feriados'!$F$7:$F$22)=1,OR(AND(F$29>='Mapa de férias'!$E$11,F$29<='Mapa de férias'!$F$11),AND(F$29>='Mapa de férias'!$G$11,F$29<='Mapa de férias'!$H$11),AND(F$29>='Mapa de férias'!$I$11,F$29<='Mapa de férias'!$J$11))),"F","")) | G32: =IF(OR($B32="",G$29=""),"",IF(AND(NETWORKDAYS(G$29,G$29,'Feriados'!$F$7:$F$22)=1,OR(AND(G$29>='Mapa de férias'!$E$11,G$29<='Mapa de férias'!$F$11),AND(G$29>='Mapa de férias'!$G$11,G$29<='Mapa de férias'!$H$11),AND(G$29>='Mapa de férias'!$I$11,G$29<='Mapa de férias'!$J$11))),"F","")) | H32: =IF(OR($B32="",H$29=""),"",IF(AND(NETWORKDAYS(H$29,H$29,'Feriados'!$F$7:$F$22)=1,OR(AND(H$29>='Mapa de férias'!$E$11,H$29<='Mapa de férias'!$F$11),AND(H$29>='Mapa de férias'!$G$11,H$29<='Mapa de férias'!$H$11),AND(H$29>='Mapa de férias'!$I$11,H$29<='Mapa de férias'!$J$11))),"F","")) | I32: =IF(OR($B32="",I$29=""),"",IF(AND(NETWORKDAYS(I$29,I$29,'Feriados'!$F$7:$F$22)=1,OR(AND(I$29>='Mapa de férias'!$E$11,I$29<='Mapa de férias'!$F$11),AND(I$29>='Mapa de férias'!$G$11,I$29<='Mapa de férias'!$H$11),AND(I$29>='Mapa de férias'!$I$11,I$29<='Mapa de férias'!$J$11))),"F","")) | J32: =IF(OR($B32="",J$29=""),"",IF(AND(NETWORKDAYS(J$29,J$29,'Feriados'!$F$7:$F$22)=1,OR(AND(J$29>='Mapa de férias'!$E$11,J$29<='Mapa de férias'!$F$11),AND(J$29>='Mapa de férias'!$G$11,J$29<='Mapa de férias'!$H$11),AND(J$29>='Mapa de férias'!$I$11,J$29<='Mapa de férias'!$J$11))),"F","")) | ... AG32: =IF(OR($B32="",AG$29=""),"",IF(AND(NETWORKDAYS(AG$29,AG$29,'Feriados'!$F$7:$F$22)=1,OR(AND(AG$29>='Mapa de férias'!$E$11,AG$29<='Mapa de férias'!$F$11),AND(AG$29>='Mapa de férias'!$G$11,AG$29<='Mapa de férias'!$H$11),AND(AG$29>='Mapa de férias'!$I$11,AG$29<='Mapa de férias'!$J$11))),"F","")) | AH32: =IF($B32="","",COUNTIF(C32:AG32,"F"))
A33: 3 | B33: =IF('Mapa de férias'!$B$12="","",'Mapa de férias'!$B$12) | C33: =IF(OR($B33="",C$29=""),"",IF(AND(NETWORKDAYS(C$29,C$29,'Feriados'!$F$7:$F$22)=1,OR(AND(C$29>='Mapa de férias'!$E$12,C$29<='Mapa de férias'!$F$12),AND(C$29>='Mapa de férias'!$G$12,C$29<='Mapa de férias'!$H$12),AND(C$29>='Mapa de férias'!$I$12,C$29<='Mapa de férias'!$J$12))),"F","")) | D33: =IF(OR($B33="",D$29=""),"",IF(AND(NETWORKDAYS(D$29,D$29,'Feriados'!$F$7:$F$22)=1,OR(AND(D$29>='Mapa de férias'!$E$12,D$29<='Mapa de férias'!$F$12),AND(D$29>='Mapa de férias'!$G$12,D$29<='Mapa de férias'!$H$12),AND(D$29>='Mapa de férias'!$I$12,D$29<='Mapa de férias'!$J$12))),"F","")) | E33: =IF(OR($B33="",E$29=""),"",IF(AND(NETWORKDAYS(E$29,E$29,'Feriados'!$F$7:$F$22)=1,OR(AND(E$29>='Mapa de férias'!$E$12,E$29<='Mapa de férias'!$F$12),AND(E$29>='Mapa de férias'!$G$12,E$29<='Mapa de férias'!$H$12),AND(E$29>='Mapa de férias'!$I$12,E$29<='Mapa de férias'!$J$12))),"F","")) | F33: =IF(OR($B33="",F$29=""),"",IF(AND(NETWORKDAYS(F$29,F$29,'Feriados'!$F$7:$F$22)=1,OR(AND(F$29>='Mapa de férias'!$E$12,F$29<='Mapa de férias'!$F$12),AND(F$29>='Mapa de férias'!$G$12,F$29<='Mapa de férias'!$H$12),AND(F$29>='Mapa de férias'!$I$12,F$29<='Mapa de férias'!$J$12))),"F","")) | G33: =IF(OR($B33="",G$29=""),"",IF(AND(NETWORKDAYS(G$29,G$29,'Feriados'!$F$7:$F$22)=1,OR(AND(G$29>='Mapa de férias'!$E$12,G$29<='Mapa de férias'!$F$12),AND(G$29>='Mapa de férias'!$G$12,G$29<='Mapa de férias'!$H$12),AND(G$29>='Mapa de férias'!$I$12,G$29<='Mapa de férias'!$J$12))),"F","")) | H33: =IF(OR($B33="",H$29=""),"",IF(AND(NETWORKDAYS(H$29,H$29,'Feriados'!$F$7:$F$22)=1,OR(AND(H$29>='Mapa de férias'!$E$12,H$29<='Mapa de férias'!$F$12),AND(H$29>='Mapa de férias'!$G$12,H$29<='Mapa de férias'!$H$12),AND(H$29>='Mapa de férias'!$I$12,H$29<='Mapa de férias'!$J$12))),"F","")) | I33: =IF(OR($B33="",I$29=""),"",IF(AND(NETWORKDAYS(I$29,I$29,'Feriados'!$F$7:$F$22)=1,OR(AND(I$29>='Mapa de férias'!$E$12,I$29<='Mapa de férias'!$F$12),AND(I$29>='Mapa de férias'!$G$12,I$29<='Mapa de férias'!$H$12),AND(I$29>='Mapa de férias'!$I$12,I$29<='Mapa de férias'!$J$12))),"F","")) | J33: =IF(OR($B33="",J$29=""),"",IF(AND(NETWORKDAYS(J$29,J$29,'Feriados'!$F$7:$F$22)=1,OR(AND(J$29>='Mapa de férias'!$E$12,J$29<='Mapa de férias'!$F$12),AND(J$29>='Mapa de férias'!$G$12,J$29<='Mapa de férias'!$H$12),AND(J$29>='Mapa de férias'!$I$12,J$29<='Mapa de férias'!$J$12))),"F","")) | ... AG33: =IF(OR($B33="",AG$29=""),"",IF(AND(NETWORKDAYS(AG$29,AG$29,'Feriados'!$F$7:$F$22)=1,OR(AND(AG$29>='Mapa de férias'!$E$12,AG$29<='Mapa de férias'!$F$12),AND(AG$29>='Mapa de férias'!$G$12,AG$29<='Mapa de férias'!$H$12),AND(AG$29>='Mapa de férias'!$I$12,AG$29<='Mapa de férias'!$J$12))),"F","")) | AH33: =IF($B33="","",COUNTIF(C33:AG33,"F"))
A34: 4 | B34: =IF('Mapa de férias'!$B$13="","",'Mapa de férias'!$B$13) | C34: =IF(OR($B34="",C$29=""),"",IF(AND(NETWORKDAYS(C$29,C$29,'Feriados'!$F$7:$F$22)=1,OR(AND(C$29>='Mapa de férias'!$E$13,C$29<='Mapa de férias'!$F$13),AND(C$29>='Mapa de férias'!$G$13,C$29<='Mapa de férias'!$H$13),AND(C$29>='Mapa de férias'!$I$13,C$29<='Mapa de férias'!$J$13))),"F","")) | D34: =IF(OR($B34="",D$29=""),"",IF(AND(NETWORKDAYS(D$29,D$29,'Feriados'!$F$7:$F$22)=1,OR(AND(D$29>='Mapa de férias'!$E$13,D$29<='Mapa de férias'!$F$13),AND(D$29>='Mapa de férias'!$G$13,D$29<='Mapa de férias'!$H$13),AND(D$29>='Mapa de férias'!$I$13,D$29<='Mapa de férias'!$J$13))),"F","")) | E34: =IF(OR($B34="",E$29=""),"",IF(AND(NETWORKDAYS(E$29,E$29,'Feriados'!$F$7:$F$22)=1,OR(AND(E$29>='Mapa de férias'!$E$13,E$29<='Mapa de férias'!$F$13),AND(E$29>='Mapa de férias'!$G$13,E$29<='Mapa de férias'!$H$13),AND(E$29>='Mapa de férias'!$I$13,E$29<='Mapa de férias'!$J$13))),"F","")) | F34: =IF(OR($B34="",F$29=""),"",IF(AND(NETWORKDAYS(F$29,F$29,'Feriados'!$F$7:$F$22)=1,OR(AND(F$29>='Mapa de férias'!$E$13,F$29<='Mapa de férias'!$F$13),AND(F$29>='Mapa de férias'!$G$13,F$29<='Mapa de férias'!$H$13),AND(F$29>='Mapa de férias'!$I$13,F$29<='Mapa de férias'!$J$13))),"F","")) | G34: =IF(OR($B34="",G$29=""),"",IF(AND(NETWORKDAYS(G$29,G$29,'Feriados'!$F$7:$F$22)=1,OR(AND(G$29>='Mapa de férias'!$E$13,G$29<='Mapa de férias'!$F$13),AND(G$29>='Mapa de férias'!$G$13,G$29<='Mapa de férias'!$H$13),AND(G$29>='Mapa de férias'!$I$13,G$29<='Mapa de férias'!$J$13))),"F","")) | H34: =IF(OR($B34="",H$29=""),"",IF(AND(NETWORKDAYS(H$29,H$29,'Feriados'!$F$7:$F$22)=1,OR(AND(H$29>='Mapa de férias'!$E$13,H$29<='Mapa de férias'!$F$13),AND(H$29>='Mapa de férias'!$G$13,H$29<='Mapa de férias'!$H$13),AND(H$29>='Mapa de férias'!$I$13,H$29<='Mapa de férias'!$J$13))),"F","")) | I34: =IF(OR($B34="",I$29=""),"",IF(AND(NETWORKDAYS(I$29,I$29,'Feriados'!$F$7:$F$22)=1,OR(AND(I$29>='Mapa de férias'!$E$13,I$29<='Mapa de férias'!$F$13),AND(I$29>='Mapa de férias'!$G$13,I$29<='Mapa de férias'!$H$13),AND(I$29>='Mapa de férias'!$I$13,I$29<='Mapa de férias'!$J$13))),"F","")) | J34: =IF(OR($B34="",J$29=""),"",IF(AND(NETWORKDAYS(J$29,J$29,'Feriados'!$F$7:$F$22)=1,OR(AND(J$29>='Mapa de férias'!$E$13,J$29<='Mapa de férias'!$F$13),AND(J$29>='Mapa de férias'!$G$13,J$29<='Mapa de férias'!$H$13),AND(J$29>='Mapa de férias'!$I$13,J$29<='Mapa de férias'!$J$13))),"F","")) | ... AG34: =IF(OR($B34="",AG$29=""),"",IF(AND(NETWORKDAYS(AG$29,AG$29,'Feriados'!$F$7:$F$22)=1,OR(AND(AG$29>='Mapa de férias'!$E$13,AG$29<='Mapa de férias'!$F$13),AND(AG$29>='Mapa de férias'!$G$13,AG$29<='Mapa de férias'!$H$13),AND(AG$29>='Mapa de férias'!$I$13,AG$29<='Mapa de férias'!$J$13))),"F","")) | AH34: =IF($B34="","",COUNTIF(C34:AG34,"F"))
A35: 5 | B35: =IF('Mapa de férias'!$B$14="","",'Mapa de férias'!$B$14) | C35: =IF(OR($B35="",C$29=""),"",IF(AND(NETWORKDAYS(C$29,C$29,'Feriados'!$F$7:$F$22)=1,OR(AND(C$29>='Mapa de férias'!$E$14,C$29<='Mapa de férias'!$F$14),AND(C$29>='Mapa de férias'!$G$14,C$29<='Mapa de férias'!$H$14),AND(C$29>='Mapa de férias'!$I$14,C$29<='Mapa de férias'!$J$14))),"F","")) | D35: =IF(OR($B35="",D$29=""),"",IF(AND(NETWORKDAYS(D$29,D$29,'Feriados'!$F$7:$F$22)=1,OR(AND(D$29>='Mapa de férias'!$E$14,D$29<='Mapa de férias'!$F$14),AND(D$29>='Mapa de férias'!$G$14,D$29<='Mapa de férias'!$H$14),AND(D$29>='Mapa de férias'!$I$14,D$29<='Mapa de férias'!$J$14))),"F","")) | E35: =IF(OR($B35="",E$29=""),"",IF(AND(NETWORKDAYS(E$29,E$29,'Feriados'!$F$7:$F$22)=1,OR(AND(E$29>='Mapa de férias'!$E$14,E$29<='Mapa de férias'!$F$14),AND(E$29>='Mapa de férias'!$G$14,E$29<='Mapa de férias'!$H$14),AND(E$29>='Mapa de férias'!$I$14,E$29<='Mapa de férias'!$J$14))),"F","")) | F35: =IF(OR($B35="",F$29=""),"",IF(AND(NETWORKDAYS(F$29,F$29,'Feriados'!$F$7:$F$22)=1,OR(AND(F$29>='Mapa de férias'!$E$14,F$29<='Mapa de férias'!$F$14),AND(F$29>='Mapa de férias'!$G$14,F$29<='Mapa de férias'!$H$14),AND(F$29>='Mapa de férias'!$I$14,F$29<='Mapa de férias'!$J$14))),"F","")) | G35: =IF(OR($B35="",G$29=""),"",IF(AND(NETWORKDAYS(G$29,G$29,'Feriados'!$F$7:$F$22)=1,OR(AND(G$29>='Mapa de férias'!$E$14,G$29<='Mapa de férias'!$F$14),AND(G$29>='Mapa de férias'!$G$14,G$29<='Mapa de férias'!$H$14),AND(G$29>='Mapa de férias'!$I$14,G$29<='Mapa de férias'!$J$14))),"F","")) | H35: =IF(OR($B35="",H$29=""),"",IF(AND(NETWORKDAYS(H$29,H$29,'Feriados'!$F$7:$F$22)=1,OR(AND(H$29>='Mapa de férias'!$E$14,H$29<='Mapa de férias'!$F$14),AND(H$29>='Mapa de férias'!$G$14,H$29<='Mapa de férias'!$H$14),AND(H$29>='Mapa de férias'!$I$14,H$29<='Mapa de férias'!$J$14))),"F","")) | I35: =IF(OR($B35="",I$29=""),"",IF(AND(NETWORKDAYS(I$29,I$29,'Feriados'!$F$7:$F$22)=1,OR(AND(I$29>='Mapa de férias'!$E$14,I$29<='Mapa de férias'!$F$14),AND(I$29>='Mapa de férias'!$G$14,I$29<='Mapa de férias'!$H$14),AND(I$29>='Mapa de férias'!$I$14,I$29<='Mapa de férias'!$J$14))),"F","")) | J35: =IF(OR($B35="",J$29=""),"",IF(AND(NETWORKDAYS(J$29,J$29,'Feriados'!$F$7:$F$22)=1,OR(AND(J$29>='Mapa de férias'!$E$14,J$29<='Mapa de férias'!$F$14),AND(J$29>='Mapa de férias'!$G$14,J$29<='Mapa de férias'!$H$14),AND(J$29>='Mapa de férias'!$I$14,J$29<='Mapa de férias'!$J$14))),"F","")) | ... AG35: =IF(OR($B35="",AG$29=""),"",IF(AND(NETWORKDAYS(AG$29,AG$29,'Feriados'!$F$7:$F$22)=1,OR(AND(AG$29>='Mapa de férias'!$E$14,AG$29<='Mapa de férias'!$F$14),AND(AG$29>='Mapa de férias'!$G$14,AG$29<='Mapa de férias'!$H$14),AND(AG$29>='Mapa de férias'!$I$14,AG$29<='Mapa de férias'!$J$14))),"F","")) | AH35: =IF($B35="","",COUNTIF(C35:AG35,"F"))
A36: 6 | B36: =IF('Mapa de férias'!$B$15="","",'Mapa de férias'!$B$15) | C36: =IF(OR($B36="",C$29=""),"",IF(AND(NETWORKDAYS(C$29,C$29,'Feriados'!$F$7:$F$22)=1,OR(AND(C$29>='Mapa de férias'!$E$15,C$29<='Mapa de férias'!$F$15),AND(C$29>='Mapa de férias'!$G$15,C$29<='Mapa de férias'!$H$15),AND(C$29>='Mapa de férias'!$I$15,C$29<='Mapa de férias'!$J$15))),"F","")) | D36: =IF(OR($B36="",D$29=""),"",IF(AND(NETWORKDAYS(D$29,D$29,'Feriados'!$F$7:$F$22)=1,OR(AND(D$29>='Mapa de férias'!$E$15,D$29<='Mapa de férias'!$F$15),AND(D$29>='Mapa de férias'!$G$15,D$29<='Mapa de férias'!$H$15),AND(D$29>='Mapa de férias'!$I$15,D$29<='Mapa de férias'!$J$15))),"F","")) | E36: =IF(OR($B36="",E$29=""),"",IF(AND(NETWORKDAYS(E$29,E$29,'Feriados'!$F$7:$F$22)=1,OR(AND(E$29>='Mapa de férias'!$E$15,E$29<='Mapa de férias'!$F$15),AND(E$29>='Mapa de férias'!$G$15,E$29<='Mapa de férias'!$H$15),AND(E$29>='Mapa de férias'!$I$15,E$29<='Mapa de férias'!$J$15))),"F","")) | F36: =IF(OR($B36="",F$29=""),"",IF(AND(NETWORKDAYS(F$29,F$29,'Feriados'!$F$7:$F$22)=1,OR(AND(F$29>='Mapa de férias'!$E$15,F$29<='Mapa de férias'!$F$15),AND(F$29>='Mapa de férias'!$G$15,F$29<='Mapa de férias'!$H$15),AND(F$29>='Mapa de férias'!$I$15,F$29<='Mapa de férias'!$J$15))),"F","")) | G36: =IF(OR($B36="",G$29=""),"",IF(AND(NETWORKDAYS(G$29,G$29,'Feriados'!$F$7:$F$22)=1,OR(AND(G$29>='Mapa de férias'!$E$15,G$29<='Mapa de férias'!$F$15),AND(G$29>='Mapa de férias'!$G$15,G$29<='Mapa de férias'!$H$15),AND(G$29>='Mapa de férias'!$I$15,G$29<='Mapa de férias'!$J$15))),"F","")) | H36: =IF(OR($B36="",H$29=""),"",IF(AND(NETWORKDAYS(H$29,H$29,'Feriados'!$F$7:$F$22)=1,OR(AND(H$29>='Mapa de férias'!$E$15,H$29<='Mapa de férias'!$F$15),AND(H$29>='Mapa de férias'!$G$15,H$29<='Mapa de férias'!$H$15),AND(H$29>='Mapa de férias'!$I$15,H$29<='Mapa de férias'!$J$15))),"F","")) | I36: =IF(OR($B36="",I$29=""),"",IF(AND(NETWORKDAYS(I$29,I$29,'Feriados'!$F$7:$F$22)=1,OR(AND(I$29>='Mapa de férias'!$E$15,I$29<='Mapa de férias'!$F$15),AND(I$29>='Mapa de férias'!$G$15,I$29<='Mapa de férias'!$H$15),AND(I$29>='Mapa de férias'!$I$15,I$29<='Mapa de férias'!$J$15))),"F","")) | J36: =IF(OR($B36="",J$29=""),"",IF(AND(NETWORKDAYS(J$29,J$29,'Feriados'!$F$7:$F$22)=1,OR(AND(J$29>='Mapa de férias'!$E$15,J$29<='Mapa de férias'!$F$15),AND(J$29>='Mapa de férias'!$G$15,J$29<='Mapa de férias'!$H$15),AND(J$29>='Mapa de férias'!$I$15,J$29<='Mapa de férias'!$J$15))),"F","")) | ... AG36: =IF(OR($B36="",AG$29=""),"",IF(AND(NETWORKDAYS(AG$29,AG$29,'Feriados'!$F$7:$F$22)=1,OR(AND(AG$29>='Mapa de férias'!$E$15,AG$29<='Mapa de férias'!$F$15),AND(AG$29>='Mapa de férias'!$G$15,AG$29<='Mapa de férias'!$H$15),AND(AG$29>='Mapa de férias'!$I$15,AG$29<='Mapa de férias'!$J$15))),"F","")) | AH36: =IF($B36="","",COUNTIF(C36:AG36,"F"))
A37: 7 | B37: =IF('Mapa de férias'!$B$16="","",'Mapa de férias'!$B$16) | C37: =IF(OR($B37="",C$29=""),"",IF(AND(NETWORKDAYS(C$29,C$29,'Feriados'!$F$7:$F$22)=1,OR(AND(C$29>='Mapa de férias'!$E$16,C$29<='Mapa de férias'!$F$16),AND(C$29>='Mapa de férias'!$G$16,C$29<='Mapa de férias'!$H$16),AND(C$29>='Mapa de férias'!$I$16,C$29<='Mapa de férias'!$J$16))),"F","")) | D37: =IF(OR($B37="",D$29=""),"",IF(AND(NETWORKDAYS(D$29,D$29,'Feriados'!$F$7:$F$22)=1,OR(AND(D$29>='Mapa de férias'!$E$16,D$29<='Mapa de férias'!$F$16),AND(D$29>='Mapa de férias'!$G$16,D$29<='Mapa de férias'!$H$16),AND(D$29>='Mapa de férias'!$I$16,D$29<='Mapa de férias'!$J$16))),"F","")) | E37: =IF(OR($B37="",E$29=""),"",IF(AND(NETWORKDAYS(E$29,E$29,'Feriados'!$F$7:$F$22)=1,OR(AND(E$29>='Mapa de férias'!$E$16,E$29<='Mapa de férias'!$F$16),AND(E$29>='Mapa de férias'!$G$16,E$29<='Mapa de férias'!$H$16),AND(E$29>='Mapa de férias'!$I$16,E$29<='Mapa de férias'!$J$16))),"F","")) | F37: =IF(OR($B37="",F$29=""),"",IF(AND(NETWORKDAYS(F$29,F$29,'Feriados'!$F$7:$F$22)=1,OR(AND(F$29>='Mapa de férias'!$E$16,F$29<='Mapa de férias'!$F$16),AND(F$29>='Mapa de férias'!$G$16,F$29<='Mapa de férias'!$H$16),AND(F$29>='Mapa de férias'!$I$16,F$29<='Mapa de férias'!$J$16))),"F","")) | G37: =IF(OR($B37="",G$29=""),"",IF(AND(NETWORKDAYS(G$29,G$29,'Feriados'!$F$7:$F$22)=1,OR(AND(G$29>='Mapa de férias'!$E$16,G$29<='Mapa de férias'!$F$16),AND(G$29>='Mapa de férias'!$G$16,G$29<='Mapa de férias'!$H$16),AND(G$29>='Mapa de férias'!$I$16,G$29<='Mapa de férias'!$J$16))),"F","")) | H37: =IF(OR($B37="",H$29=""),"",IF(AND(NETWORKDAYS(H$29,H$29,'Feriados'!$F$7:$F$22)=1,OR(AND(H$29>='Mapa de férias'!$E$16,H$29<='Mapa de férias'!$F$16),AND(H$29>='Mapa de férias'!$G$16,H$29<='Mapa de férias'!$H$16),AND(H$29>='Mapa de férias'!$I$16,H$29<='Mapa de férias'!$J$16))),"F","")) | I37: =IF(OR($B37="",I$29=""),"",IF(AND(NETWORKDAYS(I$29,I$29,'Feriados'!$F$7:$F$22)=1,OR(AND(I$29>='Mapa de férias'!$E$16,I$29<='Mapa de férias'!$F$16),AND(I$29>='Mapa de férias'!$G$16,I$29<='Mapa de férias'!$H$16),AND(I$29>='Mapa de férias'!$I$16,I$29<='Mapa de férias'!$J$16))),"F","")) | J37: =IF(OR($B37="",J$29=""),"",IF(AND(NETWORKDAYS(J$29,J$29,'Feriados'!$F$7:$F$22)=1,OR(AND(J$29>='Mapa de férias'!$E$16,J$29<='Mapa de férias'!$F$16),AND(J$29>='Mapa de férias'!$G$16,J$29<='Mapa de férias'!$H$16),AND(J$29>='Mapa de férias'!$I$16,J$29<='Mapa de férias'!$J$16))),"F","")) | ... AG37: =IF(OR($B37="",AG$29=""),"",IF(AND(NETWORKDAYS(AG$29,AG$29,'Feriados'!$F$7:$F$22)=1,OR(AND(AG$29>='Mapa de férias'!$E$16,AG$29<='Mapa de férias'!$F$16),AND(AG$29>='Mapa de férias'!$G$16,AG$29<='Mapa de férias'!$H$16),AND(AG$29>='Mapa de férias'!$I$16,AG$29<='Mapa de férias'!$J$16))),"F","")) | AH37: =IF($B37="","",COUNTIF(C37:AG37,"F"))
A38: 8 | B38: =IF('Mapa de férias'!$B$17="","",'Mapa de férias'!$B$17) | C38: =IF(OR($B38="",C$29=""),"",IF(AND(NETWORKDAYS(C$29,C$29,'Feriados'!$F$7:$F$22)=1,OR(AND(C$29>='Mapa de férias'!$E$17,C$29<='Mapa de férias'!$F$17),AND(C$29>='Mapa de férias'!$G$17,C$29<='Mapa de férias'!$H$17),AND(C$29>='Mapa de férias'!$I$17,C$29<='Mapa de férias'!$J$17))),"F","")) | D38: =IF(OR($B38="",D$29=""),"",IF(AND(NETWORKDAYS(D$29,D$29,'Feriados'!$F$7:$F$22)=1,OR(AND(D$29>='Mapa de férias'!$E$17,D$29<='Mapa de férias'!$F$17),AND(D$29>='Mapa de férias'!$G$17,D$29<='Mapa de férias'!$H$17),AND(D$29>='Mapa de férias'!$I$17,D$29<='Mapa de férias'!$J$17))),"F","")) | E38: =IF(OR($B38="",E$29=""),"",IF(AND(NETWORKDAYS(E$29,E$29,'Feriados'!$F$7:$F$22)=1,OR(AND(E$29>='Mapa de férias'!$E$17,E$29<='Mapa de férias'!$F$17),AND(E$29>='Mapa de férias'!$G$17,E$29<='Mapa de férias'!$H$17),AND(E$29>='Mapa de férias'!$I$17,E$29<='Mapa de férias'!$J$17))),"F","")) | F38: =IF(OR($B38="",F$29=""),"",IF(AND(NETWORKDAYS(F$29,F$29,'Feriados'!$F$7:$F$22)=1,OR(AND(F$29>='Mapa de férias'!$E$17,F$29<='Mapa de férias'!$F$17),AND(F$29>='Mapa de férias'!$G$17,F$29<='Mapa de férias'!$H$17),AND(F$29>='Mapa de férias'!$I$17,F$29<='Mapa de férias'!$J$17))),"F","")) | G38: =IF(OR($B38="",G$29=""),"",IF(AND(NETWORKDAYS(G$29,G$29,'Feriados'!$F$7:$F$22)=1,OR(AND(G$29>='Mapa de férias'!$E$17,G$29<='Mapa de férias'!$F$17),AND(G$29>='Mapa de férias'!$G$17,G$29<='Mapa de férias'!$H$17),AND(G$29>='Mapa de férias'!$I$17,G$29<='Mapa de férias'!$J$17))),"F","")) | H38: =IF(OR($B38="",H$29=""),"",IF(AND(NETWORKDAYS(H$29,H$29,'Feriados'!$F$7:$F$22)=1,OR(AND(H$29>='Mapa de férias'!$E$17,H$29<='Mapa de férias'!$F$17),AND(H$29>='Mapa de férias'!$G$17,H$29<='Mapa de férias'!$H$17),AND(H$29>='Mapa de férias'!$I$17,H$29<='Mapa de férias'!$J$17))),"F","")) | I38: =IF(OR($B38="",I$29=""),"",IF(AND(NETWORKDAYS(I$29,I$29,'Feriados'!$F$7:$F$22)=1,OR(AND(I$29>='Mapa de férias'!$E$17,I$29<='Mapa de férias'!$F$17),AND(I$29>='Mapa de férias'!$G$17,I$29<='Mapa de férias'!$H$17),AND(I$29>='Mapa de férias'!$I$17,I$29<='Mapa de férias'!$J$17))),"F","")) | J38: =IF(OR($B38="",J$29=""),"",IF(AND(NETWORKDAYS(J$29,J$29,'Feriados'!$F$7:$F$22)=1,OR(AND(J$29>='Mapa de férias'!$E$17,J$29<='Mapa de férias'!$F$17),AND(J$29>='Mapa de férias'!$G$17,J$29<='Mapa de férias'!$H$17),AND(J$29>='Mapa de férias'!$I$17,J$29<='Mapa de férias'!$J$17))),"F","")) | ... AG38: =IF(OR($B38="",AG$29=""),"",IF(AND(NETWORKDAYS(AG$29,AG$29,'Feriados'!$F$7:$F$22)=1,OR(AND(AG$29>='Mapa de férias'!$E$17,AG$29<='Mapa de férias'!$F$17),AND(AG$29>='Mapa de férias'!$G$17,AG$29<='Mapa de férias'!$H$17),AND(AG$29>='Mapa de férias'!$I$17,AG$29<='Mapa de férias'!$J$17))),"F","")) | AH38: =IF($B38="","",COUNTIF(C38:AG38,"F"))
A39: 9 | B39: =IF('Mapa de férias'!$B$18="","",'Mapa de férias'!$B$18) | C39: =IF(OR($B39="",C$29=""),"",IF(AND(NETWORKDAYS(C$29,C$29,'Feriados'!$F$7:$F$22)=1,OR(AND(C$29>='Mapa de férias'!$E$18,C$29<='Mapa de férias'!$F$18),AND(C$29>='Mapa de férias'!$G$18,C$29<='Mapa de férias'!$H$18),AND(C$29>='Mapa de férias'!$I$18,C$29<='Mapa de férias'!$J$18))),"F","")) | D39: =IF(OR($B39="",D$29=""),"",IF(AND(NETWORKDAYS(D$29,D$29,'Feriados'!$F$7:$F$22)=1,OR(AND(D$29>='Mapa de férias'!$E$18,D$29<='Mapa de férias'!$F$18),AND(D$29>='Mapa de férias'!$G$18,D$29<='Mapa de férias'!$H$18),AND(D$29>='Mapa de férias'!$I$18,D$29<='Mapa de férias'!$J$18))),"F","")) | E39: =IF(OR($B39="",E$29=""),"",IF(AND(NETWORKDAYS(E$29,E$29,'Feriados'!$F$7:$F$22)=1,OR(AND(E$29>='Mapa de férias'!$E$18,E$29<='Mapa de férias'!$F$18),AND(E$29>='Mapa de férias'!$G$18,E$29<='Mapa de férias'!$H$18),AND(E$29>='Mapa de férias'!$I$18,E$29<='Mapa de férias'!$J$18))),"F","")) | F39: =IF(OR($B39="",F$29=""),"",IF(AND(NETWORKDAYS(F$29,F$29,'Feriados'!$F$7:$F$22)=1,OR(AND(F$29>='Mapa de férias'!$E$18,F$29<='Mapa de férias'!$F$18),AND(F$29>='Mapa de férias'!$G$18,F$29<='Mapa de férias'!$H$18),AND(F$29>='Mapa de férias'!$I$18,F$29<='Mapa de férias'!$J$18))),"F","")) | G39: =IF(OR($B39="",G$29=""),"",IF(AND(NETWORKDAYS(G$29,G$29,'Feriados'!$F$7:$F$22)=1,OR(AND(G$29>='Mapa de férias'!$E$18,G$29<='Mapa de férias'!$F$18),AND(G$29>='Mapa de férias'!$G$18,G$29<='Mapa de férias'!$H$18),AND(G$29>='Mapa de férias'!$I$18,G$29<='Mapa de férias'!$J$18))),"F","")) | H39: =IF(OR($B39="",H$29=""),"",IF(AND(NETWORKDAYS(H$29,H$29,'Feriados'!$F$7:$F$22)=1,OR(AND(H$29>='Mapa de férias'!$E$18,H$29<='Mapa de férias'!$F$18),AND(H$29>='Mapa de férias'!$G$18,H$29<='Mapa de férias'!$H$18),AND(H$29>='Mapa de férias'!$I$18,H$29<='Mapa de férias'!$J$18))),"F","")) | I39: =IF(OR($B39="",I$29=""),"",IF(AND(NETWORKDAYS(I$29,I$29,'Feriados'!$F$7:$F$22)=1,OR(AND(I$29>='Mapa de férias'!$E$18,I$29<='Mapa de férias'!$F$18),AND(I$29>='Mapa de férias'!$G$18,I$29<='Mapa de férias'!$H$18),AND(I$29>='Mapa de férias'!$I$18,I$29<='Mapa de férias'!$J$18))),"F","")) | J39: =IF(OR($B39="",J$29=""),"",IF(AND(NETWORKDAYS(J$29,J$29,'Feriados'!$F$7:$F$22)=1,OR(AND(J$29>='Mapa de férias'!$E$18,J$29<='Mapa de férias'!$F$18),AND(J$29>='Mapa de férias'!$G$18,J$29<='Mapa de férias'!$H$18),AND(J$29>='Mapa de férias'!$I$18,J$29<='Mapa de férias'!$J$18))),"F","")) | ... AG39: =IF(OR($B39="",AG$29=""),"",IF(AND(NETWORKDAYS(AG$29,AG$29,'Feriados'!$F$7:$F$22)=1,OR(AND(AG$29>='Mapa de férias'!$E$18,AG$29<='Mapa de férias'!$F$18),AND(AG$29>='Mapa de férias'!$G$18,AG$29<='Mapa de férias'!$H$18),AND(AG$29>='Mapa de férias'!$I$18,AG$29<='Mapa de férias'!$J$18))),"F","")) | AH39: =IF($B39="","",COUNTIF(C39:AG39,"F"))
A40: 10 | B40: =IF('Mapa de férias'!$B$19="","",'Mapa de férias'!$B$19) | C40: =IF(OR($B40="",C$29=""),"",IF(AND(NETWORKDAYS(C$29,C$29,'Feriados'!$F$7:$F$22)=1,OR(AND(C$29>='Mapa de férias'!$E$19,C$29<='Mapa de férias'!$F$19),AND(C$29>='Mapa de férias'!$G$19,C$29<='Mapa de férias'!$H$19),AND(C$29>='Mapa de férias'!$I$19,C$29<='Mapa de férias'!$J$19))),"F","")) | D40: =IF(OR($B40="",D$29=""),"",IF(AND(NETWORKDAYS(D$29,D$29,'Feriados'!$F$7:$F$22)=1,OR(AND(D$29>='Mapa de férias'!$E$19,D$29<='Mapa de férias'!$F$19),AND(D$29>='Mapa de férias'!$G$19,D$29<='Mapa de férias'!$H$19),AND(D$29>='Mapa de férias'!$I$19,D$29<='Mapa de férias'!$J$19))),"F","")) | E40: =IF(OR($B40="",E$29=""),"",IF(AND(NETWORKDAYS(E$29,E$29,'Feriados'!$F$7:$F$22)=1,OR(AND(E$29>='Mapa de férias'!$E$19,E$29<='Mapa de férias'!$F$19),AND(E$29>='Mapa de férias'!$G$19,E$29<='Mapa de férias'!$H$19),AND(E$29>='Mapa de férias'!$I$19,E$29<='Mapa de férias'!$J$19))),"F","")) | F40: =IF(OR($B40="",F$29=""),"",IF(AND(NETWORKDAYS(F$29,F$29,'Feriados'!$F$7:$F$22)=1,OR(AND(F$29>='Mapa de férias'!$E$19,F$29<='Mapa de férias'!$F$19),AND(F$29>='Mapa de férias'!$G$19,F$29<='Mapa de férias'!$H$19),AND(F$29>='Mapa de férias'!$I$19,F$29<='Mapa de férias'!$J$19))),"F","")) | G40: =IF(OR($B40="",G$29=""),"",IF(AND(NETWORKDAYS(G$29,G$29,'Feriados'!$F$7:$F$22)=1,OR(AND(G$29>='Mapa de férias'!$E$19,G$29<='Mapa de férias'!$F$19),AND(G$29>='Mapa de férias'!$G$19,G$29<='Mapa de férias'!$H$19),AND(G$29>='Mapa de férias'!$I$19,G$29<='Mapa de férias'!$J$19))),"F","")) | H40: =IF(OR($B40="",H$29=""),"",IF(AND(NETWORKDAYS(H$29,H$29,'Feriados'!$F$7:$F$22)=1,OR(AND(H$29>='Mapa de férias'!$E$19,H$29<='Mapa de férias'!$F$19),AND(H$29>='Mapa de férias'!$G$19,H$29<='Mapa de férias'!$H$19),AND(H$29>='Mapa de férias'!$I$19,H$29<='Mapa de férias'!$J$19))),"F","")) | I40: =IF(OR($B40="",I$29=""),"",IF(AND(NETWORKDAYS(I$29,I$29,'Feriados'!$F$7:$F$22)=1,OR(AND(I$29>='Mapa de férias'!$E$19,I$29<='Mapa de férias'!$F$19),AND(I$29>='Mapa de férias'!$G$19,I$29<='Mapa de férias'!$H$19),AND(I$29>='Mapa de férias'!$I$19,I$29<='Mapa de férias'!$J$19))),"F","")) | J40: =IF(OR($B40="",J$29=""),"",IF(AND(NETWORKDAYS(J$29,J$29,'Feriados'!$F$7:$F$22)=1,OR(AND(J$29>='Mapa de férias'!$E$19,J$29<='Mapa de férias'!$F$19),AND(J$29>='Mapa de férias'!$G$19,J$29<='Mapa de férias'!$H$19),AND(J$29>='Mapa de férias'!$I$19,J$29<='Mapa de férias'!$J$19))),"F","")) | ... AG40: =IF(OR($B40="",AG$29=""),"",IF(AND(NETWORKDAYS(AG$29,AG$29,'Feriados'!$F$7:$F$22)=1,OR(AND(AG$29>='Mapa de férias'!$E$19,AG$29<='Mapa de férias'!$F$19),AND(AG$29>='Mapa de férias'!$G$19,AG$29<='Mapa de férias'!$H$19),AND(AG$29>='Mapa de férias'!$I$19,AG$29<='Mapa de férias'!$J$19))),"F","")) | AH40: =IF($B40="","",COUNTIF(C40:AG40,"F"))
A41: 11 | B41: =IF('Mapa de férias'!$B$20="","",'Mapa de férias'!$B$20) | C41: =IF(OR($B41="",C$29=""),"",IF(AND(NETWORKDAYS(C$29,C$29,'Feriados'!$F$7:$F$22)=1,OR(AND(C$29>='Mapa de férias'!$E$20,C$29<='Mapa de férias'!$F$20),AND(C$29>='Mapa de férias'!$G$20,C$29<='Mapa de férias'!$H$20),AND(C$29>='Mapa de férias'!$I$20,C$29<='Mapa de férias'!$J$20))),"F","")) | D41: =IF(OR($B41="",D$29=""),"",IF(AND(NETWORKDAYS(D$29,D$29,'Feriados'!$F$7:$F$22)=1,OR(AND(D$29>='Mapa de férias'!$E$20,D$29<='Mapa de férias'!$F$20),AND(D$29>='Mapa de férias'!$G$20,D$29<='Mapa de férias'!$H$20),AND(D$29>='Mapa de férias'!$I$20,D$29<='Mapa de férias'!$J$20))),"F","")) | E41: =IF(OR($B41="",E$29=""),"",IF(AND(NETWORKDAYS(E$29,E$29,'Feriados'!$F$7:$F$22)=1,OR(AND(E$29>='Mapa de férias'!$E$20,E$29<='Mapa de férias'!$F$20),AND(E$29>='Mapa de férias'!$G$20,E$29<='Mapa de férias'!$H$20),AND(E$29>='Mapa de férias'!$I$20,E$29<='Mapa de férias'!$J$20))),"F","")) | F41: =IF(OR($B41="",F$29=""),"",IF(AND(NETWORKDAYS(F$29,F$29,'Feriados'!$F$7:$F$22)=1,OR(AND(F$29>='Mapa de férias'!$E$20,F$29<='Mapa de férias'!$F$20),AND(F$29>='Mapa de férias'!$G$20,F$29<='Mapa de férias'!$H$20),AND(F$29>='Mapa de férias'!$I$20,F$29<='Mapa de férias'!$J$20))),"F","")) | G41: =IF(OR($B41="",G$29=""),"",IF(AND(NETWORKDAYS(G$29,G$29,'Feriados'!$F$7:$F$22)=1,OR(AND(G$29>='Mapa de férias'!$E$20,G$29<='Mapa de férias'!$F$20),AND(G$29>='Mapa de férias'!$G$20,G$29<='Mapa de férias'!$H$20),AND(G$29>='Mapa de férias'!$I$20,G$29<='Mapa de férias'!$J$20))),"F","")) | H41: =IF(OR($B41="",H$29=""),"",IF(AND(NETWORKDAYS(H$29,H$29,'Feriados'!$F$7:$F$22)=1,OR(AND(H$29>='Mapa de férias'!$E$20,H$29<='Mapa de férias'!$F$20),AND(H$29>='Mapa de férias'!$G$20,H$29<='Mapa de férias'!$H$20),AND(H$29>='Mapa de férias'!$I$20,H$29<='Mapa de férias'!$J$20))),"F","")) | I41: =IF(OR($B41="",I$29=""),"",IF(AND(NETWORKDAYS(I$29,I$29,'Feriados'!$F$7:$F$22)=1,OR(AND(I$29>='Mapa de férias'!$E$20,I$29<='Mapa de férias'!$F$20),AND(I$29>='Mapa de férias'!$G$20,I$29<='Mapa de férias'!$H$20),AND(I$29>='Mapa de férias'!$I$20,I$29<='Mapa de férias'!$J$20))),"F","")) | J41: =IF(OR($B41="",J$29=""),"",IF(AND(NETWORKDAYS(J$29,J$29,'Feriados'!$F$7:$F$22)=1,OR(AND(J$29>='Mapa de férias'!$E$20,J$29<='Mapa de férias'!$F$20),AND(J$29>='Mapa de férias'!$G$20,J$29<='Mapa de férias'!$H$20),AND(J$29>='Mapa de férias'!$I$20,J$29<='Mapa de férias'!$J$20))),"F","")) | ... AG41: =IF(OR($B41="",AG$29=""),"",IF(AND(NETWORKDAYS(AG$29,AG$29,'Feriados'!$F$7:$F$22)=1,OR(AND(AG$29>='Mapa de férias'!$E$20,AG$29<='Mapa de férias'!$F$20),AND(AG$29>='Mapa de férias'!$G$20,AG$29<='Mapa de férias'!$H$20),AND(AG$29>='Mapa de férias'!$I$20,AG$29<='Mapa de férias'!$J$20))),"F","")) | AH41: =IF($B41="","",COUNTIF(C41:AG41,"F"))
A42: 12 | B42: =IF('Mapa de férias'!$B$21="","",'Mapa de férias'!$B$21) | C42: =IF(OR($B42="",C$29=""),"",IF(AND(NETWORKDAYS(C$29,C$29,'Feriados'!$F$7:$F$22)=1,OR(AND(C$29>='Mapa de férias'!$E$21,C$29<='Mapa de férias'!$F$21),AND(C$29>='Mapa de férias'!$G$21,C$29<='Mapa de férias'!$H$21),AND(C$29>='Mapa de férias'!$I$21,C$29<='Mapa de férias'!$J$21))),"F","")) | D42: =IF(OR($B42="",D$29=""),"",IF(AND(NETWORKDAYS(D$29,D$29,'Feriados'!$F$7:$F$22)=1,OR(AND(D$29>='Mapa de férias'!$E$21,D$29<='Mapa de férias'!$F$21),AND(D$29>='Mapa de férias'!$G$21,D$29<='Mapa de férias'!$H$21),AND(D$29>='Mapa de férias'!$I$21,D$29<='Mapa de férias'!$J$21))),"F","")) | E42: =IF(OR($B42="",E$29=""),"",IF(AND(NETWORKDAYS(E$29,E$29,'Feriados'!$F$7:$F$22)=1,OR(AND(E$29>='Mapa de férias'!$E$21,E$29<='Mapa de férias'!$F$21),AND(E$29>='Mapa de férias'!$G$21,E$29<='Mapa de férias'!$H$21),AND(E$29>='Mapa de férias'!$I$21,E$29<='Mapa de férias'!$J$21))),"F","")) | F42: =IF(OR($B42="",F$29=""),"",IF(AND(NETWORKDAYS(F$29,F$29,'Feriados'!$F$7:$F$22)=1,OR(AND(F$29>='Mapa de férias'!$E$21,F$29<='Mapa de férias'!$F$21),AND(F$29>='Mapa de férias'!$G$21,F$29<='Mapa de férias'!$H$21),AND(F$29>='Mapa de férias'!$I$21,F$29<='Mapa de férias'!$J$21))),"F","")) | G42: =IF(OR($B42="",G$29=""),"",IF(AND(NETWORKDAYS(G$29,G$29,'Feriados'!$F$7:$F$22)=1,OR(AND(G$29>='Mapa de férias'!$E$21,G$29<='Mapa de férias'!$F$21),AND(G$29>='Mapa de férias'!$G$21,G$29<='Mapa de férias'!$H$21),AND(G$29>='Mapa de férias'!$I$21,G$29<='Mapa de férias'!$J$21))),"F","")) | H42: =IF(OR($B42="",H$29=""),"",IF(AND(NETWORKDAYS(H$29,H$29,'Feriados'!$F$7:$F$22)=1,OR(AND(H$29>='Mapa de férias'!$E$21,H$29<='Mapa de férias'!$F$21),AND(H$29>='Mapa de férias'!$G$21,H$29<='Mapa de férias'!$H$21),AND(H$29>='Mapa de férias'!$I$21,H$29<='Mapa de férias'!$J$21))),"F","")) | I42: =IF(OR($B42="",I$29=""),"",IF(AND(NETWORKDAYS(I$29,I$29,'Feriados'!$F$7:$F$22)=1,OR(AND(I$29>='Mapa de férias'!$E$21,I$29<='Mapa de férias'!$F$21),AND(I$29>='Mapa de férias'!$G$21,I$29<='Mapa de férias'!$H$21),AND(I$29>='Mapa de férias'!$I$21,I$29<='Mapa de férias'!$J$21))),"F","")) | J42: =IF(OR($B42="",J$29=""),"",IF(AND(NETWORKDAYS(J$29,J$29,'Feriados'!$F$7:$F$22)=1,OR(AND(J$29>='Mapa de férias'!$E$21,J$29<='Mapa de férias'!$F$21),AND(J$29>='Mapa de férias'!$G$21,J$29<='Mapa de férias'!$H$21),AND(J$29>='Mapa de férias'!$I$21,J$29<='Mapa de férias'!$J$21))),"F","")) | ... AG42: =IF(OR($B42="",AG$29=""),"",IF(AND(NETWORKDAYS(AG$29,AG$29,'Feriados'!$F$7:$F$22)=1,OR(AND(AG$29>='Mapa de férias'!$E$21,AG$29<='Mapa de férias'!$F$21),AND(AG$29>='Mapa de férias'!$G$21,AG$29<='Mapa de férias'!$H$21),AND(AG$29>='Mapa de férias'!$I$21,AG$29<='Mapa de férias'!$J$21))),"F","")) | AH42: =IF($B42="","",COUNTIF(C42:AG42,"F"))
A43: 13 | B43: =IF('Mapa de férias'!$B$22="","",'Mapa de férias'!$B$22) | C43: =IF(OR($B43="",C$29=""),"",IF(AND(NETWORKDAYS(C$29,C$29,'Feriados'!$F$7:$F$22)=1,OR(AND(C$29>='Mapa de férias'!$E$22,C$29<='Mapa de férias'!$F$22),AND(C$29>='Mapa de férias'!$G$22,C$29<='Mapa de férias'!$H$22),AND(C$29>='Mapa de férias'!$I$22,C$29<='Mapa de férias'!$J$22))),"F","")) | D43: =IF(OR($B43="",D$29=""),"",IF(AND(NETWORKDAYS(D$29,D$29,'Feriados'!$F$7:$F$22)=1,OR(AND(D$29>='Mapa de férias'!$E$22,D$29<='Mapa de férias'!$F$22),AND(D$29>='Mapa de férias'!$G$22,D$29<='Mapa de férias'!$H$22),AND(D$29>='Mapa de férias'!$I$22,D$29<='Mapa de férias'!$J$22))),"F","")) | E43: =IF(OR($B43="",E$29=""),"",IF(AND(NETWORKDAYS(E$29,E$29,'Feriados'!$F$7:$F$22)=1,OR(AND(E$29>='Mapa de férias'!$E$22,E$29<='Mapa de férias'!$F$22),AND(E$29>='Mapa de férias'!$G$22,E$29<='Mapa de férias'!$H$22),AND(E$29>='Mapa de férias'!$I$22,E$29<='Mapa de férias'!$J$22))),"F","")) | F43: =IF(OR($B43="",F$29=""),"",IF(AND(NETWORKDAYS(F$29,F$29,'Feriados'!$F$7:$F$22)=1,OR(AND(F$29>='Mapa de férias'!$E$22,F$29<='Mapa de férias'!$F$22),AND(F$29>='Mapa de férias'!$G$22,F$29<='Mapa de férias'!$H$22),AND(F$29>='Mapa de férias'!$I$22,F$29<='Mapa de férias'!$J$22))),"F","")) | G43: =IF(OR($B43="",G$29=""),"",IF(AND(NETWORKDAYS(G$29,G$29,'Feriados'!$F$7:$F$22)=1,OR(AND(G$29>='Mapa de férias'!$E$22,G$29<='Mapa de férias'!$F$22),AND(G$29>='Mapa de férias'!$G$22,G$29<='Mapa de férias'!$H$22),AND(G$29>='Mapa de férias'!$I$22,G$29<='Mapa de férias'!$J$22))),"F","")) | H43: =IF(OR($B43="",H$29=""),"",IF(AND(NETWORKDAYS(H$29,H$29,'Feriados'!$F$7:$F$22)=1,OR(AND(H$29>='Mapa de férias'!$E$22,H$29<='Mapa de férias'!$F$22),AND(H$29>='Mapa de férias'!$G$22,H$29<='Mapa de férias'!$H$22),AND(H$29>='Mapa de férias'!$I$22,H$29<='Mapa de férias'!$J$22))),"F","")) | I43: =IF(OR($B43="",I$29=""),"",IF(AND(NETWORKDAYS(I$29,I$29,'Feriados'!$F$7:$F$22)=1,OR(AND(I$29>='Mapa de férias'!$E$22,I$29<='Mapa de férias'!$F$22),AND(I$29>='Mapa de férias'!$G$22,I$29<='Mapa de férias'!$H$22),AND(I$29>='Mapa de férias'!$I$22,I$29<='Mapa de férias'!$J$22))),"F","")) | J43: =IF(OR($B43="",J$29=""),"",IF(AND(NETWORKDAYS(J$29,J$29,'Feriados'!$F$7:$F$22)=1,OR(AND(J$29>='Mapa de férias'!$E$22,J$29<='Mapa de férias'!$F$22),AND(J$29>='Mapa de férias'!$G$22,J$29<='Mapa de férias'!$H$22),AND(J$29>='Mapa de férias'!$I$22,J$29<='Mapa de férias'!$J$22))),"F","")) | ... AG43: =IF(OR($B43="",AG$29=""),"",IF(AND(NETWORKDAYS(AG$29,AG$29,'Feriados'!$F$7:$F$22)=1,OR(AND(AG$29>='Mapa de férias'!$E$22,AG$29<='Mapa de férias'!$F$22),AND(AG$29>='Mapa de férias'!$G$22,AG$29<='Mapa de férias'!$H$22),AND(AG$29>='Mapa de férias'!$I$22,AG$29<='Mapa de férias'!$J$22))),"F","")) | AH43: =IF($B43="","",COUNTIF(C43:AG43,"F"))
A44: 14 | B44: =IF('Mapa de férias'!$B$23="","",'Mapa de férias'!$B$23) | C44: =IF(OR($B44="",C$29=""),"",IF(AND(NETWORKDAYS(C$29,C$29,'Feriados'!$F$7:$F$22)=1,OR(AND(C$29>='Mapa de férias'!$E$23,C$29<='Mapa de férias'!$F$23),AND(C$29>='Mapa de férias'!$G$23,C$29<='Mapa de férias'!$H$23),AND(C$29>='Mapa de férias'!$I$23,C$29<='Mapa de férias'!$J$23))),"F","")) | D44: =IF(OR($B44="",D$29=""),"",IF(AND(NETWORKDAYS(D$29,D$29,'Feriados'!$F$7:$F$22)=1,OR(AND(D$29>='Mapa de férias'!$E$23,D$29<='Mapa de férias'!$F$23),AND(D$29>='Mapa de férias'!$G$23,D$29<='Mapa de férias'!$H$23),AND(D$29>='Mapa de férias'!$I$23,D$29<='Mapa de férias'!$J$23))),"F","")) | E44: =IF(OR($B44="",E$29=""),"",IF(AND(NETWORKDAYS(E$29,E$29,'Feriados'!$F$7:$F$22)=1,OR(AND(E$29>='Mapa de férias'!$E$23,E$29<='Mapa de férias'!$F$23),AND(E$29>='Mapa de férias'!$G$23,E$29<='Mapa de férias'!$H$23),AND(E$29>='Mapa de férias'!$I$23,E$29<='Mapa de férias'!$J$23))),"F","")) | F44: =IF(OR($B44="",F$29=""),"",IF(AND(NETWORKDAYS(F$29,F$29,'Feriados'!$F$7:$F$22)=1,OR(AND(F$29>='Mapa de férias'!$E$23,F$29<='Mapa de férias'!$F$23),AND(F$29>='Mapa de férias'!$G$23,F$29<='Mapa de férias'!$H$23),AND(F$29>='Mapa de férias'!$I$23,F$29<='Mapa de férias'!$J$23))),"F","")) | G44: =IF(OR($B44="",G$29=""),"",IF(AND(NETWORKDAYS(G$29,G$29,'Feriados'!$F$7:$F$22)=1,OR(AND(G$29>='Mapa de férias'!$E$23,G$29<='Mapa de férias'!$F$23),AND(G$29>='Mapa de férias'!$G$23,G$29<='Mapa de férias'!$H$23),AND(G$29>='Mapa de férias'!$I$23,G$29<='Mapa de férias'!$J$23))),"F","")) | H44: =IF(OR($B44="",H$29=""),"",IF(AND(NETWORKDAYS(H$29,H$29,'Feriados'!$F$7:$F$22)=1,OR(AND(H$29>='Mapa de férias'!$E$23,H$29<='Mapa de férias'!$F$23),AND(H$29>='Mapa de férias'!$G$23,H$29<='Mapa de férias'!$H$23),AND(H$29>='Mapa de férias'!$I$23,H$29<='Mapa de férias'!$J$23))),"F","")) | I44: =IF(OR($B44="",I$29=""),"",IF(AND(NETWORKDAYS(I$29,I$29,'Feriados'!$F$7:$F$22)=1,OR(AND(I$29>='Mapa de férias'!$E$23,I$29<='Mapa de férias'!$F$23),AND(I$29>='Mapa de férias'!$G$23,I$29<='Mapa de férias'!$H$23),AND(I$29>='Mapa de férias'!$I$23,I$29<='Mapa de férias'!$J$23))),"F","")) | J44: =IF(OR($B44="",J$29=""),"",IF(AND(NETWORKDAYS(J$29,J$29,'Feriados'!$F$7:$F$22)=1,OR(AND(J$29>='Mapa de férias'!$E$23,J$29<='Mapa de férias'!$F$23),AND(J$29>='Mapa de férias'!$G$23,J$29<='Mapa de férias'!$H$23),AND(J$29>='Mapa de férias'!$I$23,J$29<='Mapa de férias'!$J$23))),"F","")) | ... AG44: =IF(OR($B44="",AG$29=""),"",IF(AND(NETWORKDAYS(AG$29,AG$29,'Feriados'!$F$7:$F$22)=1,OR(AND(AG$29>='Mapa de férias'!$E$23,AG$29<='Mapa de férias'!$F$23),AND(AG$29>='Mapa de férias'!$G$23,AG$29<='Mapa de férias'!$H$23),AND(AG$29>='Mapa de férias'!$I$23,AG$29<='Mapa de férias'!$J$23))),"F","")) | AH44: =IF($B44="","",COUNTIF(C44:AG44,"F"))
A45: 15 | B45: =IF('Mapa de férias'!$B$24="","",'Mapa de férias'!$B$24) | C45: =IF(OR($B45="",C$29=""),"",IF(AND(NETWORKDAYS(C$29,C$29,'Feriados'!$F$7:$F$22)=1,OR(AND(C$29>='Mapa de férias'!$E$24,C$29<='Mapa de férias'!$F$24),AND(C$29>='Mapa de férias'!$G$24,C$29<='Mapa de férias'!$H$24),AND(C$29>='Mapa de férias'!$I$24,C$29<='Mapa de férias'!$J$24))),"F","")) | D45: =IF(OR($B45="",D$29=""),"",IF(AND(NETWORKDAYS(D$29,D$29,'Feriados'!$F$7:$F$22)=1,OR(AND(D$29>='Mapa de férias'!$E$24,D$29<='Mapa de férias'!$F$24),AND(D$29>='Mapa de férias'!$G$24,D$29<='Mapa de férias'!$H$24),AND(D$29>='Mapa de férias'!$I$24,D$29<='Mapa de férias'!$J$24))),"F","")) | E45: =IF(OR($B45="",E$29=""),"",IF(AND(NETWORKDAYS(E$29,E$29,'Feriados'!$F$7:$F$22)=1,OR(AND(E$29>='Mapa de férias'!$E$24,E$29<='Mapa de férias'!$F$24),AND(E$29>='Mapa de férias'!$G$24,E$29<='Mapa de férias'!$H$24),AND(E$29>='Mapa de férias'!$I$24,E$29<='Mapa de férias'!$J$24))),"F","")) | F45: =IF(OR($B45="",F$29=""),"",IF(AND(NETWORKDAYS(F$29,F$29,'Feriados'!$F$7:$F$22)=1,OR(AND(F$29>='Mapa de férias'!$E$24,F$29<='Mapa de férias'!$F$24),AND(F$29>='Mapa de férias'!$G$24,F$29<='Mapa de férias'!$H$24),AND(F$29>='Mapa de férias'!$I$24,F$29<='Mapa de férias'!$J$24))),"F","")) | G45: =IF(OR($B45="",G$29=""),"",IF(AND(NETWORKDAYS(G$29,G$29,'Feriados'!$F$7:$F$22)=1,OR(AND(G$29>='Mapa de férias'!$E$24,G$29<='Mapa de férias'!$F$24),AND(G$29>='Mapa de férias'!$G$24,G$29<='Mapa de férias'!$H$24),AND(G$29>='Mapa de férias'!$I$24,G$29<='Mapa de férias'!$J$24))),"F","")) | H45: =IF(OR($B45="",H$29=""),"",IF(AND(NETWORKDAYS(H$29,H$29,'Feriados'!$F$7:$F$22)=1,OR(AND(H$29>='Mapa de férias'!$E$24,H$29<='Mapa de férias'!$F$24),AND(H$29>='Mapa de férias'!$G$24,H$29<='Mapa de férias'!$H$24),AND(H$29>='Mapa de férias'!$I$24,H$29<='Mapa de férias'!$J$24))),"F","")) | I45: =IF(OR($B45="",I$29=""),"",IF(AND(NETWORKDAYS(I$29,I$29,'Feriados'!$F$7:$F$22)=1,OR(AND(I$29>='Mapa de férias'!$E$24,I$29<='Mapa de férias'!$F$24),AND(I$29>='Mapa de férias'!$G$24,I$29<='Mapa de férias'!$H$24),AND(I$29>='Mapa de férias'!$I$24,I$29<='Mapa de férias'!$J$24))),"F","")) | J45: =IF(OR($B45="",J$29=""),"",IF(AND(NETWORKDAYS(J$29,J$29,'Feriados'!$F$7:$F$22)=1,OR(AND(J$29>='Mapa de férias'!$E$24,J$29<='Mapa de férias'!$F$24),AND(J$29>='Mapa de férias'!$G$24,J$29<='Mapa de férias'!$H$24),AND(J$29>='Mapa de férias'!$I$24,J$29<='Mapa de férias'!$J$24))),"F","")) | ... AG45: =IF(OR($B45="",AG$29=""),"",IF(AND(NETWORKDAYS(AG$29,AG$29,'Feriados'!$F$7:$F$22)=1,OR(AND(AG$29>='Mapa de férias'!$E$24,AG$29<='Mapa de férias'!$F$24),AND(AG$29>='Mapa de férias'!$G$24,AG$29<='Mapa de férias'!$H$24),AND(AG$29>='Mapa de férias'!$I$24,AG$29<='Mapa de férias'!$J$24))),"F","")) | AH45: =IF($B45="","",COUNTIF(C45:AG45,"F"))
A46: 16 | B46: =IF('Mapa de férias'!$B$25="","",'Mapa de férias'!$B$25) | C46: =IF(OR($B46="",C$29=""),"",IF(AND(NETWORKDAYS(C$29,C$29,'Feriados'!$F$7:$F$22)=1,OR(AND(C$29>='Mapa de férias'!$E$25,C$29<='Mapa de férias'!$F$25),AND(C$29>='Mapa de férias'!$G$25,C$29<='Mapa de férias'!$H$25),AND(C$29>='Mapa de férias'!$I$25,C$29<='Mapa de férias'!$J$25))),"F","")) | D46: =IF(OR($B46="",D$29=""),"",IF(AND(NETWORKDAYS(D$29,D$29,'Feriados'!$F$7:$F$22)=1,OR(AND(D$29>='Mapa de férias'!$E$25,D$29<='Mapa de férias'!$F$25),AND(D$29>='Mapa de férias'!$G$25,D$29<='Mapa de férias'!$H$25),AND(D$29>='Mapa de férias'!$I$25,D$29<='Mapa de férias'!$J$25))),"F","")) | E46: =IF(OR($B46="",E$29=""),"",IF(AND(NETWORKDAYS(E$29,E$29,'Feriados'!$F$7:$F$22)=1,OR(AND(E$29>='Mapa de férias'!$E$25,E$29<='Mapa de férias'!$F$25),AND(E$29>='Mapa de férias'!$G$25,E$29<='Mapa de férias'!$H$25),AND(E$29>='Mapa de férias'!$I$25,E$29<='Mapa de férias'!$J$25))),"F","")) | F46: =IF(OR($B46="",F$29=""),"",IF(AND(NETWORKDAYS(F$29,F$29,'Feriados'!$F$7:$F$22)=1,OR(AND(F$29>='Mapa de férias'!$E$25,F$29<='Mapa de férias'!$F$25),AND(F$29>='Mapa de férias'!$G$25,F$29<='Mapa de férias'!$H$25),AND(F$29>='Mapa de férias'!$I$25,F$29<='Mapa de férias'!$J$25))),"F","")) | G46: =IF(OR($B46="",G$29=""),"",IF(AND(NETWORKDAYS(G$29,G$29,'Feriados'!$F$7:$F$22)=1,OR(AND(G$29>='Mapa de férias'!$E$25,G$29<='Mapa de férias'!$F$25),AND(G$29>='Mapa de férias'!$G$25,G$29<='Mapa de férias'!$H$25),AND(G$29>='Mapa de férias'!$I$25,G$29<='Mapa de férias'!$J$25))),"F","")) | H46: =IF(OR($B46="",H$29=""),"",IF(AND(NETWORKDAYS(H$29,H$29,'Feriados'!$F$7:$F$22)=1,OR(AND(H$29>='Mapa de férias'!$E$25,H$29<='Mapa de férias'!$F$25),AND(H$29>='Mapa de férias'!$G$25,H$29<='Mapa de férias'!$H$25),AND(H$29>='Mapa de férias'!$I$25,H$29<='Mapa de férias'!$J$25))),"F","")) | I46: =IF(OR($B46="",I$29=""),"",IF(AND(NETWORKDAYS(I$29,I$29,'Feriados'!$F$7:$F$22)=1,OR(AND(I$29>='Mapa de férias'!$E$25,I$29<='Mapa de férias'!$F$25),AND(I$29>='Mapa de férias'!$G$25,I$29<='Mapa de férias'!$H$25),AND(I$29>='Mapa de férias'!$I$25,I$29<='Mapa de férias'!$J$25))),"F","")) | J46: =IF(OR($B46="",J$29=""),"",IF(AND(NETWORKDAYS(J$29,J$29,'Feriados'!$F$7:$F$22)=1,OR(AND(J$29>='Mapa de férias'!$E$25,J$29<='Mapa de férias'!$F$25),AND(J$29>='Mapa de férias'!$G$25,J$29<='Mapa de férias'!$H$25),AND(J$29>='Mapa de férias'!$I$25,J$29<='Mapa de férias'!$J$25))),"F","")) | ... AG46: =IF(OR($B46="",AG$29=""),"",IF(AND(NETWORKDAYS(AG$29,AG$29,'Feriados'!$F$7:$F$22)=1,OR(AND(AG$29>='Mapa de férias'!$E$25,AG$29<='Mapa de férias'!$F$25),AND(AG$29>='Mapa de férias'!$G$25,AG$29<='Mapa de férias'!$H$25),AND(AG$29>='Mapa de férias'!$I$25,AG$29<='Mapa de férias'!$J$25))),"F","")) | AH46: =IF($B46="","",COUNTIF(C46:AG46,"F"))
A47: 17 | B47: =IF('Mapa de férias'!$B$26="","",'Mapa de férias'!$B$26) | C47: =IF(OR($B47="",C$29=""),"",IF(AND(NETWORKDAYS(C$29,C$29,'Feriados'!$F$7:$F$22)=1,OR(AND(C$29>='Mapa de férias'!$E$26,C$29<='Mapa de férias'!$F$26),AND(C$29>='Mapa de férias'!$G$26,C$29<='Mapa de férias'!$H$26),AND(C$29>='Mapa de férias'!$I$26,C$29<='Mapa de férias'!$J$26))),"F","")) | D47: =IF(OR($B47="",D$29=""),"",IF(AND(NETWORKDAYS(D$29,D$29,'Feriados'!$F$7:$F$22)=1,OR(AND(D$29>='Mapa de férias'!$E$26,D$29<='Mapa de férias'!$F$26),AND(D$29>='Mapa de férias'!$G$26,D$29<='Mapa de férias'!$H$26),AND(D$29>='Mapa de férias'!$I$26,D$29<='Mapa de férias'!$J$26))),"F","")) | E47: =IF(OR($B47="",E$29=""),"",IF(AND(NETWORKDAYS(E$29,E$29,'Feriados'!$F$7:$F$22)=1,OR(AND(E$29>='Mapa de férias'!$E$26,E$29<='Mapa de férias'!$F$26),AND(E$29>='Mapa de férias'!$G$26,E$29<='Mapa de férias'!$H$26),AND(E$29>='Mapa de férias'!$I$26,E$29<='Mapa de férias'!$J$26))),"F","")) | F47: =IF(OR($B47="",F$29=""),"",IF(AND(NETWORKDAYS(F$29,F$29,'Feriados'!$F$7:$F$22)=1,OR(AND(F$29>='Mapa de férias'!$E$26,F$29<='Mapa de férias'!$F$26),AND(F$29>='Mapa de férias'!$G$26,F$29<='Mapa de férias'!$H$26),AND(F$29>='Mapa de férias'!$I$26,F$29<='Mapa de férias'!$J$26))),"F","")) | G47: =IF(OR($B47="",G$29=""),"",IF(AND(NETWORKDAYS(G$29,G$29,'Feriados'!$F$7:$F$22)=1,OR(AND(G$29>='Mapa de férias'!$E$26,G$29<='Mapa de férias'!$F$26),AND(G$29>='Mapa de férias'!$G$26,G$29<='Mapa de férias'!$H$26),AND(G$29>='Mapa de férias'!$I$26,G$29<='Mapa de férias'!$J$26))),"F","")) | H47: =IF(OR($B47="",H$29=""),"",IF(AND(NETWORKDAYS(H$29,H$29,'Feriados'!$F$7:$F$22)=1,OR(AND(H$29>='Mapa de férias'!$E$26,H$29<='Mapa de férias'!$F$26),AND(H$29>='Mapa de férias'!$G$26,H$29<='Mapa de férias'!$H$26),AND(H$29>='Mapa de férias'!$I$26,H$29<='Mapa de férias'!$J$26))),"F","")) | I47: =IF(OR($B47="",I$29=""),"",IF(AND(NETWORKDAYS(I$29,I$29,'Feriados'!$F$7:$F$22)=1,OR(AND(I$29>='Mapa de férias'!$E$26,I$29<='Mapa de férias'!$F$26),AND(I$29>='Mapa de férias'!$G$26,I$29<='Mapa de férias'!$H$26),AND(I$29>='Mapa de férias'!$I$26,I$29<='Mapa de férias'!$J$26))),"F","")) | J47: =IF(OR($B47="",J$29=""),"",IF(AND(NETWORKDAYS(J$29,J$29,'Feriados'!$F$7:$F$22)=1,OR(AND(J$29>='Mapa de férias'!$E$26,J$29<='Mapa de férias'!$F$26),AND(J$29>='Mapa de férias'!$G$26,J$29<='Mapa de férias'!$H$26),AND(J$29>='Mapa de férias'!$I$26,J$29<='Mapa de férias'!$J$26))),"F","")) | ... AG47: =IF(OR($B47="",AG$29=""),"",IF(AND(NETWORKDAYS(AG$29,AG$29,'Feriados'!$F$7:$F$22)=1,OR(AND(AG$29>='Mapa de férias'!$E$26,AG$29<='Mapa de férias'!$F$26),AND(AG$29>='Mapa de férias'!$G$26,AG$29<='Mapa de férias'!$H$26),AND(AG$29>='Mapa de férias'!$I$26,AG$29<='Mapa de férias'!$J$26))),"F","")) | AH47: =IF($B47="","",COUNTIF(C47:AG47,"F"))
A48: 18 | B48: =IF('Mapa de férias'!$B$27="","",'Mapa de férias'!$B$27) | C48: =IF(OR($B48="",C$29=""),"",IF(AND(NETWORKDAYS(C$29,C$29,'Feriados'!$F$7:$F$22)=1,OR(AND(C$29>='Mapa de férias'!$E$27,C$29<='Mapa de férias'!$F$27),AND(C$29>='Mapa de férias'!$G$27,C$29<='Mapa de férias'!$H$27),AND(C$29>='Mapa de férias'!$I$27,C$29<='Mapa de férias'!$J$27))),"F","")) | D48: =IF(OR($B48="",D$29=""),"",IF(AND(NETWORKDAYS(D$29,D$29,'Feriados'!$F$7:$F$22)=1,OR(AND(D$29>='Mapa de férias'!$E$27,D$29<='Mapa de férias'!$F$27),AND(D$29>='Mapa de férias'!$G$27,D$29<='Mapa de férias'!$H$27),AND(D$29>='Mapa de férias'!$I$27,D$29<='Mapa de férias'!$J$27))),"F","")) | E48: =IF(OR($B48="",E$29=""),"",IF(AND(NETWORKDAYS(E$29,E$29,'Feriados'!$F$7:$F$22)=1,OR(AND(E$29>='Mapa de férias'!$E$27,E$29<='Mapa de férias'!$F$27),AND(E$29>='Mapa de férias'!$G$27,E$29<='Mapa de férias'!$H$27),AND(E$29>='Mapa de férias'!$I$27,E$29<='Mapa de férias'!$J$27))),"F","")) | F48: =IF(OR($B48="",F$29=""),"",IF(AND(NETWORKDAYS(F$29,F$29,'Feriados'!$F$7:$F$22)=1,OR(AND(F$29>='Mapa de férias'!$E$27,F$29<='Mapa de férias'!$F$27),AND(F$29>='Mapa de férias'!$G$27,F$29<='Mapa de férias'!$H$27),AND(F$29>='Mapa de férias'!$I$27,F$29<='Mapa de férias'!$J$27))),"F","")) | G48: =IF(OR($B48="",G$29=""),"",IF(AND(NETWORKDAYS(G$29,G$29,'Feriados'!$F$7:$F$22)=1,OR(AND(G$29>='Mapa de férias'!$E$27,G$29<='Mapa de férias'!$F$27),AND(G$29>='Mapa de férias'!$G$27,G$29<='Mapa de férias'!$H$27),AND(G$29>='Mapa de férias'!$I$27,G$29<='Mapa de férias'!$J$27))),"F","")) | H48: =IF(OR($B48="",H$29=""),"",IF(AND(NETWORKDAYS(H$29,H$29,'Feriados'!$F$7:$F$22)=1,OR(AND(H$29>='Mapa de férias'!$E$27,H$29<='Mapa de férias'!$F$27),AND(H$29>='Mapa de férias'!$G$27,H$29<='Mapa de férias'!$H$27),AND(H$29>='Mapa de férias'!$I$27,H$29<='Mapa de férias'!$J$27))),"F","")) | I48: =IF(OR($B48="",I$29=""),"",IF(AND(NETWORKDAYS(I$29,I$29,'Feriados'!$F$7:$F$22)=1,OR(AND(I$29>='Mapa de férias'!$E$27,I$29<='Mapa de férias'!$F$27),AND(I$29>='Mapa de férias'!$G$27,I$29<='Mapa de férias'!$H$27),AND(I$29>='Mapa de férias'!$I$27,I$29<='Mapa de férias'!$J$27))),"F","")) | J48: =IF(OR($B48="",J$29=""),"",IF(AND(NETWORKDAYS(J$29,J$29,'Feriados'!$F$7:$F$22)=1,OR(AND(J$29>='Mapa de férias'!$E$27,J$29<='Mapa de férias'!$F$27),AND(J$29>='Mapa de férias'!$G$27,J$29<='Mapa de férias'!$H$27),AND(J$29>='Mapa de férias'!$I$27,J$29<='Mapa de férias'!$J$27))),"F","")) | ... AG48: =IF(OR($B48="",AG$29=""),"",IF(AND(NETWORKDAYS(AG$29,AG$29,'Feriados'!$F$7:$F$22)=1,OR(AND(AG$29>='Mapa de férias'!$E$27,AG$29<='Mapa de férias'!$F$27),AND(AG$29>='Mapa de férias'!$G$27,AG$29<='Mapa de férias'!$H$27),AND(AG$29>='Mapa de férias'!$I$27,AG$29<='Mapa de férias'!$J$27))),"F","")) | AH48: =IF($B48="","",COUNTIF(C48:AG48,"F"))
A49: 19 | B49: =IF('Mapa de férias'!$B$28="","",'Mapa de férias'!$B$28) | C49: =IF(OR($B49="",C$29=""),"",IF(AND(NETWORKDAYS(C$29,C$29,'Feriados'!$F$7:$F$22)=1,OR(AND(C$29>='Mapa de férias'!$E$28,C$29<='Mapa de férias'!$F$28),AND(C$29>='Mapa de férias'!$G$28,C$29<='Mapa de férias'!$H$28),AND(C$29>='Mapa de férias'!$I$28,C$29<='Mapa de férias'!$J$28))),"F","")) | D49: =IF(OR($B49="",D$29=""),"",IF(AND(NETWORKDAYS(D$29,D$29,'Feriados'!$F$7:$F$22)=1,OR(AND(D$29>='Mapa de férias'!$E$28,D$29<='Mapa de férias'!$F$28),AND(D$29>='Mapa de férias'!$G$28,D$29<='Mapa de férias'!$H$28),AND(D$29>='Mapa de férias'!$I$28,D$29<='Mapa de férias'!$J$28))),"F","")) | E49: =IF(OR($B49="",E$29=""),"",IF(AND(NETWORKDAYS(E$29,E$29,'Feriados'!$F$7:$F$22)=1,OR(AND(E$29>='Mapa de férias'!$E$28,E$29<='Mapa de férias'!$F$28),AND(E$29>='Mapa de férias'!$G$28,E$29<='Mapa de férias'!$H$28),AND(E$29>='Mapa de férias'!$I$28,E$29<='Mapa de férias'!$J$28))),"F","")) | F49: =IF(OR($B49="",F$29=""),"",IF(AND(NETWORKDAYS(F$29,F$29,'Feriados'!$F$7:$F$22)=1,OR(AND(F$29>='Mapa de férias'!$E$28,F$29<='Mapa de férias'!$F$28),AND(F$29>='Mapa de férias'!$G$28,F$29<='Mapa de férias'!$H$28),AND(F$29>='Mapa de férias'!$I$28,F$29<='Mapa de férias'!$J$28))),"F","")) | G49: =IF(OR($B49="",G$29=""),"",IF(AND(NETWORKDAYS(G$29,G$29,'Feriados'!$F$7:$F$22)=1,OR(AND(G$29>='Mapa de férias'!$E$28,G$29<='Mapa de férias'!$F$28),AND(G$29>='Mapa de férias'!$G$28,G$29<='Mapa de férias'!$H$28),AND(G$29>='Mapa de férias'!$I$28,G$29<='Mapa de férias'!$J$28))),"F","")) | H49: =IF(OR($B49="",H$29=""),"",IF(AND(NETWORKDAYS(H$29,H$29,'Feriados'!$F$7:$F$22)=1,OR(AND(H$29>='Mapa de férias'!$E$28,H$29<='Mapa de férias'!$F$28),AND(H$29>='Mapa de férias'!$G$28,H$29<='Mapa de férias'!$H$28),AND(H$29>='Mapa de férias'!$I$28,H$29<='Mapa de férias'!$J$28))),"F","")) | I49: =IF(OR($B49="",I$29=""),"",IF(AND(NETWORKDAYS(I$29,I$29,'Feriados'!$F$7:$F$22)=1,OR(AND(I$29>='Mapa de férias'!$E$28,I$29<='Mapa de férias'!$F$28),AND(I$29>='Mapa de férias'!$G$28,I$29<='Mapa de férias'!$H$28),AND(I$29>='Mapa de férias'!$I$28,I$29<='Mapa de férias'!$J$28))),"F","")) | J49: =IF(OR($B49="",J$29=""),"",IF(AND(NETWORKDAYS(J$29,J$29,'Feriados'!$F$7:$F$22)=1,OR(AND(J$29>='Mapa de férias'!$E$28,J$29<='Mapa de férias'!$F$28),AND(J$29>='Mapa de férias'!$G$28,J$29<='Mapa de férias'!$H$28),AND(J$29>='Mapa de férias'!$I$28,J$29<='Mapa de férias'!$J$28))),"F","")) | ... AG49: =IF(OR($B49="",AG$29=""),"",IF(AND(NETWORKDAYS(AG$29,AG$29,'Feriados'!$F$7:$F$22)=1,OR(AND(AG$29>='Mapa de férias'!$E$28,AG$29<='Mapa de férias'!$F$28),AND(AG$29>='Mapa de férias'!$G$28,AG$29<='Mapa de férias'!$H$28),AND(AG$29>='Mapa de férias'!$I$28,AG$29<='Mapa de férias'!$J$28))),"F","")) | AH49: =IF($B49="","",COUNTIF(C49:AG49,"F"))
A50: 20 | B50: =IF('Mapa de férias'!$B$29="","",'Mapa de férias'!$B$29) | C50: =IF(OR($B50="",C$29=""),"",IF(AND(NETWORKDAYS(C$29,C$29,'Feriados'!$F$7:$F$22)=1,OR(AND(C$29>='Mapa de férias'!$E$29,C$29<='Mapa de férias'!$F$29),AND(C$29>='Mapa de férias'!$G$29,C$29<='Mapa de férias'!$H$29),AND(C$29>='Mapa de férias'!$I$29,C$29<='Mapa de férias'!$J$29))),"F","")) | D50: =IF(OR($B50="",D$29=""),"",IF(AND(NETWORKDAYS(D$29,D$29,'Feriados'!$F$7:$F$22)=1,OR(AND(D$29>='Mapa de férias'!$E$29,D$29<='Mapa de férias'!$F$29),AND(D$29>='Mapa de férias'!$G$29,D$29<='Mapa de férias'!$H$29),AND(D$29>='Mapa de férias'!$I$29,D$29<='Mapa de férias'!$J$29))),"F","")) | E50: =IF(OR($B50="",E$29=""),"",IF(AND(NETWORKDAYS(E$29,E$29,'Feriados'!$F$7:$F$22)=1,OR(AND(E$29>='Mapa de férias'!$E$29,E$29<='Mapa de férias'!$F$29),AND(E$29>='Mapa de férias'!$G$29,E$29<='Mapa de férias'!$H$29),AND(E$29>='Mapa de férias'!$I$29,E$29<='Mapa de férias'!$J$29))),"F","")) | F50: =IF(OR($B50="",F$29=""),"",IF(AND(NETWORKDAYS(F$29,F$29,'Feriados'!$F$7:$F$22)=1,OR(AND(F$29>='Mapa de férias'!$E$29,F$29<='Mapa de férias'!$F$29),AND(F$29>='Mapa de férias'!$G$29,F$29<='Mapa de férias'!$H$29),AND(F$29>='Mapa de férias'!$I$29,F$29<='Mapa de férias'!$J$29))),"F","")) | G50: =IF(OR($B50="",G$29=""),"",IF(AND(NETWORKDAYS(G$29,G$29,'Feriados'!$F$7:$F$22)=1,OR(AND(G$29>='Mapa de férias'!$E$29,G$29<='Mapa de férias'!$F$29),AND(G$29>='Mapa de férias'!$G$29,G$29<='Mapa de férias'!$H$29),AND(G$29>='Mapa de férias'!$I$29,G$29<='Mapa de férias'!$J$29))),"F","")) | H50: =IF(OR($B50="",H$29=""),"",IF(AND(NETWORKDAYS(H$29,H$29,'Feriados'!$F$7:$F$22)=1,OR(AND(H$29>='Mapa de férias'!$E$29,H$29<='Mapa de férias'!$F$29),AND(H$29>='Mapa de férias'!$G$29,H$29<='Mapa de férias'!$H$29),AND(H$29>='Mapa de férias'!$I$29,H$29<='Mapa de férias'!$J$29))),"F","")) | I50: =IF(OR($B50="",I$29=""),"",IF(AND(NETWORKDAYS(I$29,I$29,'Feriados'!$F$7:$F$22)=1,OR(AND(I$29>='Mapa de férias'!$E$29,I$29<='Mapa de férias'!$F$29),AND(I$29>='Mapa de férias'!$G$29,I$29<='Mapa de férias'!$H$29),AND(I$29>='Mapa de férias'!$I$29,I$29<='Mapa de férias'!$J$29))),"F","")) | J50: =IF(OR($B50="",J$29=""),"",IF(AND(NETWORKDAYS(J$29,J$29,'Feriados'!$F$7:$F$22)=1,OR(AND(J$29>='Mapa de férias'!$E$29,J$29<='Mapa de férias'!$F$29),AND(J$29>='Mapa de férias'!$G$29,J$29<='Mapa de férias'!$H$29),AND(J$29>='Mapa de férias'!$I$29,J$29<='Mapa de férias'!$J$29))),"F","")) | ... AG50: =IF(OR($B50="",AG$29=""),"",IF(AND(NETWORKDAYS(AG$29,AG$29,'Feriados'!$F$7:$F$22)=1,OR(AND(AG$29>='Mapa de férias'!$E$29,AG$29<='Mapa de férias'!$F$29),AND(AG$29>='Mapa de férias'!$G$29,AG$29<='Mapa de férias'!$H$29),AND(AG$29>='Mapa de férias'!$I$29,AG$29<='Mapa de férias'!$J$29))),"F","")) | AH50: =IF($B50="","",COUNTIF(C50:AG50,"F"))
A52: =DATE('Mapa de férias'!$C$6,3,1) | C52: =IF(1>DAY(DATE('Mapa de férias'!$C$6,3+1,0)),"",DATE('Mapa de férias'!$C$6,3,1)) | D52: =IF(2>DAY(DATE('Mapa de férias'!$C$6,3+1,0)),"",DATE('Mapa de férias'!$C$6,3,2)) | E52: =IF(3>DAY(DATE('Mapa de férias'!$C$6,3+1,0)),"",DATE('Mapa de férias'!$C$6,3,3)) | F52: =IF(4>DAY(DATE('Mapa de férias'!$C$6,3+1,0)),"",DATE('Mapa de férias'!$C$6,3,4)) | G52: =IF(5>DAY(DATE('Mapa de férias'!$C$6,3+1,0)),"",DATE('Mapa de férias'!$C$6,3,5)) | H52: =IF(6>DAY(DATE('Mapa de férias'!$C$6,3+1,0)),"",DATE('Mapa de férias'!$C$6,3,6)) | I52: =IF(7>DAY(DATE('Mapa de férias'!$C$6,3+1,0)),"",DATE('Mapa de férias'!$C$6,3,7)) | J52: =IF(8>DAY(DATE('Mapa de férias'!$C$6,3+1,0)),"",DATE('Mapa de férias'!$C$6,3,8)) | K52: =IF(9>DAY(DATE('Mapa de férias'!$C$6,3+1,0)),"",DATE('Mapa de férias'!$C$6,3,9)) | L52: =IF(10>DAY(DATE('Mapa de férias'!$C$6,3+1,0)),"",DATE('Mapa de férias'!$C$6,3,10)) | M52: =IF(11>DAY(DATE('Mapa de férias'!$C$6,3+1,0)),"",DATE('Mapa de férias'!$C$6,3,11)) | N52: =IF(12>DAY(DATE('Mapa de férias'!$C$6,3+1,0)),"",DATE('Mapa de férias'!$C$6,3,12)) | O52: =IF(13>DAY(DATE('Mapa de férias'!$C$6,3+1,0)),"",DATE('Mapa de férias'!$C$6,3,13)) | P52: =IF(14>DAY(DATE('Mapa de férias'!$C$6,3+1,0)),"",DATE('Mapa de férias'!$C$6,3,14)) | Q52: =IF(15>DAY(DATE('Mapa de férias'!$C$6,3+1,0)),"",DATE('Mapa de férias'!$C$6,3,15)) | R52: =IF(16>DAY(DATE('Mapa de férias'!$C$6,3+1,0)),"",DATE('Mapa de férias'!$C$6,3,16)) | S52: =IF(17>DAY(DATE('Mapa de férias'!$C$6,3+1,0)),"",DATE('Mapa de férias'!$C$6,3,17)) | T52: =IF(18>DAY(DATE('Mapa de férias'!$C$6,3+1,0)),"",DATE('Mapa de férias'!$C$6,3,18)) | U52: =IF(19>DAY(DATE('Mapa de férias'!$C$6,3+1,0)),"",DATE('Mapa de férias'!$C$6,3,19)) | V52: =IF(20>DAY(DATE('Mapa de férias'!$C$6,3+1,0)),"",DATE('Mapa de férias'!$C$6,3,20)) | W52: =IF(21>DAY(DATE('Mapa de férias'!$C$6,3+1,0)),"",DATE('Mapa de férias'!$C$6,3,21)) | X52: =IF(22>DAY(DATE('Mapa de férias'!$C$6,3+1,0)),"",DATE('Mapa de férias'!$C$6,3,22)) | Y52: =IF(23>DAY(DATE('Mapa de férias'!$C$6,3+1,0)),"",DATE('Mapa de férias'!$C$6,3,23)) | Z52: =IF(24>DAY(DATE('Mapa de férias'!$C$6,3+1,0)),"",DATE('Mapa de férias'!$C$6,3,24)) | AA52: =IF(25>DAY(DATE('Mapa de férias'!$C$6,3+1,0)),"",DATE('Mapa de férias'!$C$6,3,25)) | AB52: =IF(26>DAY(DATE('Mapa de férias'!$C$6,3+1,0)),"",DATE('Mapa de férias'!$C$6,3,26)) | AC52: =IF(27>DAY(DATE('Mapa de férias'!$C$6,3+1,0)),"",DATE('Mapa de férias'!$C$6,3,27)) | AD52: =IF(28>DAY(DATE('Mapa de férias'!$C$6,3+1,0)),"",DATE('Mapa de férias'!$C$6,3,28)) | AE52: =IF(29>DAY(DATE('Mapa de férias'!$C$6,3+1,0)),"",DATE('Mapa de férias'!$C$6,3,29)) | AF52: =IF(30>DAY(DATE('Mapa de férias'!$C$6,3+1,0)),"",DATE('Mapa de férias'!$C$6,3,30)) | AG52: =IF(31>DAY(DATE('Mapa de férias'!$C$6,3+1,0)),"",DATE('Mapa de férias'!$C$6,3,31)) | AH52: Dias
C53: =IF(C52="","",C52) | D53: =IF(D52="","",D52) | E53: =IF(E52="","",E52) | F53: =IF(F52="","",F52) | G53: =IF(G52="","",G52) | H53: =IF(H52="","",H52) | I53: =IF(I52="","",I52) | J53: =IF(J52="","",J52) | ... AG53: =IF(AG52="","",AG52)
A54: 1 | B54: =IF('Mapa de férias'!$B$10="","",'Mapa de férias'!$B$10) | C54: =IF(OR($B54="",C$52=""),"",IF(AND(NETWORKDAYS(C$52,C$52,'Feriados'!$F$7:$F$22)=1,OR(AND(C$52>='Mapa de férias'!$E$10,C$52<='Mapa de férias'!$F$10),AND(C$52>='Mapa de férias'!$G$10,C$52<='Mapa de férias'!$H$10),AND(C$52>='Mapa de férias'!$I$10,C$52<='Mapa de férias'!$J$10))),"F","")) | D54: =IF(OR($B54="",D$52=""),"",IF(AND(NETWORKDAYS(D$52,D$52,'Feriados'!$F$7:$F$22)=1,OR(AND(D$52>='Mapa de férias'!$E$10,D$52<='Mapa de férias'!$F$10),AND(D$52>='Mapa de férias'!$G$10,D$52<='Mapa de férias'!$H$10),AND(D$52>='Mapa de férias'!$I$10,D$52<='Mapa de férias'!$J$10))),"F","")) | E54: =IF(OR($B54="",E$52=""),"",IF(AND(NETWORKDAYS(E$52,E$52,'Feriados'!$F$7:$F$22)=1,OR(AND(E$52>='Mapa de férias'!$E$10,E$52<='Mapa de férias'!$F$10),AND(E$52>='Mapa de férias'!$G$10,E$52<='Mapa de férias'!$H$10),AND(E$52>='Mapa de férias'!$I$10,E$52<='Mapa de férias'!$J$10))),"F","")) | F54: =IF(OR($B54="",F$52=""),"",IF(AND(NETWORKDAYS(F$52,F$52,'Feriados'!$F$7:$F$22)=1,OR(AND(F$52>='Mapa de férias'!$E$10,F$52<='Mapa de férias'!$F$10),AND(F$52>='Mapa de férias'!$G$10,F$52<='Mapa de férias'!$H$10),AND(F$52>='Mapa de férias'!$I$10,F$52<='Mapa de férias'!$J$10))),"F","")) | G54: =IF(OR($B54="",G$52=""),"",IF(AND(NETWORKDAYS(G$52,G$52,'Feriados'!$F$7:$F$22)=1,OR(AND(G$52>='Mapa de férias'!$E$10,G$52<='Mapa de férias'!$F$10),AND(G$52>='Mapa de férias'!$G$10,G$52<='Mapa de férias'!$H$10),AND(G$52>='Mapa de férias'!$I$10,G$52<='Mapa de férias'!$J$10))),"F","")) | H54: =IF(OR($B54="",H$52=""),"",IF(AND(NETWORKDAYS(H$52,H$52,'Feriados'!$F$7:$F$22)=1,OR(AND(H$52>='Mapa de férias'!$E$10,H$52<='Mapa de férias'!$F$10),AND(H$52>='Mapa de férias'!$G$10,H$52<='Mapa de férias'!$H$10),AND(H$52>='Mapa de férias'!$I$10,H$52<='Mapa de férias'!$J$10))),"F","")) | I54: =IF(OR($B54="",I$52=""),"",IF(AND(NETWORKDAYS(I$52,I$52,'Feriados'!$F$7:$F$22)=1,OR(AND(I$52>='Mapa de férias'!$E$10,I$52<='Mapa de férias'!$F$10),AND(I$52>='Mapa de férias'!$G$10,I$52<='Mapa de férias'!$H$10),AND(I$52>='Mapa de férias'!$I$10,I$52<='Mapa de férias'!$J$10))),"F","")) | J54: =IF(OR($B54="",J$52=""),"",IF(AND(NETWORKDAYS(J$52,J$52,'Feriados'!$F$7:$F$22)=1,OR(AND(J$52>='Mapa de férias'!$E$10,J$52<='Mapa de férias'!$F$10),AND(J$52>='Mapa de férias'!$G$10,J$52<='Mapa de férias'!$H$10),AND(J$52>='Mapa de férias'!$I$10,J$52<='Mapa de férias'!$J$10))),"F","")) | ... AG54: =IF(OR($B54="",AG$52=""),"",IF(AND(NETWORKDAYS(AG$52,AG$52,'Feriados'!$F$7:$F$22)=1,OR(AND(AG$52>='Mapa de férias'!$E$10,AG$52<='Mapa de férias'!$F$10),AND(AG$52>='Mapa de férias'!$G$10,AG$52<='Mapa de férias'!$H$10),AND(AG$52>='Mapa de férias'!$I$10,AG$52<='Mapa de férias'!$J$10))),"F","")) | AH54: =IF($B54="","",COUNTIF(C54:AG54,"F"))
A55: 2 | B55: =IF('Mapa de férias'!$B$11="","",'Mapa de férias'!$B$11) | C55: =IF(OR($B55="",C$52=""),"",IF(AND(NETWORKDAYS(C$52,C$52,'Feriados'!$F$7:$F$22)=1,OR(AND(C$52>='Mapa de férias'!$E$11,C$52<='Mapa de férias'!$F$11),AND(C$52>='Mapa de férias'!$G$11,C$52<='Mapa de férias'!$H$11),AND(C$52>='Mapa de férias'!$I$11,C$52<='Mapa de férias'!$J$11))),"F","")) | D55: =IF(OR($B55="",D$52=""),"",IF(AND(NETWORKDAYS(D$52,D$52,'Feriados'!$F$7:$F$22)=1,OR(AND(D$52>='Mapa de férias'!$E$11,D$52<='Mapa de férias'!$F$11),AND(D$52>='Mapa de férias'!$G$11,D$52<='Mapa de férias'!$H$11),AND(D$52>='Mapa de férias'!$I$11,D$52<='Mapa de férias'!$J$11))),"F","")) | E55: =IF(OR($B55="",E$52=""),"",IF(AND(NETWORKDAYS(E$52,E$52,'Feriados'!$F$7:$F$22)=1,OR(AND(E$52>='Mapa de férias'!$E$11,E$52<='Mapa de férias'!$F$11),AND(E$52>='Mapa de férias'!$G$11,E$52<='Mapa de férias'!$H$11),AND(E$52>='Mapa de férias'!$I$11,E$52<='Mapa de férias'!$J$11))),"F","")) | F55: =IF(OR($B55="",F$52=""),"",IF(AND(NETWORKDAYS(F$52,F$52,'Feriados'!$F$7:$F$22)=1,OR(AND(F$52>='Mapa de férias'!$E$11,F$52<='Mapa de férias'!$F$11),AND(F$52>='Mapa de férias'!$G$11,F$52<='Mapa de férias'!$H$11),AND(F$52>='Mapa de férias'!$I$11,F$52<='Mapa de férias'!$J$11))),"F","")) | G55: =IF(OR($B55="",G$52=""),"",IF(AND(NETWORKDAYS(G$52,G$52,'Feriados'!$F$7:$F$22)=1,OR(AND(G$52>='Mapa de férias'!$E$11,G$52<='Mapa de férias'!$F$11),AND(G$52>='Mapa de férias'!$G$11,G$52<='Mapa de férias'!$H$11),AND(G$52>='Mapa de férias'!$I$11,G$52<='Mapa de férias'!$J$11))),"F","")) | H55: =IF(OR($B55="",H$52=""),"",IF(AND(NETWORKDAYS(H$52,H$52,'Feriados'!$F$7:$F$22)=1,OR(AND(H$52>='Mapa de férias'!$E$11,H$52<='Mapa de férias'!$F$11),AND(H$52>='Mapa de férias'!$G$11,H$52<='Mapa de férias'!$H$11),AND(H$52>='Mapa de férias'!$I$11,H$52<='Mapa de férias'!$J$11))),"F","")) | I55: =IF(OR($B55="",I$52=""),"",IF(AND(NETWORKDAYS(I$52,I$52,'Feriados'!$F$7:$F$22)=1,OR(AND(I$52>='Mapa de férias'!$E$11,I$52<='Mapa de férias'!$F$11),AND(I$52>='Mapa de férias'!$G$11,I$52<='Mapa de férias'!$H$11),AND(I$52>='Mapa de férias'!$I$11,I$52<='Mapa de férias'!$J$11))),"F","")) | J55: =IF(OR($B55="",J$52=""),"",IF(AND(NETWORKDAYS(J$52,J$52,'Feriados'!$F$7:$F$22)=1,OR(AND(J$52>='Mapa de férias'!$E$11,J$52<='Mapa de férias'!$F$11),AND(J$52>='Mapa de férias'!$G$11,J$52<='Mapa de férias'!$H$11),AND(J$52>='Mapa de férias'!$I$11,J$52<='Mapa de férias'!$J$11))),"F","")) | ... AG55: =IF(OR($B55="",AG$52=""),"",IF(AND(NETWORKDAYS(AG$52,AG$52,'Feriados'!$F$7:$F$22)=1,OR(AND(AG$52>='Mapa de férias'!$E$11,AG$52<='Mapa de férias'!$F$11),AND(AG$52>='Mapa de férias'!$G$11,AG$52<='Mapa de férias'!$H$11),AND(AG$52>='Mapa de férias'!$I$11,AG$52<='Mapa de férias'!$J$11))),"F","")) | AH55: =IF($B55="","",COUNTIF(C55:AG55,"F"))
A56: 3 | B56: =IF('Mapa de férias'!$B$12="","",'Mapa de férias'!$B$12) | C56: =IF(OR($B56="",C$52=""),"",IF(AND(NETWORKDAYS(C$52,C$52,'Feriados'!$F$7:$F$22)=1,OR(AND(C$52>='Mapa de férias'!$E$12,C$52<='Mapa de férias'!$F$12),AND(C$52>='Mapa de férias'!$G$12,C$52<='Mapa de férias'!$H$12),AND(C$52>='Mapa de férias'!$I$12,C$52<='Mapa de férias'!$J$12))),"F","")) | D56: =IF(OR($B56="",D$52=""),"",IF(AND(NETWORKDAYS(D$52,D$52,'Feriados'!$F$7:$F$22)=1,OR(AND(D$52>='Mapa de férias'!$E$12,D$52<='Mapa de férias'!$F$12),AND(D$52>='Mapa de férias'!$G$12,D$52<='Mapa de férias'!$H$12),AND(D$52>='Mapa de férias'!$I$12,D$52<='Mapa de férias'!$J$12))),"F","")) | E56: =IF(OR($B56="",E$52=""),"",IF(AND(NETWORKDAYS(E$52,E$52,'Feriados'!$F$7:$F$22)=1,OR(AND(E$52>='Mapa de férias'!$E$12,E$52<='Mapa de férias'!$F$12),AND(E$52>='Mapa de férias'!$G$12,E$52<='Mapa de férias'!$H$12),AND(E$52>='Mapa de férias'!$I$12,E$52<='Mapa de férias'!$J$12))),"F","")) | F56: =IF(OR($B56="",F$52=""),"",IF(AND(NETWORKDAYS(F$52,F$52,'Feriados'!$F$7:$F$22)=1,OR(AND(F$52>='Mapa de férias'!$E$12,F$52<='Mapa de férias'!$F$12),AND(F$52>='Mapa de férias'!$G$12,F$52<='Mapa de férias'!$H$12),AND(F$52>='Mapa de férias'!$I$12,F$52<='Mapa de férias'!$J$12))),"F","")) | G56: =IF(OR($B56="",G$52=""),"",IF(AND(NETWORKDAYS(G$52,G$52,'Feriados'!$F$7:$F$22)=1,OR(AND(G$52>='Mapa de férias'!$E$12,G$52<='Mapa de férias'!$F$12),AND(G$52>='Mapa de férias'!$G$12,G$52<='Mapa de férias'!$H$12),AND(G$52>='Mapa de férias'!$I$12,G$52<='Mapa de férias'!$J$12))),"F","")) | H56: =IF(OR($B56="",H$52=""),"",IF(AND(NETWORKDAYS(H$52,H$52,'Feriados'!$F$7:$F$22)=1,OR(AND(H$52>='Mapa de férias'!$E$12,H$52<='Mapa de férias'!$F$12),AND(H$52>='Mapa de férias'!$G$12,H$52<='Mapa de férias'!$H$12),AND(H$52>='Mapa de férias'!$I$12,H$52<='Mapa de férias'!$J$12))),"F","")) | I56: =IF(OR($B56="",I$52=""),"",IF(AND(NETWORKDAYS(I$52,I$52,'Feriados'!$F$7:$F$22)=1,OR(AND(I$52>='Mapa de férias'!$E$12,I$52<='Mapa de férias'!$F$12),AND(I$52>='Mapa de férias'!$G$12,I$52<='Mapa de férias'!$H$12),AND(I$52>='Mapa de férias'!$I$12,I$52<='Mapa de férias'!$J$12))),"F","")) | J56: =IF(OR($B56="",J$52=""),"",IF(AND(NETWORKDAYS(J$52,J$52,'Feriados'!$F$7:$F$22)=1,OR(AND(J$52>='Mapa de férias'!$E$12,J$52<='Mapa de férias'!$F$12),AND(J$52>='Mapa de férias'!$G$12,J$52<='Mapa de férias'!$H$12),AND(J$52>='Mapa de férias'!$I$12,J$52<='Mapa de férias'!$J$12))),"F","")) | ... AG56: =IF(OR($B56="",AG$52=""),"",IF(AND(NETWORKDAYS(AG$52,AG$52,'Feriados'!$F$7:$F$22)=1,OR(AND(AG$52>='Mapa de férias'!$E$12,AG$52<='Mapa de férias'!$F$12),AND(AG$52>='Mapa de férias'!$G$12,AG$52<='Mapa de férias'!$H$12),AND(AG$52>='Mapa de férias'!$I$12,AG$52<='Mapa de férias'!$J$12))),"F","")) | AH56: =IF($B56="","",COUNTIF(C56:AG56,"F"))
A57: 4 | B57: =IF('Mapa de férias'!$B$13="","",'Mapa de férias'!$B$13) | C57: =IF(OR($B57="",C$52=""),"",IF(AND(NETWORKDAYS(C$52,C$52,'Feriados'!$F$7:$F$22)=1,OR(AND(C$52>='Mapa de férias'!$E$13,C$52<='Mapa de férias'!$F$13),AND(C$52>='Mapa de férias'!$G$13,C$52<='Mapa de férias'!$H$13),AND(C$52>='Mapa de férias'!$I$13,C$52<='Mapa de férias'!$J$13))),"F","")) | D57: =IF(OR($B57="",D$52=""),"",IF(AND(NETWORKDAYS(D$52,D$52,'Feriados'!$F$7:$F$22)=1,OR(AND(D$52>='Mapa de férias'!$E$13,D$52<='Mapa de férias'!$F$13),AND(D$52>='Mapa de férias'!$G$13,D$52<='Mapa de férias'!$H$13),AND(D$52>='Mapa de férias'!$I$13,D$52<='Mapa de férias'!$J$13))),"F","")) | E57: =IF(OR($B57="",E$52=""),"",IF(AND(NETWORKDAYS(E$52,E$52,'Feriados'!$F$7:$F$22)=1,OR(AND(E$52>='Mapa de férias'!$E$13,E$52<='Mapa de férias'!$F$13),AND(E$52>='Mapa de férias'!$G$13,E$52<='Mapa de férias'!$H$13),AND(E$52>='Mapa de férias'!$I$13,E$52<='Mapa de férias'!$J$13))),"F","")) | F57: =IF(OR($B57="",F$52=""),"",IF(AND(NETWORKDAYS(F$52,F$52,'Feriados'!$F$7:$F$22)=1,OR(AND(F$52>='Mapa de férias'!$E$13,F$52<='Mapa de férias'!$F$13),AND(F$52>='Mapa de férias'!$G$13,F$52<='Mapa de férias'!$H$13),AND(F$52>='Mapa de férias'!$I$13,F$52<='Mapa de férias'!$J$13))),"F","")) | G57: =IF(OR($B57="",G$52=""),"",IF(AND(NETWORKDAYS(G$52,G$52,'Feriados'!$F$7:$F$22)=1,OR(AND(G$52>='Mapa de férias'!$E$13,G$52<='Mapa de férias'!$F$13),AND(G$52>='Mapa de férias'!$G$13,G$52<='Mapa de férias'!$H$13),AND(G$52>='Mapa de férias'!$I$13,G$52<='Mapa de férias'!$J$13))),"F","")) | H57: =IF(OR($B57="",H$52=""),"",IF(AND(NETWORKDAYS(H$52,H$52,'Feriados'!$F$7:$F$22)=1,OR(AND(H$52>='Mapa de férias'!$E$13,H$52<='Mapa de férias'!$F$13),AND(H$52>='Mapa de férias'!$G$13,H$52<='Mapa de férias'!$H$13),AND(H$52>='Mapa de férias'!$I$13,H$52<='Mapa de férias'!$J$13))),"F","")) | I57: =IF(OR($B57="",I$52=""),"",IF(AND(NETWORKDAYS(I$52,I$52,'Feriados'!$F$7:$F$22)=1,OR(AND(I$52>='Mapa de férias'!$E$13,I$52<='Mapa de férias'!$F$13),AND(I$52>='Mapa de férias'!$G$13,I$52<='Mapa de férias'!$H$13),AND(I$52>='Mapa de férias'!$I$13,I$52<='Mapa de férias'!$J$13))),"F","")) | J57: =IF(OR($B57="",J$52=""),"",IF(AND(NETWORKDAYS(J$52,J$52,'Feriados'!$F$7:$F$22)=1,OR(AND(J$52>='Mapa de férias'!$E$13,J$52<='Mapa de férias'!$F$13),AND(J$52>='Mapa de férias'!$G$13,J$52<='Mapa de férias'!$H$13),AND(J$52>='Mapa de férias'!$I$13,J$52<='Mapa de férias'!$J$13))),"F","")) | ... AG57: =IF(OR($B57="",AG$52=""),"",IF(AND(NETWORKDAYS(AG$52,AG$52,'Feriados'!$F$7:$F$22)=1,OR(AND(AG$52>='Mapa de férias'!$E$13,AG$52<='Mapa de férias'!$F$13),AND(AG$52>='Mapa de férias'!$G$13,AG$52<='Mapa de férias'!$H$13),AND(AG$52>='Mapa de férias'!$I$13,AG$52<='Mapa de férias'!$J$13))),"F","")) | AH57: =IF($B57="","",COUNTIF(C57:AG57,"F"))
A58: 5 | B58: =IF('Mapa de férias'!$B$14="","",'Mapa de férias'!$B$14) | C58: =IF(OR($B58="",C$52=""),"",IF(AND(NETWORKDAYS(C$52,C$52,'Feriados'!$F$7:$F$22)=1,OR(AND(C$52>='Mapa de férias'!$E$14,C$52<='Mapa de férias'!$F$14),AND(C$52>='Mapa de férias'!$G$14,C$52<='Mapa de férias'!$H$14),AND(C$52>='Mapa de férias'!$I$14,C$52<='Mapa de férias'!$J$14))),"F","")) | D58: =IF(OR($B58="",D$52=""),"",IF(AND(NETWORKDAYS(D$52,D$52,'Feriados'!$F$7:$F$22)=1,OR(AND(D$52>='Mapa de férias'!$E$14,D$52<='Mapa de férias'!$F$14),AND(D$52>='Mapa de férias'!$G$14,D$52<='Mapa de férias'!$H$14),AND(D$52>='Mapa de férias'!$I$14,D$52<='Mapa de férias'!$J$14))),"F","")) | E58: =IF(OR($B58="",E$52=""),"",IF(AND(NETWORKDAYS(E$52,E$52,'Feriados'!$F$7:$F$22)=1,OR(AND(E$52>='Mapa de férias'!$E$14,E$52<='Mapa de férias'!$F$14),AND(E$52>='Mapa de férias'!$G$14,E$52<='Mapa de férias'!$H$14),AND(E$52>='Mapa de férias'!$I$14,E$52<='Mapa de férias'!$J$14))),"F","")) | F58: =IF(OR($B58="",F$52=""),"",IF(AND(NETWORKDAYS(F$52,F$52,'Feriados'!$F$7:$F$22)=1,OR(AND(F$52>='Mapa de férias'!$E$14,F$52<='Mapa de férias'!$F$14),AND(F$52>='Mapa de férias'!$G$14,F$52<='Mapa de férias'!$H$14),AND(F$52>='Mapa de férias'!$I$14,F$52<='Mapa de férias'!$J$14))),"F","")) | G58: =IF(OR($B58="",G$52=""),"",IF(AND(NETWORKDAYS(G$52,G$52,'Feriados'!$F$7:$F$22)=1,OR(AND(G$52>='Mapa de férias'!$E$14,G$52<='Mapa de férias'!$F$14),AND(G$52>='Mapa de férias'!$G$14,G$52<='Mapa de férias'!$H$14),AND(G$52>='Mapa de férias'!$I$14,G$52<='Mapa de férias'!$J$14))),"F","")) | H58: =IF(OR($B58="",H$52=""),"",IF(AND(NETWORKDAYS(H$52,H$52,'Feriados'!$F$7:$F$22)=1,OR(AND(H$52>='Mapa de férias'!$E$14,H$52<='Mapa de férias'!$F$14),AND(H$52>='Mapa de férias'!$G$14,H$52<='Mapa de férias'!$H$14),AND(H$52>='Mapa de férias'!$I$14,H$52<='Mapa de férias'!$J$14))),"F","")) | I58: =IF(OR($B58="",I$52=""),"",IF(AND(NETWORKDAYS(I$52,I$52,'Feriados'!$F$7:$F$22)=1,OR(AND(I$52>='Mapa de férias'!$E$14,I$52<='Mapa de férias'!$F$14),AND(I$52>='Mapa de férias'!$G$14,I$52<='Mapa de férias'!$H$14),AND(I$52>='Mapa de férias'!$I$14,I$52<='Mapa de férias'!$J$14))),"F","")) | J58: =IF(OR($B58="",J$52=""),"",IF(AND(NETWORKDAYS(J$52,J$52,'Feriados'!$F$7:$F$22)=1,OR(AND(J$52>='Mapa de férias'!$E$14,J$52<='Mapa de férias'!$F$14),AND(J$52>='Mapa de férias'!$G$14,J$52<='Mapa de férias'!$H$14),AND(J$52>='Mapa de férias'!$I$14,J$52<='Mapa de férias'!$J$14))),"F","")) | ... AG58: =IF(OR($B58="",AG$52=""),"",IF(AND(NETWORKDAYS(AG$52,AG$52,'Feriados'!$F$7:$F$22)=1,OR(AND(AG$52>='Mapa de férias'!$E$14,AG$52<='Mapa de férias'!$F$14),AND(AG$52>='Mapa de férias'!$G$14,AG$52<='Mapa de férias'!$H$14),AND(AG$52>='Mapa de férias'!$I$14,AG$52<='Mapa de férias'!$J$14))),"F","")) | AH58: =IF($B58="","",COUNTIF(C58:AG58,"F"))
A59: 6 | B59: =IF('Mapa de férias'!$B$15="","",'Mapa de férias'!$B$15) | C59: =IF(OR($B59="",C$52=""),"",IF(AND(NETWORKDAYS(C$52,C$52,'Feriados'!$F$7:$F$22)=1,OR(AND(C$52>='Mapa de férias'!$E$15,C$52<='Mapa de férias'!$F$15),AND(C$52>='Mapa de férias'!$G$15,C$52<='Mapa de férias'!$H$15),AND(C$52>='Mapa de férias'!$I$15,C$52<='Mapa de férias'!$J$15))),"F","")) | D59: =IF(OR($B59="",D$52=""),"",IF(AND(NETWORKDAYS(D$52,D$52,'Feriados'!$F$7:$F$22)=1,OR(AND(D$52>='Mapa de férias'!$E$15,D$52<='Mapa de férias'!$F$15),AND(D$52>='Mapa de férias'!$G$15,D$52<='Mapa de férias'!$H$15),AND(D$52>='Mapa de férias'!$I$15,D$52<='Mapa de férias'!$J$15))),"F","")) | E59: =IF(OR($B59="",E$52=""),"",IF(AND(NETWORKDAYS(E$52,E$52,'Feriados'!$F$7:$F$22)=1,OR(AND(E$52>='Mapa de férias'!$E$15,E$52<='Mapa de férias'!$F$15),AND(E$52>='Mapa de férias'!$G$15,E$52<='Mapa de férias'!$H$15),AND(E$52>='Mapa de férias'!$I$15,E$52<='Mapa de férias'!$J$15))),"F","")) | F59: =IF(OR($B59="",F$52=""),"",IF(AND(NETWORKDAYS(F$52,F$52,'Feriados'!$F$7:$F$22)=1,OR(AND(F$52>='Mapa de férias'!$E$15,F$52<='Mapa de férias'!$F$15),AND(F$52>='Mapa de férias'!$G$15,F$52<='Mapa de férias'!$H$15),AND(F$52>='Mapa de férias'!$I$15,F$52<='Mapa de férias'!$J$15))),"F","")) | G59: =IF(OR($B59="",G$52=""),"",IF(AND(NETWORKDAYS(G$52,G$52,'Feriados'!$F$7:$F$22)=1,OR(AND(G$52>='Mapa de férias'!$E$15,G$52<='Mapa de férias'!$F$15),AND(G$52>='Mapa de férias'!$G$15,G$52<='Mapa de férias'!$H$15),AND(G$52>='Mapa de férias'!$I$15,G$52<='Mapa de férias'!$J$15))),"F","")) | H59: =IF(OR($B59="",H$52=""),"",IF(AND(NETWORKDAYS(H$52,H$52,'Feriados'!$F$7:$F$22)=1,OR(AND(H$52>='Mapa de férias'!$E$15,H$52<='Mapa de férias'!$F$15),AND(H$52>='Mapa de férias'!$G$15,H$52<='Mapa de férias'!$H$15),AND(H$52>='Mapa de férias'!$I$15,H$52<='Mapa de férias'!$J$15))),"F","")) | I59: =IF(OR($B59="",I$52=""),"",IF(AND(NETWORKDAYS(I$52,I$52,'Feriados'!$F$7:$F$22)=1,OR(AND(I$52>='Mapa de férias'!$E$15,I$52<='Mapa de férias'!$F$15),AND(I$52>='Mapa de férias'!$G$15,I$52<='Mapa de férias'!$H$15),AND(I$52>='Mapa de férias'!$I$15,I$52<='Mapa de férias'!$J$15))),"F","")) | J59: =IF(OR($B59="",J$52=""),"",IF(AND(NETWORKDAYS(J$52,J$52,'Feriados'!$F$7:$F$22)=1,OR(AND(J$52>='Mapa de férias'!$E$15,J$52<='Mapa de férias'!$F$15),AND(J$52>='Mapa de férias'!$G$15,J$52<='Mapa de férias'!$H$15),AND(J$52>='Mapa de férias'!$I$15,J$52<='Mapa de férias'!$J$15))),"F","")) | ... AG59: =IF(OR($B59="",AG$52=""),"",IF(AND(NETWORKDAYS(AG$52,AG$52,'Feriados'!$F$7:$F$22)=1,OR(AND(AG$52>='Mapa de férias'!$E$15,AG$52<='Mapa de férias'!$F$15),AND(AG$52>='Mapa de férias'!$G$15,AG$52<='Mapa de férias'!$H$15),AND(AG$52>='Mapa de férias'!$I$15,AG$52<='Mapa de férias'!$J$15))),"F","")) | AH59: =IF($B59="","",COUNTIF(C59:AG59,"F"))
A60: 7 | B60: =IF('Mapa de férias'!$B$16="","",'Mapa de férias'!$B$16) | C60: =IF(OR($B60="",C$52=""),"",IF(AND(NETWORKDAYS(C$52,C$52,'Feriados'!$F$7:$F$22)=1,OR(AND(C$52>='Mapa de férias'!$E$16,C$52<='Mapa de férias'!$F$16),AND(C$52>='Mapa de férias'!$G$16,C$52<='Mapa de férias'!$H$16),AND(C$52>='Mapa de férias'!$I$16,C$52<='Mapa de férias'!$J$16))),"F","")) | D60: =IF(OR($B60="",D$52=""),"",IF(AND(NETWORKDAYS(D$52,D$52,'Feriados'!$F$7:$F$22)=1,OR(AND(D$52>='Mapa de férias'!$E$16,D$52<='Mapa de férias'!$F$16),AND(D$52>='Mapa de férias'!$G$16,D$52<='Mapa de férias'!$H$16),AND(D$52>='Mapa de férias'!$I$16,D$52<='Mapa de férias'!$J$16))),"F","")) | E60: =IF(OR($B60="",E$52=""),"",IF(AND(NETWORKDAYS(E$52,E$52,'Feriados'!$F$7:$F$22)=1,OR(AND(E$52>='Mapa de férias'!$E$16,E$52<='Mapa de férias'!$F$16),AND(E$52>='Mapa de férias'!$G$16,E$52<='Mapa de férias'!$H$16),AND(E$52>='Mapa de férias'!$I$16,E$52<='Mapa de férias'!$J$16))),"F","")) | F60: =IF(OR($B60="",F$52=""),"",IF(AND(NETWORKDAYS(F$52,F$52,'Feriados'!$F$7:$F$22)=1,OR(AND(F$52>='Mapa de férias'!$E$16,F$52<='Mapa de férias'!$F$16),AND(F$52>='Mapa de férias'!$G$16,F$52<='Mapa de férias'!$H$16),AND(F$52>='Mapa de férias'!$I$16,F$52<='Mapa de férias'!$J$16))),"F","")) | G60: =IF(OR($B60="",G$52=""),"",IF(AND(NETWORKDAYS(G$52,G$52,'Feriados'!$F$7:$F$22)=1,OR(AND(G$52>='Mapa de férias'!$E$16,G$52<='Mapa de férias'!$F$16),AND(G$52>='Mapa de férias'!$G$16,G$52<='Mapa de férias'!$H$16),AND(G$52>='Mapa de férias'!$I$16,G$52<='Mapa de férias'!$J$16))),"F","")) | H60: =IF(OR($B60="",H$52=""),"",IF(AND(NETWORKDAYS(H$52,H$52,'Feriados'!$F$7:$F$22)=1,OR(AND(H$52>='Mapa de férias'!$E$16,H$52<='Mapa de férias'!$F$16),AND(H$52>='Mapa de férias'!$G$16,H$52<='Mapa de férias'!$H$16),AND(H$52>='Mapa de férias'!$I$16,H$52<='Mapa de férias'!$J$16))),"F","")) | I60: =IF(OR($B60="",I$52=""),"",IF(AND(NETWORKDAYS(I$52,I$52,'Feriados'!$F$7:$F$22)=1,OR(AND(I$52>='Mapa de férias'!$E$16,I$52<='Mapa de férias'!$F$16),AND(I$52>='Mapa de férias'!$G$16,I$52<='Mapa de férias'!$H$16),AND(I$52>='Mapa de férias'!$I$16,I$52<='Mapa de férias'!$J$16))),"F","")) | J60: =IF(OR($B60="",J$52=""),"",IF(AND(NETWORKDAYS(J$52,J$52,'Feriados'!$F$7:$F$22)=1,OR(AND(J$52>='Mapa de férias'!$E$16,J$52<='Mapa de férias'!$F$16),AND(J$52>='Mapa de férias'!$G$16,J$52<='Mapa de férias'!$H$16),AND(J$52>='Mapa de férias'!$I$16,J$52<='Mapa de férias'!$J$16))),"F","")) | ... AG60: =IF(OR($B60="",AG$52=""),"",IF(AND(NETWORKDAYS(AG$52,AG$52,'Feriados'!$F$7:$F$22)=1,OR(AND(AG$52>='Mapa de férias'!$E$16,AG$52<='Mapa de férias'!$F$16),AND(AG$52>='Mapa de férias'!$G$16,AG$52<='Mapa de férias'!$H$16),AND(AG$52>='Mapa de férias'!$I$16,AG$52<='Mapa de férias'!$J$16))),"F","")) | AH60: =IF($B60="","",COUNTIF(C60:AG60,"F"))
A61: 8 | B61: =IF('Mapa de férias'!$B$17="","",'Mapa de férias'!$B$17) | C61: =IF(OR($B61="",C$52=""),"",IF(AND(NETWORKDAYS(C$52,C$52,'Feriados'!$F$7:$F$22)=1,OR(AND(C$52>='Mapa de férias'!$E$17,C$52<='Mapa de férias'!$F$17),AND(C$52>='Mapa de férias'!$G$17,C$52<='Mapa de férias'!$H$17),AND(C$52>='Mapa de férias'!$I$17,C$52<='Mapa de férias'!$J$17))),"F","")) | D61: =IF(OR($B61="",D$52=""),"",IF(AND(NETWORKDAYS(D$52,D$52,'Feriados'!$F$7:$F$22)=1,OR(AND(D$52>='Mapa de férias'!$E$17,D$52<='Mapa de férias'!$F$17),AND(D$52>='Mapa de férias'!$G$17,D$52<='Mapa de férias'!$H$17),AND(D$52>='Mapa de férias'!$I$17,D$52<='Mapa de férias'!$J$17))),"F","")) | E61: =IF(OR($B61="",E$52=""),"",IF(AND(NETWORKDAYS(E$52,E$52,'Feriados'!$F$7:$F$22)=1,OR(AND(E$52>='Mapa de férias'!$E$17,E$52<='Mapa de férias'!$F$17),AND(E$52>='Mapa de férias'!$G$17,E$52<='Mapa de férias'!$H$17),AND(E$52>='Mapa de férias'!$I$17,E$52<='Mapa de férias'!$J$17))),"F","")) | F61: =IF(OR($B61="",F$52=""),"",IF(AND(NETWORKDAYS(F$52,F$52,'Feriados'!$F$7:$F$22)=1,OR(AND(F$52>='Mapa de férias'!$E$17,F$52<='Mapa de férias'!$F$17),AND(F$52>='Mapa de férias'!$G$17,F$52<='Mapa de férias'!$H$17),AND(F$52>='Mapa de férias'!$I$17,F$52<='Mapa de férias'!$J$17))),"F","")) | G61: =IF(OR($B61="",G$52=""),"",IF(AND(NETWORKDAYS(G$52,G$52,'Feriados'!$F$7:$F$22)=1,OR(AND(G$52>='Mapa de férias'!$E$17,G$52<='Mapa de férias'!$F$17),AND(G$52>='Mapa de férias'!$G$17,G$52<='Mapa de férias'!$H$17),AND(G$52>='Mapa de férias'!$I$17,G$52<='Mapa de férias'!$J$17))),"F","")) | H61: =IF(OR($B61="",H$52=""),"",IF(AND(NETWORKDAYS(H$52,H$52,'Feriados'!$F$7:$F$22)=1,OR(AND(H$52>='Mapa de férias'!$E$17,H$52<='Mapa de férias'!$F$17),AND(H$52>='Mapa de férias'!$G$17,H$52<='Mapa de férias'!$H$17),AND(H$52>='Mapa de férias'!$I$17,H$52<='Mapa de férias'!$J$17))),"F","")) | I61: =IF(OR($B61="",I$52=""),"",IF(AND(NETWORKDAYS(I$52,I$52,'Feriados'!$F$7:$F$22)=1,OR(AND(I$52>='Mapa de férias'!$E$17,I$52<='Mapa de férias'!$F$17),AND(I$52>='Mapa de férias'!$G$17,I$52<='Mapa de férias'!$H$17),AND(I$52>='Mapa de férias'!$I$17,I$52<='Mapa de férias'!$J$17))),"F","")) | J61: =IF(OR($B61="",J$52=""),"",IF(AND(NETWORKDAYS(J$52,J$52,'Feriados'!$F$7:$F$22)=1,OR(AND(J$52>='Mapa de férias'!$E$17,J$52<='Mapa de férias'!$F$17),AND(J$52>='Mapa de férias'!$G$17,J$52<='Mapa de férias'!$H$17),AND(J$52>='Mapa de férias'!$I$17,J$52<='Mapa de férias'!$J$17))),"F","")) | ... AG61: =IF(OR($B61="",AG$52=""),"",IF(AND(NETWORKDAYS(AG$52,AG$52,'Feriados'!$F$7:$F$22)=1,OR(AND(AG$52>='Mapa de férias'!$E$17,AG$52<='Mapa de férias'!$F$17),AND(AG$52>='Mapa de férias'!$G$17,AG$52<='Mapa de férias'!$H$17),AND(AG$52>='Mapa de férias'!$I$17,AG$52<='Mapa de férias'!$J$17))),"F","")) | AH61: =IF($B61="","",COUNTIF(C61:AG61,"F"))
A62: 9 | B62: =IF('Mapa de férias'!$B$18="","",'Mapa de férias'!$B$18) | C62: =IF(OR($B62="",C$52=""),"",IF(AND(NETWORKDAYS(C$52,C$52,'Feriados'!$F$7:$F$22)=1,OR(AND(C$52>='Mapa de férias'!$E$18,C$52<='Mapa de férias'!$F$18),AND(C$52>='Mapa de férias'!$G$18,C$52<='Mapa de férias'!$H$18),AND(C$52>='Mapa de férias'!$I$18,C$52<='Mapa de férias'!$J$18))),"F","")) | D62: =IF(OR($B62="",D$52=""),"",IF(AND(NETWORKDAYS(D$52,D$52,'Feriados'!$F$7:$F$22)=1,OR(AND(D$52>='Mapa de férias'!$E$18,D$52<='Mapa de férias'!$F$18),AND(D$52>='Mapa de férias'!$G$18,D$52<='Mapa de férias'!$H$18),AND(D$52>='Mapa de férias'!$I$18,D$52<='Mapa de férias'!$J$18))),"F","")) | E62: =IF(OR($B62="",E$52=""),"",IF(AND(NETWORKDAYS(E$52,E$52,'Feriados'!$F$7:$F$22)=1,OR(AND(E$52>='Mapa de férias'!$E$18,E$52<='Mapa de férias'!$F$18),AND(E$52>='Mapa de férias'!$G$18,E$52<='Mapa de férias'!$H$18),AND(E$52>='Mapa de férias'!$I$18,E$52<='Mapa de férias'!$J$18))),"F","")) | F62: =IF(OR($B62="",F$52=""),"",IF(AND(NETWORKDAYS(F$52,F$52,'Feriados'!$F$7:$F$22)=1,OR(AND(F$52>='Mapa de férias'!$E$18,F$52<='Mapa de férias'!$F$18),AND(F$52>='Mapa de férias'!$G$18,F$52<='Mapa de férias'!$H$18),AND(F$52>='Mapa de férias'!$I$18,F$52<='Mapa de férias'!$J$18))),"F","")) | G62: =IF(OR($B62="",G$52=""),"",IF(AND(NETWORKDAYS(G$52,G$52,'Feriados'!$F$7:$F$22)=1,OR(AND(G$52>='Mapa de férias'!$E$18,G$52<='Mapa de férias'!$F$18),AND(G$52>='Mapa de férias'!$G$18,G$52<='Mapa de férias'!$H$18),AND(G$52>='Mapa de férias'!$I$18,G$52<='Mapa de férias'!$J$18))),"F","")) | H62: =IF(OR($B62="",H$52=""),"",IF(AND(NETWORKDAYS(H$52,H$52,'Feriados'!$F$7:$F$22)=1,OR(AND(H$52>='Mapa de férias'!$E$18,H$52<='Mapa de férias'!$F$18),AND(H$52>='Mapa de férias'!$G$18,H$52<='Mapa de férias'!$H$18),AND(H$52>='Mapa de férias'!$I$18,H$52<='Mapa de férias'!$J$18))),"F","")) | I62: =IF(OR($B62="",I$52=""),"",IF(AND(NETWORKDAYS(I$52,I$52,'Feriados'!$F$7:$F$22)=1,OR(AND(I$52>='Mapa de férias'!$E$18,I$52<='Mapa de férias'!$F$18),AND(I$52>='Mapa de férias'!$G$18,I$52<='Mapa de férias'!$H$18),AND(I$52>='Mapa de férias'!$I$18,I$52<='Mapa de férias'!$J$18))),"F","")) | J62: =IF(OR($B62="",J$52=""),"",IF(AND(NETWORKDAYS(J$52,J$52,'Feriados'!$F$7:$F$22)=1,OR(AND(J$52>='Mapa de férias'!$E$18,J$52<='Mapa de férias'!$F$18),AND(J$52>='Mapa de férias'!$G$18,J$52<='Mapa de férias'!$H$18),AND(J$52>='Mapa de férias'!$I$18,J$52<='Mapa de férias'!$J$18))),"F","")) | ... AG62: =IF(OR($B62="",AG$52=""),"",IF(AND(NETWORKDAYS(AG$52,AG$52,'Feriados'!$F$7:$F$22)=1,OR(AND(AG$52>='Mapa de férias'!$E$18,AG$52<='Mapa de férias'!$F$18),AND(AG$52>='Mapa de férias'!$G$18,AG$52<='Mapa de férias'!$H$18),AND(AG$52>='Mapa de férias'!$I$18,AG$52<='Mapa de férias'!$J$18))),"F","")) | AH62: =IF($B62="","",COUNTIF(C62:AG62,"F"))
A63: 10 | B63: =IF('Mapa de férias'!$B$19="","",'Mapa de férias'!$B$19) | C63: =IF(OR($B63="",C$52=""),"",IF(AND(NETWORKDAYS(C$52,C$52,'Feriados'!$F$7:$F$22)=1,OR(AND(C$52>='Mapa de férias'!$E$19,C$52<='Mapa de férias'!$F$19),AND(C$52>='Mapa de férias'!$G$19,C$52<='Mapa de férias'!$H$19),AND(C$52>='Mapa de férias'!$I$19,C$52<='Mapa de férias'!$J$19))),"F","")) | D63: =IF(OR($B63="",D$52=""),"",IF(AND(NETWORKDAYS(D$52,D$52,'Feriados'!$F$7:$F$22)=1,OR(AND(D$52>='Mapa de férias'!$E$19,D$52<='Mapa de férias'!$F$19),AND(D$52>='Mapa de férias'!$G$19,D$52<='Mapa de férias'!$H$19),AND(D$52>='Mapa de férias'!$I$19,D$52<='Mapa de férias'!$J$19))),"F","")) | E63: =IF(OR($B63="",E$52=""),"",IF(AND(NETWORKDAYS(E$52,E$52,'Feriados'!$F$7:$F$22)=1,OR(AND(E$52>='Mapa de férias'!$E$19,E$52<='Mapa de férias'!$F$19),AND(E$52>='Mapa de férias'!$G$19,E$52<='Mapa de férias'!$H$19),AND(E$52>='Mapa de férias'!$I$19,E$52<='Mapa de férias'!$J$19))),"F","")) | F63: =IF(OR($B63="",F$52=""),"",IF(AND(NETWORKDAYS(F$52,F$52,'Feriados'!$F$7:$F$22)=1,OR(AND(F$52>='Mapa de férias'!$E$19,F$52<='Mapa de férias'!$F$19),AND(F$52>='Mapa de férias'!$G$19,F$52<='Mapa de férias'!$H$19),AND(F$52>='Mapa de férias'!$I$19,F$52<='Mapa de férias'!$J$19))),"F","")) | G63: =IF(OR($B63="",G$52=""),"",IF(AND(NETWORKDAYS(G$52,G$52,'Feriados'!$F$7:$F$22)=1,OR(AND(G$52>='Mapa de férias'!$E$19,G$52<='Mapa de férias'!$F$19),AND(G$52>='Mapa de férias'!$G$19,G$52<='Mapa de férias'!$H$19),AND(G$52>='Mapa de férias'!$I$19,G$52<='Mapa de férias'!$J$19))),"F","")) | H63: =IF(OR($B63="",H$52=""),"",IF(AND(NETWORKDAYS(H$52,H$52,'Feriados'!$F$7:$F$22)=1,OR(AND(H$52>='Mapa de férias'!$E$19,H$52<='Mapa de férias'!$F$19),AND(H$52>='Mapa de férias'!$G$19,H$52<='Mapa de férias'!$H$19),AND(H$52>='Mapa de férias'!$I$19,H$52<='Mapa de férias'!$J$19))),"F","")) | I63: =IF(OR($B63="",I$52=""),"",IF(AND(NETWORKDAYS(I$52,I$52,'Feriados'!$F$7:$F$22)=1,OR(AND(I$52>='Mapa de férias'!$E$19,I$52<='Mapa de férias'!$F$19),AND(I$52>='Mapa de férias'!$G$19,I$52<='Mapa de férias'!$H$19),AND(I$52>='Mapa de férias'!$I$19,I$52<='Mapa de férias'!$J$19))),"F","")) | J63: =IF(OR($B63="",J$52=""),"",IF(AND(NETWORKDAYS(J$52,J$52,'Feriados'!$F$7:$F$22)=1,OR(AND(J$52>='Mapa de férias'!$E$19,J$52<='Mapa de férias'!$F$19),AND(J$52>='Mapa de férias'!$G$19,J$52<='Mapa de férias'!$H$19),AND(J$52>='Mapa de férias'!$I$19,J$52<='Mapa de férias'!$J$19))),"F","")) | ... AG63: =IF(OR($B63="",AG$52=""),"",IF(AND(NETWORKDAYS(AG$52,AG$52,'Feriados'!$F$7:$F$22)=1,OR(AND(AG$52>='Mapa de férias'!$E$19,AG$52<='Mapa de férias'!$F$19),AND(AG$52>='Mapa de férias'!$G$19,AG$52<='Mapa de férias'!$H$19),AND(AG$52>='Mapa de férias'!$I$19,AG$52<='Mapa de férias'!$J$19))),"F","")) | AH63: =IF($B63="","",COUNTIF(C63:AG63,"F"))
A64: 11 | B64: =IF('Mapa de férias'!$B$20="","",'Mapa de férias'!$B$20) | C64: =IF(OR($B64="",C$52=""),"",IF(AND(NETWORKDAYS(C$52,C$52,'Feriados'!$F$7:$F$22)=1,OR(AND(C$52>='Mapa de férias'!$E$20,C$52<='Mapa de férias'!$F$20),AND(C$52>='Mapa de férias'!$G$20,C$52<='Mapa de férias'!$H$20),AND(C$52>='Mapa de férias'!$I$20,C$52<='Mapa de férias'!$J$20))),"F","")) | D64: =IF(OR($B64="",D$52=""),"",IF(AND(NETWORKDAYS(D$52,D$52,'Feriados'!$F$7:$F$22)=1,OR(AND(D$52>='Mapa de férias'!$E$20,D$52<='Mapa de férias'!$F$20),AND(D$52>='Mapa de férias'!$G$20,D$52<='Mapa de férias'!$H$20),AND(D$52>='Mapa de férias'!$I$20,D$52<='Mapa de férias'!$J$20))),"F","")) | E64: =IF(OR($B64="",E$52=""),"",IF(AND(NETWORKDAYS(E$52,E$52,'Feriados'!$F$7:$F$22)=1,OR(AND(E$52>='Mapa de férias'!$E$20,E$52<='Mapa de férias'!$F$20),AND(E$52>='Mapa de férias'!$G$20,E$52<='Mapa de férias'!$H$20),AND(E$52>='Mapa de férias'!$I$20,E$52<='Mapa de férias'!$J$20))),"F","")) | F64: =IF(OR($B64="",F$52=""),"",IF(AND(NETWORKDAYS(F$52,F$52,'Feriados'!$F$7:$F$22)=1,OR(AND(F$52>='Mapa de férias'!$E$20,F$52<='Mapa de férias'!$F$20),AND(F$52>='Mapa de férias'!$G$20,F$52<='Mapa de férias'!$H$20),AND(F$52>='Mapa de férias'!$I$20,F$52<='Mapa de férias'!$J$20))),"F","")) | G64: =IF(OR($B64="",G$52=""),"",IF(AND(NETWORKDAYS(G$52,G$52,'Feriados'!$F$7:$F$22)=1,OR(AND(G$52>='Mapa de férias'!$E$20,G$52<='Mapa de férias'!$F$20),AND(G$52>='Mapa de férias'!$G$20,G$52<='Mapa de férias'!$H$20),AND(G$52>='Mapa de férias'!$I$20,G$52<='Mapa de férias'!$J$20))),"F","")) | H64: =IF(OR($B64="",H$52=""),"",IF(AND(NETWORKDAYS(H$52,H$52,'Feriados'!$F$7:$F$22)=1,OR(AND(H$52>='Mapa de férias'!$E$20,H$52<='Mapa de férias'!$F$20),AND(H$52>='Mapa de férias'!$G$20,H$52<='Mapa de férias'!$H$20),AND(H$52>='Mapa de férias'!$I$20,H$52<='Mapa de férias'!$J$20))),"F","")) | I64: =IF(OR($B64="",I$52=""),"",IF(AND(NETWORKDAYS(I$52,I$52,'Feriados'!$F$7:$F$22)=1,OR(AND(I$52>='Mapa de férias'!$E$20,I$52<='Mapa de férias'!$F$20),AND(I$52>='Mapa de férias'!$G$20,I$52<='Mapa de férias'!$H$20),AND(I$52>='Mapa de férias'!$I$20,I$52<='Mapa de férias'!$J$20))),"F","")) | J64: =IF(OR($B64="",J$52=""),"",IF(AND(NETWORKDAYS(J$52,J$52,'Feriados'!$F$7:$F$22)=1,OR(AND(J$52>='Mapa de férias'!$E$20,J$52<='Mapa de férias'!$F$20),AND(J$52>='Mapa de férias'!$G$20,J$52<='Mapa de férias'!$H$20),AND(J$52>='Mapa de férias'!$I$20,J$52<='Mapa de férias'!$J$20))),"F","")) | ... AG64: =IF(OR($B64="",AG$52=""),"",IF(AND(NETWORKDAYS(AG$52,AG$52,'Feriados'!$F$7:$F$22)=1,OR(AND(AG$52>='Mapa de férias'!$E$20,AG$52<='Mapa de férias'!$F$20),AND(AG$52>='Mapa de férias'!$G$20,AG$52<='Mapa de férias'!$H$20),AND(AG$52>='Mapa de férias'!$I$20,AG$52<='Mapa de férias'!$J$20))),"F","")) | AH64: =IF($B64="","",COUNTIF(C64:AG64,"F"))
A65: 12 | B65: =IF('Mapa de férias'!$B$21="","",'Mapa de férias'!$B$21) | C65: =IF(OR($B65="",C$52=""),"",IF(AND(NETWORKDAYS(C$52,C$52,'Feriados'!$F$7:$F$22)=1,OR(AND(C$52>='Mapa de férias'!$E$21,C$52<='Mapa de férias'!$F$21),AND(C$52>='Mapa de férias'!$G$21,C$52<='Mapa de férias'!$H$21),AND(C$52>='Mapa de férias'!$I$21,C$52<='Mapa de férias'!$J$21))),"F","")) | D65: =IF(OR($B65="",D$52=""),"",IF(AND(NETWORKDAYS(D$52,D$52,'Feriados'!$F$7:$F$22)=1,OR(AND(D$52>='Mapa de férias'!$E$21,D$52<='Mapa de férias'!$F$21),AND(D$52>='Mapa de férias'!$G$21,D$52<='Mapa de férias'!$H$21),AND(D$52>='Mapa de férias'!$I$21,D$52<='Mapa de férias'!$J$21))),"F","")) | E65: =IF(OR($B65="",E$52=""),"",IF(AND(NETWORKDAYS(E$52,E$52,'Feriados'!$F$7:$F$22)=1,OR(AND(E$52>='Mapa de férias'!$E$21,E$52<='Mapa de férias'!$F$21),AND(E$52>='Mapa de férias'!$G$21,E$52<='Mapa de férias'!$H$21),AND(E$52>='Mapa de férias'!$I$21,E$52<='Mapa de férias'!$J$21))),"F","")) | F65: =IF(OR($B65="",F$52=""),"",IF(AND(NETWORKDAYS(F$52,F$52,'Feriados'!$F$7:$F$22)=1,OR(AND(F$52>='Mapa de férias'!$E$21,F$52<='Mapa de férias'!$F$21),AND(F$52>='Mapa de férias'!$G$21,F$52<='Mapa de férias'!$H$21),AND(F$52>='Mapa de férias'!$I$21,F$52<='Mapa de férias'!$J$21))),"F","")) | G65: =IF(OR($B65="",G$52=""),"",IF(AND(NETWORKDAYS(G$52,G$52,'Feriados'!$F$7:$F$22)=1,OR(AND(G$52>='Mapa de férias'!$E$21,G$52<='Mapa de férias'!$F$21),AND(G$52>='Mapa de férias'!$G$21,G$52<='Mapa de férias'!$H$21),AND(G$52>='Mapa de férias'!$I$21,G$52<='Mapa de férias'!$J$21))),"F","")) | H65: =IF(OR($B65="",H$52=""),"",IF(AND(NETWORKDAYS(H$52,H$52,'Feriados'!$F$7:$F$22)=1,OR(AND(H$52>='Mapa de férias'!$E$21,H$52<='Mapa de férias'!$F$21),AND(H$52>='Mapa de férias'!$G$21,H$52<='Mapa de férias'!$H$21),AND(H$52>='Mapa de férias'!$I$21,H$52<='Mapa de férias'!$J$21))),"F","")) | I65: =IF(OR($B65="",I$52=""),"",IF(AND(NETWORKDAYS(I$52,I$52,'Feriados'!$F$7:$F$22)=1,OR(AND(I$52>='Mapa de férias'!$E$21,I$52<='Mapa de férias'!$F$21),AND(I$52>='Mapa de férias'!$G$21,I$52<='Mapa de férias'!$H$21),AND(I$52>='Mapa de férias'!$I$21,I$52<='Mapa de férias'!$J$21))),"F","")) | J65: =IF(OR($B65="",J$52=""),"",IF(AND(NETWORKDAYS(J$52,J$52,'Feriados'!$F$7:$F$22)=1,OR(AND(J$52>='Mapa de férias'!$E$21,J$52<='Mapa de férias'!$F$21),AND(J$52>='Mapa de férias'!$G$21,J$52<='Mapa de férias'!$H$21),AND(J$52>='Mapa de férias'!$I$21,J$52<='Mapa de férias'!$J$21))),"F","")) | ... AG65: =IF(OR($B65="",AG$52=""),"",IF(AND(NETWORKDAYS(AG$52,AG$52,'Feriados'!$F$7:$F$22)=1,OR(AND(AG$52>='Mapa de férias'!$E$21,AG$52<='Mapa de férias'!$F$21),AND(AG$52>='Mapa de férias'!$G$21,AG$52<='Mapa de férias'!$H$21),AND(AG$52>='Mapa de férias'!$I$21,AG$52<='Mapa de férias'!$J$21))),"F","")) | AH65: =IF($B65="","",COUNTIF(C65:AG65,"F"))
A66: 13 | B66: =IF('Mapa de férias'!$B$22="","",'Mapa de férias'!$B$22) | C66: =IF(OR($B66="",C$52=""),"",IF(AND(NETWORKDAYS(C$52,C$52,'Feriados'!$F$7:$F$22)=1,OR(AND(C$52>='Mapa de férias'!$E$22,C$52<='Mapa de férias'!$F$22),AND(C$52>='Mapa de férias'!$G$22,C$52<='Mapa de férias'!$H$22),AND(C$52>='Mapa de férias'!$I$22,C$52<='Mapa de férias'!$J$22))),"F","")) | D66: =IF(OR($B66="",D$52=""),"",IF(AND(NETWORKDAYS(D$52,D$52,'Feriados'!$F$7:$F$22)=1,OR(AND(D$52>='Mapa de férias'!$E$22,D$52<='Mapa de férias'!$F$22),AND(D$52>='Mapa de férias'!$G$22,D$52<='Mapa de férias'!$H$22),AND(D$52>='Mapa de férias'!$I$22,D$52<='Mapa de férias'!$J$22))),"F","")) | E66: =IF(OR($B66="",E$52=""),"",IF(AND(NETWORKDAYS(E$52,E$52,'Feriados'!$F$7:$F$22)=1,OR(AND(E$52>='Mapa de férias'!$E$22,E$52<='Mapa de férias'!$F$22),AND(E$52>='Mapa de férias'!$G$22,E$52<='Mapa de férias'!$H$22),AND(E$52>='Mapa de férias'!$I$22,E$52<='Mapa de férias'!$J$22))),"F","")) | F66: =IF(OR($B66="",F$52=""),"",IF(AND(NETWORKDAYS(F$52,F$52,'Feriados'!$F$7:$F$22)=1,OR(AND(F$52>='Mapa de férias'!$E$22,F$52<='Mapa de férias'!$F$22),AND(F$52>='Mapa de férias'!$G$22,F$52<='Mapa de férias'!$H$22),AND(F$52>='Mapa de férias'!$I$22,F$52<='Mapa de férias'!$J$22))),"F","")) | G66: =IF(OR($B66="",G$52=""),"",IF(AND(NETWORKDAYS(G$52,G$52,'Feriados'!$F$7:$F$22)=1,OR(AND(G$52>='Mapa de férias'!$E$22,G$52<='Mapa de férias'!$F$22),AND(G$52>='Mapa de férias'!$G$22,G$52<='Mapa de férias'!$H$22),AND(G$52>='Mapa de férias'!$I$22,G$52<='Mapa de férias'!$J$22))),"F","")) | H66: =IF(OR($B66="",H$52=""),"",IF(AND(NETWORKDAYS(H$52,H$52,'Feriados'!$F$7:$F$22)=1,OR(AND(H$52>='Mapa de férias'!$E$22,H$52<='Mapa de férias'!$F$22),AND(H$52>='Mapa de férias'!$G$22,H$52<='Mapa de férias'!$H$22),AND(H$52>='Mapa de férias'!$I$22,H$52<='Mapa de férias'!$J$22))),"F","")) | I66: =IF(OR($B66="",I$52=""),"",IF(AND(NETWORKDAYS(I$52,I$52,'Feriados'!$F$7:$F$22)=1,OR(AND(I$52>='Mapa de férias'!$E$22,I$52<='Mapa de férias'!$F$22),AND(I$52>='Mapa de férias'!$G$22,I$52<='Mapa de férias'!$H$22),AND(I$52>='Mapa de férias'!$I$22,I$52<='Mapa de férias'!$J$22))),"F","")) | J66: =IF(OR($B66="",J$52=""),"",IF(AND(NETWORKDAYS(J$52,J$52,'Feriados'!$F$7:$F$22)=1,OR(AND(J$52>='Mapa de férias'!$E$22,J$52<='Mapa de férias'!$F$22),AND(J$52>='Mapa de férias'!$G$22,J$52<='Mapa de férias'!$H$22),AND(J$52>='Mapa de férias'!$I$22,J$52<='Mapa de férias'!$J$22))),"F","")) | ... AG66: =IF(OR($B66="",AG$52=""),"",IF(AND(NETWORKDAYS(AG$52,AG$52,'Feriados'!$F$7:$F$22)=1,OR(AND(AG$52>='Mapa de férias'!$E$22,AG$52<='Mapa de férias'!$F$22),AND(AG$52>='Mapa de férias'!$G$22,AG$52<='Mapa de férias'!$H$22),AND(AG$52>='Mapa de férias'!$I$22,AG$52<='Mapa de férias'!$J$22))),"F","")) | AH66: =IF($B66="","",COUNTIF(C66:AG66,"F"))
A67: 14 | B67: =IF('Mapa de férias'!$B$23="","",'Mapa de férias'!$B$23) | C67: =IF(OR($B67="",C$52=""),"",IF(AND(NETWORKDAYS(C$52,C$52,'Feriados'!$F$7:$F$22)=1,OR(AND(C$52>='Mapa de férias'!$E$23,C$52<='Mapa de férias'!$F$23),AND(C$52>='Mapa de férias'!$G$23,C$52<='Mapa de férias'!$H$23),AND(C$52>='Mapa de férias'!$I$23,C$52<='Mapa de férias'!$J$23))),"F","")) | D67: =IF(OR($B67="",D$52=""),"",IF(AND(NETWORKDAYS(D$52,D$52,'Feriados'!$F$7:$F$22)=1,OR(AND(D$52>='Mapa de férias'!$E$23,D$52<='Mapa de férias'!$F$23),AND(D$52>='Mapa de férias'!$G$23,D$52<='Mapa de férias'!$H$23),AND(D$52>='Mapa de férias'!$I$23,D$52<='Mapa de férias'!$J$23))),"F","")) | E67: =IF(OR($B67="",E$52=""),"",IF(AND(NETWORKDAYS(E$52,E$52,'Feriados'!$F$7:$F$22)=1,OR(AND(E$52>='Mapa de férias'!$E$23,E$52<='Mapa de férias'!$F$23),AND(E$52>='Mapa de férias'!$G$23,E$52<='Mapa de férias'!$H$23),AND(E$52>='Mapa de férias'!$I$23,E$52<='Mapa de férias'!$J$23))),"F","")) | F67: =IF(OR($B67="",F$52=""),"",IF(AND(NETWORKDAYS(F$52,F$52,'Feriados'!$F$7:$F$22)=1,OR(AND(F$52>='Mapa de férias'!$E$23,F$52<='Mapa de férias'!$F$23),AND(F$52>='Mapa de férias'!$G$23,F$52<='Mapa de férias'!$H$23),AND(F$52>='Mapa de férias'!$I$23,F$52<='Mapa de férias'!$J$23))),"F","")) | G67: =IF(OR($B67="",G$52=""),"",IF(AND(NETWORKDAYS(G$52,G$52,'Feriados'!$F$7:$F$22)=1,OR(AND(G$52>='Mapa de férias'!$E$23,G$52<='Mapa de férias'!$F$23),AND(G$52>='Mapa de férias'!$G$23,G$52<='Mapa de férias'!$H$23),AND(G$52>='Mapa de férias'!$I$23,G$52<='Mapa de férias'!$J$23))),"F","")) | H67: =IF(OR($B67="",H$52=""),"",IF(AND(NETWORKDAYS(H$52,H$52,'Feriados'!$F$7:$F$22)=1,OR(AND(H$52>='Mapa de férias'!$E$23,H$52<='Mapa de férias'!$F$23),AND(H$52>='Mapa de férias'!$G$23,H$52<='Mapa de férias'!$H$23),AND(H$52>='Mapa de férias'!$I$23,H$52<='Mapa de férias'!$J$23))),"F","")) | I67: =IF(OR($B67="",I$52=""),"",IF(AND(NETWORKDAYS(I$52,I$52,'Feriados'!$F$7:$F$22)=1,OR(AND(I$52>='Mapa de férias'!$E$23,I$52<='Mapa de férias'!$F$23),AND(I$52>='Mapa de férias'!$G$23,I$52<='Mapa de férias'!$H$23),AND(I$52>='Mapa de férias'!$I$23,I$52<='Mapa de férias'!$J$23))),"F","")) | J67: =IF(OR($B67="",J$52=""),"",IF(AND(NETWORKDAYS(J$52,J$52,'Feriados'!$F$7:$F$22)=1,OR(AND(J$52>='Mapa de férias'!$E$23,J$52<='Mapa de férias'!$F$23),AND(J$52>='Mapa de férias'!$G$23,J$52<='Mapa de férias'!$H$23),AND(J$52>='Mapa de férias'!$I$23,J$52<='Mapa de férias'!$J$23))),"F","")) | ... AG67: =IF(OR($B67="",AG$52=""),"",IF(AND(NETWORKDAYS(AG$52,AG$52,'Feriados'!$F$7:$F$22)=1,OR(AND(AG$52>='Mapa de férias'!$E$23,AG$52<='Mapa de férias'!$F$23),AND(AG$52>='Mapa de férias'!$G$23,AG$52<='Mapa de férias'!$H$23),AND(AG$52>='Mapa de férias'!$I$23,AG$52<='Mapa de férias'!$J$23))),"F","")) | AH67: =IF($B67="","",COUNTIF(C67:AG67,"F"))
A68: 15 | B68: =IF('Mapa de férias'!$B$24="","",'Mapa de férias'!$B$24) | C68: =IF(OR($B68="",C$52=""),"",IF(AND(NETWORKDAYS(C$52,C$52,'Feriados'!$F$7:$F$22)=1,OR(AND(C$52>='Mapa de férias'!$E$24,C$52<='Mapa de férias'!$F$24),AND(C$52>='Mapa de férias'!$G$24,C$52<='Mapa de férias'!$H$24),AND(C$52>='Mapa de férias'!$I$24,C$52<='Mapa de férias'!$J$24))),"F","")) | D68: =IF(OR($B68="",D$52=""),"",IF(AND(NETWORKDAYS(D$52,D$52,'Feriados'!$F$7:$F$22)=1,OR(AND(D$52>='Mapa de férias'!$E$24,D$52<='Mapa de férias'!$F$24),AND(D$52>='Mapa de férias'!$G$24,D$52<='Mapa de férias'!$H$24),AND(D$52>='Mapa de férias'!$I$24,D$52<='Mapa de férias'!$J$24))),"F","")) | E68: =IF(OR($B68="",E$52=""),"",IF(AND(NETWORKDAYS(E$52,E$52,'Feriados'!$F$7:$F$22)=1,OR(AND(E$52>='Mapa de férias'!$E$24,E$52<='Mapa de férias'!$F$24),AND(E$52>='Mapa de férias'!$G$24,E$52<='Mapa de férias'!$H$24),AND(E$52>='Mapa de férias'!$I$24,E$52<='Mapa de férias'!$J$24))),"F","")) | F68: =IF(OR($B68="",F$52=""),"",IF(AND(NETWORKDAYS(F$52,F$52,'Feriados'!$F$7:$F$22)=1,OR(AND(F$52>='Mapa de férias'!$E$24,F$52<='Mapa de férias'!$F$24),AND(F$52>='Mapa de férias'!$G$24,F$52<='Mapa de férias'!$H$24),AND(F$52>='Mapa de férias'!$I$24,F$52<='Mapa de férias'!$J$24))),"F","")) | G68: =IF(OR($B68="",G$52=""),"",IF(AND(NETWORKDAYS(G$52,G$52,'Feriados'!$F$7:$F$22)=1,OR(AND(G$52>='Mapa de férias'!$E$24,G$52<='Mapa de férias'!$F$24),AND(G$52>='Mapa de férias'!$G$24,G$52<='Mapa de férias'!$H$24),AND(G$52>='Mapa de férias'!$I$24,G$52<='Mapa de férias'!$J$24))),"F","")) | H68: =IF(OR($B68="",H$52=""),"",IF(AND(NETWORKDAYS(H$52,H$52,'Feriados'!$F$7:$F$22)=1,OR(AND(H$52>='Mapa de férias'!$E$24,H$52<='Mapa de férias'!$F$24),AND(H$52>='Mapa de férias'!$G$24,H$52<='Mapa de férias'!$H$24),AND(H$52>='Mapa de férias'!$I$24,H$52<='Mapa de férias'!$J$24))),"F","")) | I68: =IF(OR($B68="",I$52=""),"",IF(AND(NETWORKDAYS(I$52,I$52,'Feriados'!$F$7:$F$22)=1,OR(AND(I$52>='Mapa de férias'!$E$24,I$52<='Mapa de férias'!$F$24),AND(I$52>='Mapa de férias'!$G$24,I$52<='Mapa de férias'!$H$24),AND(I$52>='Mapa de férias'!$I$24,I$52<='Mapa de férias'!$J$24))),"F","")) | J68: =IF(OR($B68="",J$52=""),"",IF(AND(NETWORKDAYS(J$52,J$52,'Feriados'!$F$7:$F$22)=1,OR(AND(J$52>='Mapa de férias'!$E$24,J$52<='Mapa de férias'!$F$24),AND(J$52>='Mapa de férias'!$G$24,J$52<='Mapa de férias'!$H$24),AND(J$52>='Mapa de férias'!$I$24,J$52<='Mapa de férias'!$J$24))),"F","")) | ... AG68: =IF(OR($B68="",AG$52=""),"",IF(AND(NETWORKDAYS(AG$52,AG$52,'Feriados'!$F$7:$F$22)=1,OR(AND(AG$52>='Mapa de férias'!$E$24,AG$52<='Mapa de férias'!$F$24),AND(AG$52>='Mapa de férias'!$G$24,AG$52<='Mapa de férias'!$H$24),AND(AG$52>='Mapa de férias'!$I$24,AG$52<='Mapa de férias'!$J$24))),"F","")) | AH68: =IF($B68="","",COUNTIF(C68:AG68,"F"))
A69: 16 | B69: =IF('Mapa de férias'!$B$25="","",'Mapa de férias'!$B$25) | C69: =IF(OR($B69="",C$52=""),"",IF(AND(NETWORKDAYS(C$52,C$52,'Feriados'!$F$7:$F$22)=1,OR(AND(C$52>='Mapa de férias'!$E$25,C$52<='Mapa de férias'!$F$25),AND(C$52>='Mapa de férias'!$G$25,C$52<='Mapa de férias'!$H$25),AND(C$52>='Mapa de férias'!$I$25,C$52<='Mapa de férias'!$J$25))),"F","")) | D69: =IF(OR($B69="",D$52=""),"",IF(AND(NETWORKDAYS(D$52,D$52,'Feriados'!$F$7:$F$22)=1,OR(AND(D$52>='Mapa de férias'!$E$25,D$52<='Mapa de férias'!$F$25),AND(D$52>='Mapa de férias'!$G$25,D$52<='Mapa de férias'!$H$25),AND(D$52>='Mapa de férias'!$I$25,D$52<='Mapa de férias'!$J$25))),"F","")) | E69: =IF(OR($B69="",E$52=""),"",IF(AND(NETWORKDAYS(E$52,E$52,'Feriados'!$F$7:$F$22)=1,OR(AND(E$52>='Mapa de férias'!$E$25,E$52<='Mapa de férias'!$F$25),AND(E$52>='Mapa de férias'!$G$25,E$52<='Mapa de férias'!$H$25),AND(E$52>='Mapa de férias'!$I$25,E$52<='Mapa de férias'!$J$25))),"F","")) | F69: =IF(OR($B69="",F$52=""),"",IF(AND(NETWORKDAYS(F$52,F$52,'Feriados'!$F$7:$F$22)=1,OR(AND(F$52>='Mapa de férias'!$E$25,F$52<='Mapa de férias'!$F$25),AND(F$52>='Mapa de férias'!$G$25,F$52<='Mapa de férias'!$H$25),AND(F$52>='Mapa de férias'!$I$25,F$52<='Mapa de férias'!$J$25))),"F","")) | G69: =IF(OR($B69="",G$52=""),"",IF(AND(NETWORKDAYS(G$52,G$52,'Feriados'!$F$7:$F$22)=1,OR(AND(G$52>='Mapa de férias'!$E$25,G$52<='Mapa de férias'!$F$25),AND(G$52>='Mapa de férias'!$G$25,G$52<='Mapa de férias'!$H$25),AND(G$52>='Mapa de férias'!$I$25,G$52<='Mapa de férias'!$J$25))),"F","")) | H69: =IF(OR($B69="",H$52=""),"",IF(AND(NETWORKDAYS(H$52,H$52,'Feriados'!$F$7:$F$22)=1,OR(AND(H$52>='Mapa de férias'!$E$25,H$52<='Mapa de férias'!$F$25),AND(H$52>='Mapa de férias'!$G$25,H$52<='Mapa de férias'!$H$25),AND(H$52>='Mapa de férias'!$I$25,H$52<='Mapa de férias'!$J$25))),"F","")) | I69: =IF(OR($B69="",I$52=""),"",IF(AND(NETWORKDAYS(I$52,I$52,'Feriados'!$F$7:$F$22)=1,OR(AND(I$52>='Mapa de férias'!$E$25,I$52<='Mapa de férias'!$F$25),AND(I$52>='Mapa de férias'!$G$25,I$52<='Mapa de férias'!$H$25),AND(I$52>='Mapa de férias'!$I$25,I$52<='Mapa de férias'!$J$25))),"F","")) | J69: =IF(OR($B69="",J$52=""),"",IF(AND(NETWORKDAYS(J$52,J$52,'Feriados'!$F$7:$F$22)=1,OR(AND(J$52>='Mapa de férias'!$E$25,J$52<='Mapa de férias'!$F$25),AND(J$52>='Mapa de férias'!$G$25,J$52<='Mapa de férias'!$H$25),AND(J$52>='Mapa de férias'!$I$25,J$52<='Mapa de férias'!$J$25))),"F","")) | ... AG69: =IF(OR($B69="",AG$52=""),"",IF(AND(NETWORKDAYS(AG$52,AG$52,'Feriados'!$F$7:$F$22)=1,OR(AND(AG$52>='Mapa de férias'!$E$25,AG$52<='Mapa de férias'!$F$25),AND(AG$52>='Mapa de férias'!$G$25,AG$52<='Mapa de férias'!$H$25),AND(AG$52>='Mapa de férias'!$I$25,AG$52<='Mapa de férias'!$J$25))),"F","")) | AH69: =IF($B69="","",COUNTIF(C69:AG69,"F"))
A70: 17 | B70: =IF('Mapa de férias'!$B$26="","",'Mapa de férias'!$B$26) | C70: =IF(OR($B70="",C$52=""),"",IF(AND(NETWORKDAYS(C$52,C$52,'Feriados'!$F$7:$F$22)=1,OR(AND(C$52>='Mapa de férias'!$E$26,C$52<='Mapa de férias'!$F$26),AND(C$52>='Mapa de férias'!$G$26,C$52<='Mapa de férias'!$H$26),AND(C$52>='Mapa de férias'!$I$26,C$52<='Mapa de férias'!$J$26))),"F","")) | D70: =IF(OR($B70="",D$52=""),"",IF(AND(NETWORKDAYS(D$52,D$52,'Feriados'!$F$7:$F$22)=1,OR(AND(D$52>='Mapa de férias'!$E$26,D$52<='Mapa de férias'!$F$26),AND(D$52>='Mapa de férias'!$G$26,D$52<='Mapa de férias'!$H$26),AND(D$52>='Mapa de férias'!$I$26,D$52<='Mapa de férias'!$J$26))),"F","")) | E70: =IF(OR($B70="",E$52=""),"",IF(AND(NETWORKDAYS(E$52,E$52,'Feriados'!$F$7:$F$22)=1,OR(AND(E$52>='Mapa de férias'!$E$26,E$52<='Mapa de férias'!$F$26),AND(E$52>='Mapa de férias'!$G$26,E$52<='Mapa de férias'!$H$26),AND(E$52>='Mapa de férias'!$I$26,E$52<='Mapa de férias'!$J$26))),"F","")) | F70: =IF(OR($B70="",F$52=""),"",IF(AND(NETWORKDAYS(F$52,F$52,'Feriados'!$F$7:$F$22)=1,OR(AND(F$52>='Mapa de férias'!$E$26,F$52<='Mapa de férias'!$F$26),AND(F$52>='Mapa de férias'!$G$26,F$52<='Mapa de férias'!$H$26),AND(F$52>='Mapa de férias'!$I$26,F$52<='Mapa de férias'!$J$26))),"F","")) | G70: =IF(OR($B70="",G$52=""),"",IF(AND(NETWORKDAYS(G$52,G$52,'Feriados'!$F$7:$F$22)=1,OR(AND(G$52>='Mapa de férias'!$E$26,G$52<='Mapa de férias'!$F$26),AND(G$52>='Mapa de férias'!$G$26,G$52<='Mapa de férias'!$H$26),AND(G$52>='Mapa de férias'!$I$26,G$52<='Mapa de férias'!$J$26))),"F","")) | H70: =IF(OR($B70="",H$52=""),"",IF(AND(NETWORKDAYS(H$52,H$52,'Feriados'!$F$7:$F$22)=1,OR(AND(H$52>='Mapa de férias'!$E$26,H$52<='Mapa de férias'!$F$26),AND(H$52>='Mapa de férias'!$G$26,H$52<='Mapa de férias'!$H$26),AND(H$52>='Mapa de férias'!$I$26,H$52<='Mapa de férias'!$J$26))),"F","")) | I70: =IF(OR($B70="",I$52=""),"",IF(AND(NETWORKDAYS(I$52,I$52,'Feriados'!$F$7:$F$22)=1,OR(AND(I$52>='Mapa de férias'!$E$26,I$52<='Mapa de férias'!$F$26),AND(I$52>='Mapa de férias'!$G$26,I$52<='Mapa de férias'!$H$26),AND(I$52>='Mapa de férias'!$I$26,I$52<='Mapa de férias'!$J$26))),"F","")) | J70: =IF(OR($B70="",J$52=""),"",IF(AND(NETWORKDAYS(J$52,J$52,'Feriados'!$F$7:$F$22)=1,OR(AND(J$52>='Mapa de férias'!$E$26,J$52<='Mapa de férias'!$F$26),AND(J$52>='Mapa de férias'!$G$26,J$52<='Mapa de férias'!$H$26),AND(J$52>='Mapa de férias'!$I$26,J$52<='Mapa de férias'!$J$26))),"F","")) | ... AG70: =IF(OR($B70="",AG$52=""),"",IF(AND(NETWORKDAYS(AG$52,AG$52,'Feriados'!$F$7:$F$22)=1,OR(AND(AG$52>='Mapa de férias'!$E$26,AG$52<='Mapa de férias'!$F$26),AND(AG$52>='Mapa de férias'!$G$26,AG$52<='Mapa de férias'!$H$26),AND(AG$52>='Mapa de férias'!$I$26,AG$52<='Mapa de férias'!$J$26))),"F","")) | AH70: =IF($B70="","",COUNTIF(C70:AG70,"F"))
A71: 18 | B71: =IF('Mapa de férias'!$B$27="","",'Mapa de férias'!$B$27) | C71: =IF(OR($B71="",C$52=""),"",IF(AND(NETWORKDAYS(C$52,C$52,'Feriados'!$F$7:$F$22)=1,OR(AND(C$52>='Mapa de férias'!$E$27,C$52<='Mapa de férias'!$F$27),AND(C$52>='Mapa de férias'!$G$27,C$52<='Mapa de férias'!$H$27),AND(C$52>='Mapa de férias'!$I$27,C$52<='Mapa de férias'!$J$27))),"F","")) | D71: =IF(OR($B71="",D$52=""),"",IF(AND(NETWORKDAYS(D$52,D$52,'Feriados'!$F$7:$F$22)=1,OR(AND(D$52>='Mapa de férias'!$E$27,D$52<='Mapa de férias'!$F$27),AND(D$52>='Mapa de férias'!$G$27,D$52<='Mapa de férias'!$H$27),AND(D$52>='Mapa de férias'!$I$27,D$52<='Mapa de férias'!$J$27))),"F","")) | E71: =IF(OR($B71="",E$52=""),"",IF(AND(NETWORKDAYS(E$52,E$52,'Feriados'!$F$7:$F$22)=1,OR(AND(E$52>='Mapa de férias'!$E$27,E$52<='Mapa de férias'!$F$27),AND(E$52>='Mapa de férias'!$G$27,E$52<='Mapa de férias'!$H$27),AND(E$52>='Mapa de férias'!$I$27,E$52<='Mapa de férias'!$J$27))),"F","")) | F71: =IF(OR($B71="",F$52=""),"",IF(AND(NETWORKDAYS(F$52,F$52,'Feriados'!$F$7:$F$22)=1,OR(AND(F$52>='Mapa de férias'!$E$27,F$52<='Mapa de férias'!$F$27),AND(F$52>='Mapa de férias'!$G$27,F$52<='Mapa de férias'!$H$27),AND(F$52>='Mapa de férias'!$I$27,F$52<='Mapa de férias'!$J$27))),"F","")) | G71: =IF(OR($B71="",G$52=""),"",IF(AND(NETWORKDAYS(G$52,G$52,'Feriados'!$F$7:$F$22)=1,OR(AND(G$52>='Mapa de férias'!$E$27,G$52<='Mapa de férias'!$F$27),AND(G$52>='Mapa de férias'!$G$27,G$52<='Mapa de férias'!$H$27),AND(G$52>='Mapa de férias'!$I$27,G$52<='Mapa de férias'!$J$27))),"F","")) | H71: =IF(OR($B71="",H$52=""),"",IF(AND(NETWORKDAYS(H$52,H$52,'Feriados'!$F$7:$F$22)=1,OR(AND(H$52>='Mapa de férias'!$E$27,H$52<='Mapa de férias'!$F$27),AND(H$52>='Mapa de férias'!$G$27,H$52<='Mapa de férias'!$H$27),AND(H$52>='Mapa de férias'!$I$27,H$52<='Mapa de férias'!$J$27))),"F","")) | I71: =IF(OR($B71="",I$52=""),"",IF(AND(NETWORKDAYS(I$52,I$52,'Feriados'!$F$7:$F$22)=1,OR(AND(I$52>='Mapa de férias'!$E$27,I$52<='Mapa de férias'!$F$27),AND(I$52>='Mapa de férias'!$G$27,I$52<='Mapa de férias'!$H$27),AND(I$52>='Mapa de férias'!$I$27,I$52<='Mapa de férias'!$J$27))),"F","")) | J71: =IF(OR($B71="",J$52=""),"",IF(AND(NETWORKDAYS(J$52,J$52,'Feriados'!$F$7:$F$22)=1,OR(AND(J$52>='Mapa de férias'!$E$27,J$52<='Mapa de férias'!$F$27),AND(J$52>='Mapa de férias'!$G$27,J$52<='Mapa de férias'!$H$27),AND(J$52>='Mapa de férias'!$I$27,J$52<='Mapa de férias'!$J$27))),"F","")) | ... AG71: =IF(OR($B71="",AG$52=""),"",IF(AND(NETWORKDAYS(AG$52,AG$52,'Feriados'!$F$7:$F$22)=1,OR(AND(AG$52>='Mapa de férias'!$E$27,AG$52<='Mapa de férias'!$F$27),AND(AG$52>='Mapa de férias'!$G$27,AG$52<='Mapa de férias'!$H$27),AND(AG$52>='Mapa de férias'!$I$27,AG$52<='Mapa de férias'!$J$27))),"F","")) | AH71: =IF($B71="","",COUNTIF(C71:AG71,"F"))
A72: 19 | B72: =IF('Mapa de férias'!$B$28="","",'Mapa de férias'!$B$28) | C72: =IF(OR($B72="",C$52=""),"",IF(AND(NETWORKDAYS(C$52,C$52,'Feriados'!$F$7:$F$22)=1,OR(AND(C$52>='Mapa de férias'!$E$28,C$52<='Mapa de férias'!$F$28),AND(C$52>='Mapa de férias'!$G$28,C$52<='Mapa de férias'!$H$28),AND(C$52>='Mapa de férias'!$I$28,C$52<='Mapa de férias'!$J$28))),"F","")) | D72: =IF(OR($B72="",D$52=""),"",IF(AND(NETWORKDAYS(D$52,D$52,'Feriados'!$F$7:$F$22)=1,OR(AND(D$52>='Mapa de férias'!$E$28,D$52<='Mapa de férias'!$F$28),AND(D$52>='Mapa de férias'!$G$28,D$52<='Mapa de férias'!$H$28),AND(D$52>='Mapa de férias'!$I$28,D$52<='Mapa de férias'!$J$28))),"F","")) | E72: =IF(OR($B72="",E$52=""),"",IF(AND(NETWORKDAYS(E$52,E$52,'Feriados'!$F$7:$F$22)=1,OR(AND(E$52>='Mapa de férias'!$E$28,E$52<='Mapa de férias'!$F$28),AND(E$52>='Mapa de férias'!$G$28,E$52<='Mapa de férias'!$H$28),AND(E$52>='Mapa de férias'!$I$28,E$52<='Mapa de férias'!$J$28))),"F","")) | F72: =IF(OR($B72="",F$52=""),"",IF(AND(NETWORKDAYS(F$52,F$52,'Feriados'!$F$7:$F$22)=1,OR(AND(F$52>='Mapa de férias'!$E$28,F$52<='Mapa de férias'!$F$28),AND(F$52>='Mapa de férias'!$G$28,F$52<='Mapa de férias'!$H$28),AND(F$52>='Mapa de férias'!$I$28,F$52<='Mapa de férias'!$J$28))),"F","")) | G72: =IF(OR($B72="",G$52=""),"",IF(AND(NETWORKDAYS(G$52,G$52,'Feriados'!$F$7:$F$22)=1,OR(AND(G$52>='Mapa de férias'!$E$28,G$52<='Mapa de férias'!$F$28),AND(G$52>='Mapa de férias'!$G$28,G$52<='Mapa de férias'!$H$28),AND(G$52>='Mapa de férias'!$I$28,G$52<='Mapa de férias'!$J$28))),"F","")) | H72: =IF(OR($B72="",H$52=""),"",IF(AND(NETWORKDAYS(H$52,H$52,'Feriados'!$F$7:$F$22)=1,OR(AND(H$52>='Mapa de férias'!$E$28,H$52<='Mapa de férias'!$F$28),AND(H$52>='Mapa de férias'!$G$28,H$52<='Mapa de férias'!$H$28),AND(H$52>='Mapa de férias'!$I$28,H$52<='Mapa de férias'!$J$28))),"F","")) | I72: =IF(OR($B72="",I$52=""),"",IF(AND(NETWORKDAYS(I$52,I$52,'Feriados'!$F$7:$F$22)=1,OR(AND(I$52>='Mapa de férias'!$E$28,I$52<='Mapa de férias'!$F$28),AND(I$52>='Mapa de férias'!$G$28,I$52<='Mapa de férias'!$H$28),AND(I$52>='Mapa de férias'!$I$28,I$52<='Mapa de férias'!$J$28))),"F","")) | J72: =IF(OR($B72="",J$52=""),"",IF(AND(NETWORKDAYS(J$52,J$52,'Feriados'!$F$7:$F$22)=1,OR(AND(J$52>='Mapa de férias'!$E$28,J$52<='Mapa de férias'!$F$28),AND(J$52>='Mapa de férias'!$G$28,J$52<='Mapa de férias'!$H$28),AND(J$52>='Mapa de férias'!$I$28,J$52<='Mapa de férias'!$J$28))),"F","")) | ... AG72: =IF(OR($B72="",AG$52=""),"",IF(AND(NETWORKDAYS(AG$52,AG$52,'Feriados'!$F$7:$F$22)=1,OR(AND(AG$52>='Mapa de férias'!$E$28,AG$52<='Mapa de férias'!$F$28),AND(AG$52>='Mapa de férias'!$G$28,AG$52<='Mapa de férias'!$H$28),AND(AG$52>='Mapa de férias'!$I$28,AG$52<='Mapa de férias'!$J$28))),"F","")) | AH72: =IF($B72="","",COUNTIF(C72:AG72,"F"))
A73: 20 | B73: =IF('Mapa de férias'!$B$29="","",'Mapa de férias'!$B$29) | C73: =IF(OR($B73="",C$52=""),"",IF(AND(NETWORKDAYS(C$52,C$52,'Feriados'!$F$7:$F$22)=1,OR(AND(C$52>='Mapa de férias'!$E$29,C$52<='Mapa de férias'!$F$29),AND(C$52>='Mapa de férias'!$G$29,C$52<='Mapa de férias'!$H$29),AND(C$52>='Mapa de férias'!$I$29,C$52<='Mapa de férias'!$J$29))),"F","")) | D73: =IF(OR($B73="",D$52=""),"",IF(AND(NETWORKDAYS(D$52,D$52,'Feriados'!$F$7:$F$22)=1,OR(AND(D$52>='Mapa de férias'!$E$29,D$52<='Mapa de férias'!$F$29),AND(D$52>='Mapa de férias'!$G$29,D$52<='Mapa de férias'!$H$29),AND(D$52>='Mapa de férias'!$I$29,D$52<='Mapa de férias'!$J$29))),"F","")) | E73: =IF(OR($B73="",E$52=""),"",IF(AND(NETWORKDAYS(E$52,E$52,'Feriados'!$F$7:$F$22)=1,OR(AND(E$52>='Mapa de férias'!$E$29,E$52<='Mapa de férias'!$F$29),AND(E$52>='Mapa de férias'!$G$29,E$52<='Mapa de férias'!$H$29),AND(E$52>='Mapa de férias'!$I$29,E$52<='Mapa de férias'!$J$29))),"F","")) | F73: =IF(OR($B73="",F$52=""),"",IF(AND(NETWORKDAYS(F$52,F$52,'Feriados'!$F$7:$F$22)=1,OR(AND(F$52>='Mapa de férias'!$E$29,F$52<='Mapa de férias'!$F$29),AND(F$52>='Mapa de férias'!$G$29,F$52<='Mapa de férias'!$H$29),AND(F$52>='Mapa de férias'!$I$29,F$52<='Mapa de férias'!$J$29))),"F","")) | G73: =IF(OR($B73="",G$52=""),"",IF(AND(NETWORKDAYS(G$52,G$52,'Feriados'!$F$7:$F$22)=1,OR(AND(G$52>='Mapa de férias'!$E$29,G$52<='Mapa de férias'!$F$29),AND(G$52>='Mapa de férias'!$G$29,G$52<='Mapa de férias'!$H$29),AND(G$52>='Mapa de férias'!$I$29,G$52<='Mapa de férias'!$J$29))),"F","")) | H73: =IF(OR($B73="",H$52=""),"",IF(AND(NETWORKDAYS(H$52,H$52,'Feriados'!$F$7:$F$22)=1,OR(AND(H$52>='Mapa de férias'!$E$29,H$52<='Mapa de férias'!$F$29),AND(H$52>='Mapa de férias'!$G$29,H$52<='Mapa de férias'!$H$29),AND(H$52>='Mapa de férias'!$I$29,H$52<='Mapa de férias'!$J$29))),"F","")) | I73: =IF(OR($B73="",I$52=""),"",IF(AND(NETWORKDAYS(I$52,I$52,'Feriados'!$F$7:$F$22)=1,OR(AND(I$52>='Mapa de férias'!$E$29,I$52<='Mapa de férias'!$F$29),AND(I$52>='Mapa de férias'!$G$29,I$52<='Mapa de férias'!$H$29),AND(I$52>='Mapa de férias'!$I$29,I$52<='Mapa de férias'!$J$29))),"F","")) | J73: =IF(OR($B73="",J$52=""),"",IF(AND(NETWORKDAYS(J$52,J$52,'Feriados'!$F$7:$F$22)=1,OR(AND(J$52>='Mapa de férias'!$E$29,J$52<='Mapa de férias'!$F$29),AND(J$52>='Mapa de férias'!$G$29,J$52<='Mapa de férias'!$H$29),AND(J$52>='Mapa de férias'!$I$29,J$52<='Mapa de férias'!$J$29))),"F","")) | ... AG73: =IF(OR($B73="",AG$52=""),"",IF(AND(NETWORKDAYS(AG$52,AG$52,'Feriados'!$F$7:$F$22)=1,OR(AND(AG$52>='Mapa de férias'!$E$29,AG$52<='Mapa de férias'!$F$29),AND(AG$52>='Mapa de férias'!$G$29,AG$52<='Mapa de férias'!$H$29),AND(AG$52>='Mapa de férias'!$I$29,AG$52<='Mapa de férias'!$J$29))),"F","")) | AH73: =IF($B73="","",COUNTIF(C73:AG73,"F"))
A75: =DATE('Mapa de férias'!$C$6,4,1) | C75: =IF(1>DAY(DATE('Mapa de férias'!$C$6,4+1,0)),"",DATE('Mapa de férias'!$C$6,4,1)) | D75: =IF(2>DAY(DATE('Mapa de férias'!$C$6,4+1,0)),"",DATE('Mapa de férias'!$C$6,4,2)) | E75: =IF(3>DAY(DATE('Mapa de férias'!$C$6,4+1,0)),"",DATE('Mapa de férias'!$C$6,4,3)) | F75: =IF(4>DAY(DATE('Mapa de férias'!$C$6,4+1,0)),"",DATE('Mapa de férias'!$C$6,4,4)) | G75: =IF(5>DAY(DATE('Mapa de férias'!$C$6,4+1,0)),"",DATE('Mapa de férias'!$C$6,4,5)) | H75: =IF(6>DAY(DATE('Mapa de férias'!$C$6,4+1,0)),"",DATE('Mapa de férias'!$C$6,4,6)) | I75: =IF(7>DAY(DATE('Mapa de férias'!$C$6,4+1,0)),"",DATE('Mapa de férias'!$C$6,4,7)) | J75: =IF(8>DAY(DATE('Mapa de férias'!$C$6,4+1,0)),"",DATE('Mapa de férias'!$C$6,4,8)) | K75: =IF(9>DAY(DATE('Mapa de férias'!$C$6,4+1,0)),"",DATE('Mapa de férias'!$C$6,4,9)) | L75: =IF(10>DAY(DATE('Mapa de férias'!$C$6,4+1,0)),"",DATE('Mapa de férias'!$C$6,4,10)) | M75: =IF(11>DAY(DATE('Mapa de férias'!$C$6,4+1,0)),"",DATE('Mapa de férias'!$C$6,4,11)) | N75: =IF(12>DAY(DATE('Mapa de férias'!$C$6,4+1,0)),"",DATE('Mapa de férias'!$C$6,4,12)) | O75: =IF(13>DAY(DATE('Mapa de férias'!$C$6,4+1,0)),"",DATE('Mapa de férias'!$C$6,4,13)) | P75: =IF(14>DAY(DATE('Mapa de férias'!$C$6,4+1,0)),"",DATE('Mapa de férias'!$C$6,4,14)) | Q75: =IF(15>DAY(DATE('Mapa de férias'!$C$6,4+1,0)),"",DATE('Mapa de férias'!$C$6,4,15)) | R75: =IF(16>DAY(DATE('Mapa de férias'!$C$6,4+1,0)),"",DATE('Mapa de férias'!$C$6,4,16)) | S75: =IF(17>DAY(DATE('Mapa de férias'!$C$6,4+1,0)),"",DATE('Mapa de férias'!$C$6,4,17)) | T75: =IF(18>DAY(DATE('Mapa de férias'!$C$6,4+1,0)),"",DATE('Mapa de férias'!$C$6,4,18)) | U75: =IF(19>DAY(DATE('Mapa de férias'!$C$6,4+1,0)),"",DATE('Mapa de férias'!$C$6,4,19)) | V75: =IF(20>DAY(DATE('Mapa de férias'!$C$6,4+1,0)),"",DATE('Mapa de férias'!$C$6,4,20)) | W75: =IF(21>DAY(DATE('Mapa de férias'!$C$6,4+1,0)),"",DATE('Mapa de férias'!$C$6,4,21)) | X75: =IF(22>DAY(DATE('Mapa de férias'!$C$6,4+1,0)),"",DATE('Mapa de férias'!$C$6,4,22)) | Y75: =IF(23>DAY(DATE('Mapa de férias'!$C$6,4+1,0)),"",DATE('Mapa de férias'!$C$6,4,23)) | Z75: =IF(24>DAY(DATE('Mapa de férias'!$C$6,4+1,0)),"",DATE('Mapa de férias'!$C$6,4,24)) | AA75: =IF(25>DAY(DATE('Mapa de férias'!$C$6,4+1,0)),"",DATE('Mapa de férias'!$C$6,4,25)) | AB75: =IF(26>DAY(DATE('Mapa de férias'!$C$6,4+1,0)),"",DATE('Mapa de férias'!$C$6,4,26)) | AC75: =IF(27>DAY(DATE('Mapa de férias'!$C$6,4+1,0)),"",DATE('Mapa de férias'!$C$6,4,27)) | AD75: =IF(28>DAY(DATE('Mapa de férias'!$C$6,4+1,0)),"",DATE('Mapa de férias'!$C$6,4,28)) | AE75: =IF(29>DAY(DATE('Mapa de férias'!$C$6,4+1,0)),"",DATE('Mapa de férias'!$C$6,4,29)) | AF75: =IF(30>DAY(DATE('Mapa de férias'!$C$6,4+1,0)),"",DATE('Mapa de férias'!$C$6,4,30)) | AG75: =IF(31>DAY(DATE('Mapa de férias'!$C$6,4+1,0)),"",DATE('Mapa de férias'!$C$6,4,31)) | AH75: Dias
C76: =IF(C75="","",C75) | D76: =IF(D75="","",D75) | E76: =IF(E75="","",E75) | F76: =IF(F75="","",F75) | G76: =IF(G75="","",G75) | H76: =IF(H75="","",H75) | I76: =IF(I75="","",I75) | J76: =IF(J75="","",J75) | ... AG76: =IF(AG75="","",AG75)
A77: 1 | B77: =IF('Mapa de férias'!$B$10="","",'Mapa de férias'!$B$10) | C77: =IF(OR($B77="",C$75=""),"",IF(AND(NETWORKDAYS(C$75,C$75,'Feriados'!$F$7:$F$22)=1,OR(AND(C$75>='Mapa de férias'!$E$10,C$75<='Mapa de férias'!$F$10),AND(C$75>='Mapa de férias'!$G$10,C$75<='Mapa de férias'!$H$10),AND(C$75>='Mapa de férias'!$I$10,C$75<='Mapa de férias'!$J$10))),"F","")) | D77: =IF(OR($B77="",D$75=""),"",IF(AND(NETWORKDAYS(D$75,D$75,'Feriados'!$F$7:$F$22)=1,OR(AND(D$75>='Mapa de férias'!$E$10,D$75<='Mapa de férias'!$F$10),AND(D$75>='Mapa de férias'!$G$10,D$75<='Mapa de férias'!$H$10),AND(D$75>='Mapa de férias'!$I$10,D$75<='Mapa de férias'!$J$10))),"F","")) | E77: =IF(OR($B77="",E$75=""),"",IF(AND(NETWORKDAYS(E$75,E$75,'Feriados'!$F$7:$F$22)=1,OR(AND(E$75>='Mapa de férias'!$E$10,E$75<='Mapa de férias'!$F$10),AND(E$75>='Mapa de férias'!$G$10,E$75<='Mapa de férias'!$H$10),AND(E$75>='Mapa de férias'!$I$10,E$75<='Mapa de férias'!$J$10))),"F","")) | F77: =IF(OR($B77="",F$75=""),"",IF(AND(NETWORKDAYS(F$75,F$75,'Feriados'!$F$7:$F$22)=1,OR(AND(F$75>='Mapa de férias'!$E$10,F$75<='Mapa de férias'!$F$10),AND(F$75>='Mapa de férias'!$G$10,F$75<='Mapa de férias'!$H$10),AND(F$75>='Mapa de férias'!$I$10,F$75<='Mapa de férias'!$J$10))),"F","")) | G77: =IF(OR($B77="",G$75=""),"",IF(AND(NETWORKDAYS(G$75,G$75,'Feriados'!$F$7:$F$22)=1,OR(AND(G$75>='Mapa de férias'!$E$10,G$75<='Mapa de férias'!$F$10),AND(G$75>='Mapa de férias'!$G$10,G$75<='Mapa de férias'!$H$10),AND(G$75>='Mapa de férias'!$I$10,G$75<='Mapa de férias'!$J$10))),"F","")) | H77: =IF(OR($B77="",H$75=""),"",IF(AND(NETWORKDAYS(H$75,H$75,'Feriados'!$F$7:$F$22)=1,OR(AND(H$75>='Mapa de férias'!$E$10,H$75<='Mapa de férias'!$F$10),AND(H$75>='Mapa de férias'!$G$10,H$75<='Mapa de férias'!$H$10),AND(H$75>='Mapa de férias'!$I$10,H$75<='Mapa de férias'!$J$10))),"F","")) | I77: =IF(OR($B77="",I$75=""),"",IF(AND(NETWORKDAYS(I$75,I$75,'Feriados'!$F$7:$F$22)=1,OR(AND(I$75>='Mapa de férias'!$E$10,I$75<='Mapa de férias'!$F$10),AND(I$75>='Mapa de férias'!$G$10,I$75<='Mapa de férias'!$H$10),AND(I$75>='Mapa de férias'!$I$10,I$75<='Mapa de férias'!$J$10))),"F","")) | J77: =IF(OR($B77="",J$75=""),"",IF(AND(NETWORKDAYS(J$75,J$75,'Feriados'!$F$7:$F$22)=1,OR(AND(J$75>='Mapa de férias'!$E$10,J$75<='Mapa de férias'!$F$10),AND(J$75>='Mapa de férias'!$G$10,J$75<='Mapa de férias'!$H$10),AND(J$75>='Mapa de férias'!$I$10,J$75<='Mapa de férias'!$J$10))),"F","")) | ... AG77: =IF(OR($B77="",AG$75=""),"",IF(AND(NETWORKDAYS(AG$75,AG$75,'Feriados'!$F$7:$F$22)=1,OR(AND(AG$75>='Mapa de férias'!$E$10,AG$75<='Mapa de férias'!$F$10),AND(AG$75>='Mapa de férias'!$G$10,AG$75<='Mapa de férias'!$H$10),AND(AG$75>='Mapa de férias'!$I$10,AG$75<='Mapa de férias'!$J$10))),"F","")) | AH77: =IF($B77="","",COUNTIF(C77:AG77,"F"))
A78: 2 | B78: =IF('Mapa de férias'!$B$11="","",'Mapa de férias'!$B$11) | C78: =IF(OR($B78="",C$75=""),"",IF(AND(NETWORKDAYS(C$75,C$75,'Feriados'!$F$7:$F$22)=1,OR(AND(C$75>='Mapa de férias'!$E$11,C$75<='Mapa de férias'!$F$11),AND(C$75>='Mapa de férias'!$G$11,C$75<='Mapa de férias'!$H$11),AND(C$75>='Mapa de férias'!$I$11,C$75<='Mapa de férias'!$J$11))),"F","")) | D78: =IF(OR($B78="",D$75=""),"",IF(AND(NETWORKDAYS(D$75,D$75,'Feriados'!$F$7:$F$22)=1,OR(AND(D$75>='Mapa de férias'!$E$11,D$75<='Mapa de férias'!$F$11),AND(D$75>='Mapa de férias'!$G$11,D$75<='Mapa de férias'!$H$11),AND(D$75>='Mapa de férias'!$I$11,D$75<='Mapa de férias'!$J$11))),"F","")) | E78: =IF(OR($B78="",E$75=""),"",IF(AND(NETWORKDAYS(E$75,E$75,'Feriados'!$F$7:$F$22)=1,OR(AND(E$75>='Mapa de férias'!$E$11,E$75<='Mapa de férias'!$F$11),AND(E$75>='Mapa de férias'!$G$11,E$75<='Mapa de férias'!$H$11),AND(E$75>='Mapa de férias'!$I$11,E$75<='Mapa de férias'!$J$11))),"F","")) | F78: =IF(OR($B78="",F$75=""),"",IF(AND(NETWORKDAYS(F$75,F$75,'Feriados'!$F$7:$F$22)=1,OR(AND(F$75>='Mapa de férias'!$E$11,F$75<='Mapa de férias'!$F$11),AND(F$75>='Mapa de férias'!$G$11,F$75<='Mapa de férias'!$H$11),AND(F$75>='Mapa de férias'!$I$11,F$75<='Mapa de férias'!$J$11))),"F","")) | G78: =IF(OR($B78="",G$75=""),"",IF(AND(NETWORKDAYS(G$75,G$75,'Feriados'!$F$7:$F$22)=1,OR(AND(G$75>='Mapa de férias'!$E$11,G$75<='Mapa de férias'!$F$11),AND(G$75>='Mapa de férias'!$G$11,G$75<='Mapa de férias'!$H$11),AND(G$75>='Mapa de férias'!$I$11,G$75<='Mapa de férias'!$J$11))),"F","")) | H78: =IF(OR($B78="",H$75=""),"",IF(AND(NETWORKDAYS(H$75,H$75,'Feriados'!$F$7:$F$22)=1,OR(AND(H$75>='Mapa de férias'!$E$11,H$75<='Mapa de férias'!$F$11),AND(H$75>='Mapa de férias'!$G$11,H$75<='Mapa de férias'!$H$11),AND(H$75>='Mapa de férias'!$I$11,H$75<='Mapa de férias'!$J$11))),"F","")) | I78: =IF(OR($B78="",I$75=""),"",IF(AND(NETWORKDAYS(I$75,I$75,'Feriados'!$F$7:$F$22)=1,OR(AND(I$75>='Mapa de férias'!$E$11,I$75<='Mapa de férias'!$F$11),AND(I$75>='Mapa de férias'!$G$11,I$75<='Mapa de férias'!$H$11),AND(I$75>='Mapa de férias'!$I$11,I$75<='Mapa de férias'!$J$11))),"F","")) | J78: =IF(OR($B78="",J$75=""),"",IF(AND(NETWORKDAYS(J$75,J$75,'Feriados'!$F$7:$F$22)=1,OR(AND(J$75>='Mapa de férias'!$E$11,J$75<='Mapa de férias'!$F$11),AND(J$75>='Mapa de férias'!$G$11,J$75<='Mapa de férias'!$H$11),AND(J$75>='Mapa de férias'!$I$11,J$75<='Mapa de férias'!$J$11))),"F","")) | ... AG78: =IF(OR($B78="",AG$75=""),"",IF(AND(NETWORKDAYS(AG$75,AG$75,'Feriados'!$F$7:$F$22)=1,OR(AND(AG$75>='Mapa de férias'!$E$11,AG$75<='Mapa de férias'!$F$11),AND(AG$75>='Mapa de férias'!$G$11,AG$75<='Mapa de férias'!$H$11),AND(AG$75>='Mapa de férias'!$I$11,AG$75<='Mapa de férias'!$J$11))),"F","")) | AH78: =IF($B78="","",COUNTIF(C78:AG78,"F"))
A79: 3 | B79: =IF('Mapa de férias'!$B$12="","",'Mapa de férias'!$B$12) | C79: =IF(OR($B79="",C$75=""),"",IF(AND(NETWORKDAYS(C$75,C$75,'Feriados'!$F$7:$F$22)=1,OR(AND(C$75>='Mapa de férias'!$E$12,C$75<='Mapa de férias'!$F$12),AND(C$75>='Mapa de férias'!$G$12,C$75<='Mapa de férias'!$H$12),AND(C$75>='Mapa de férias'!$I$12,C$75<='Mapa de férias'!$J$12))),"F","")) | D79: =IF(OR($B79="",D$75=""),"",IF(AND(NETWORKDAYS(D$75,D$75,'Feriados'!$F$7:$F$22)=1,OR(AND(D$75>='Mapa de férias'!$E$12,D$75<='Mapa de férias'!$F$12),AND(D$75>='Mapa de férias'!$G$12,D$75<='Mapa de férias'!$H$12),AND(D$75>='Mapa de férias'!$I$12,D$75<='Mapa de férias'!$J$12))),"F","")) | E79: =IF(OR($B79="",E$75=""),"",IF(AND(NETWORKDAYS(E$75,E$75,'Feriados'!$F$7:$F$22)=1,OR(AND(E$75>='Mapa de férias'!$E$12,E$75<='Mapa de férias'!$F$12),AND(E$75>='Mapa de férias'!$G$12,E$75<='Mapa de férias'!$H$12),AND(E$75>='Mapa de férias'!$I$12,E$75<='Mapa de férias'!$J$12))),"F","")) | F79: =IF(OR($B79="",F$75=""),"",IF(AND(NETWORKDAYS(F$75,F$75,'Feriados'!$F$7:$F$22)=1,OR(AND(F$75>='Mapa de férias'!$E$12,F$75<='Mapa de férias'!$F$12),AND(F$75>='Mapa de férias'!$G$12,F$75<='Mapa de férias'!$H$12),AND(F$75>='Mapa de férias'!$I$12,F$75<='Mapa de férias'!$J$12))),"F","")) | G79: =IF(OR($B79="",G$75=""),"",IF(AND(NETWORKDAYS(G$75,G$75,'Feriados'!$F$7:$F$22)=1,OR(AND(G$75>='Mapa de férias'!$E$12,G$75<='Mapa de férias'!$F$12),AND(G$75>='Mapa de férias'!$G$12,G$75<='Mapa de férias'!$H$12),AND(G$75>='Mapa de férias'!$I$12,G$75<='Mapa de férias'!$J$12))),"F","")) | H79: =IF(OR($B79="",H$75=""),"",IF(AND(NETWORKDAYS(H$75,H$75,'Feriados'!$F$7:$F$22)=1,OR(AND(H$75>='Mapa de férias'!$E$12,H$75<='Mapa de férias'!$F$12),AND(H$75>='Mapa de férias'!$G$12,H$75<='Mapa de férias'!$H$12),AND(H$75>='Mapa de férias'!$I$12,H$75<='Mapa de férias'!$J$12))),"F","")) | I79: =IF(OR($B79="",I$75=""),"",IF(AND(NETWORKDAYS(I$75,I$75,'Feriados'!$F$7:$F$22)=1,OR(AND(I$75>='Mapa de férias'!$E$12,I$75<='Mapa de férias'!$F$12),AND(I$75>='Mapa de férias'!$G$12,I$75<='Mapa de férias'!$H$12),AND(I$75>='Mapa de férias'!$I$12,I$75<='Mapa de férias'!$J$12))),"F","")) | J79: =IF(OR($B79="",J$75=""),"",IF(AND(NETWORKDAYS(J$75,J$75,'Feriados'!$F$7:$F$22)=1,OR(AND(J$75>='Mapa de férias'!$E$12,J$75<='Mapa de férias'!$F$12),AND(J$75>='Mapa de férias'!$G$12,J$75<='Mapa de férias'!$H$12),AND(J$75>='Mapa de férias'!$I$12,J$75<='Mapa de férias'!$J$12))),"F","")) | ... AG79: =IF(OR($B79="",AG$75=""),"",IF(AND(NETWORKDAYS(AG$75,AG$75,'Feriados'!$F$7:$F$22)=1,OR(AND(AG$75>='Mapa de férias'!$E$12,AG$75<='Mapa de férias'!$F$12),AND(AG$75>='Mapa de férias'!$G$12,AG$75<='Mapa de férias'!$H$12),AND(AG$75>='Mapa de férias'!$I$12,AG$75<='Mapa de férias'!$J$12))),"F","")) | AH79: =IF($B79="","",COUNTIF(C79:AG79,"F"))
A80: 4 | B80: =IF('Mapa de férias'!$B$13="","",'Mapa de férias'!$B$13) | C80: =IF(OR($B80="",C$75=""),"",IF(AND(NETWORKDAYS(C$75,C$75,'Feriados'!$F$7:$F$22)=1,OR(AND(C$75>='Mapa de férias'!$E$13,C$75<='Mapa de férias'!$F$13),AND(C$75>='Mapa de férias'!$G$13,C$75<='Mapa de férias'!$H$13),AND(C$75>='Mapa de férias'!$I$13,C$75<='Mapa de férias'!$J$13))),"F","")) | D80: =IF(OR($B80="",D$75=""),"",IF(AND(NETWORKDAYS(D$75,D$75,'Feriados'!$F$7:$F$22)=1,OR(AND(D$75>='Mapa de férias'!$E$13,D$75<='Mapa de férias'!$F$13),AND(D$75>='Mapa de férias'!$G$13,D$75<='Mapa de férias'!$H$13),AND(D$75>='Mapa de férias'!$I$13,D$75<='Mapa de férias'!$J$13))),"F","")) | E80: =IF(OR($B80="",E$75=""),"",IF(AND(NETWORKDAYS(E$75,E$75,'Feriados'!$F$7:$F$22)=1,OR(AND(E$75>='Mapa de férias'!$E$13,E$75<='Mapa de férias'!$F$13),AND(E$75>='Mapa de férias'!$G$13,E$75<='Mapa de férias'!$H$13),AND(E$75>='Mapa de férias'!$I$13,E$75<='Mapa de férias'!$J$13))),"F","")) | F80: =IF(OR($B80="",F$75=""),"",IF(AND(NETWORKDAYS(F$75,F$75,'Feriados'!$F$7:$F$22)=1,OR(AND(F$75>='Mapa de férias'!$E$13,F$75<='Mapa de férias'!$F$13),AND(F$75>='Mapa de férias'!$G$13,F$75<='Mapa de férias'!$H$13),AND(F$75>='Mapa de férias'!$I$13,F$75<='Mapa de férias'!$J$13))),"F","")) | G80: =IF(OR($B80="",G$75=""),"",IF(AND(NETWORKDAYS(G$75,G$75,'Feriados'!$F$7:$F$22)=1,OR(AND(G$75>='Mapa de férias'!$E$13,G$75<='Mapa de férias'!$F$13),AND(G$75>='Mapa de férias'!$G$13,G$75<='Mapa de férias'!$H$13),AND(G$75>='Mapa de férias'!$I$13,G$75<='Mapa de férias'!$J$13))),"F","")) | H80: =IF(OR($B80="",H$75=""),"",IF(AND(NETWORKDAYS(H$75,H$75,'Feriados'!$F$7:$F$22)=1,OR(AND(H$75>='Mapa de férias'!$E$13,H$75<='Mapa de férias'!$F$13),AND(H$75>='Mapa de férias'!$G$13,H$75<='Mapa de férias'!$H$13),AND(H$75>='Mapa de férias'!$I$13,H$75<='Mapa de férias'!$J$13))),"F","")) | I80: =IF(OR($B80="",I$75=""),"",IF(AND(NETWORKDAYS(I$75,I$75,'Feriados'!$F$7:$F$22)=1,OR(AND(I$75>='Mapa de férias'!$E$13,I$75<='Mapa de férias'!$F$13),AND(I$75>='Mapa de férias'!$G$13,I$75<='Mapa de férias'!$H$13),AND(I$75>='Mapa de férias'!$I$13,I$75<='Mapa de férias'!$J$13))),"F","")) | J80: =IF(OR($B80="",J$75=""),"",IF(AND(NETWORKDAYS(J$75,J$75,'Feriados'!$F$7:$F$22)=1,OR(AND(J$75>='Mapa de férias'!$E$13,J$75<='Mapa de férias'!$F$13),AND(J$75>='Mapa de férias'!$G$13,J$75<='Mapa de férias'!$H$13),AND(J$75>='Mapa de férias'!$I$13,J$75<='Mapa de férias'!$J$13))),"F","")) | ... AG80: =IF(OR($B80="",AG$75=""),"",IF(AND(NETWORKDAYS(AG$75,AG$75,'Feriados'!$F$7:$F$22)=1,OR(AND(AG$75>='Mapa de férias'!$E$13,AG$75<='Mapa de férias'!$F$13),AND(AG$75>='Mapa de férias'!$G$13,AG$75<='Mapa de férias'!$H$13),AND(AG$75>='Mapa de férias'!$I$13,AG$75<='Mapa de férias'!$J$13))),"F","")) | AH80: =IF($B80="","",COUNTIF(C80:AG80,"F"))
A81: 5 | B81: =IF('Mapa de férias'!$B$14="","",'Mapa de férias'!$B$14) | C81: =IF(OR($B81="",C$75=""),"",IF(AND(NETWORKDAYS(C$75,C$75,'Feriados'!$F$7:$F$22)=1,OR(AND(C$75>='Mapa de férias'!$E$14,C$75<='Mapa de férias'!$F$14),AND(C$75>='Mapa de férias'!$G$14,C$75<='Mapa de férias'!$H$14),AND(C$75>='Mapa de férias'!$I$14,C$75<='Mapa de férias'!$J$14))),"F","")) | D81: =IF(OR($B81="",D$75=""),"",IF(AND(NETWORKDAYS(D$75,D$75,'Feriados'!$F$7:$F$22)=1,OR(AND(D$75>='Mapa de férias'!$E$14,D$75<='Mapa de férias'!$F$14),AND(D$75>='Mapa de férias'!$G$14,D$75<='Mapa de férias'!$H$14),AND(D$75>='Mapa de férias'!$I$14,D$75<='Mapa de férias'!$J$14))),"F","")) | E81: =IF(OR($B81="",E$75=""),"",IF(AND(NETWORKDAYS(E$75,E$75,'Feriados'!$F$7:$F$22)=1,OR(AND(E$75>='Mapa de férias'!$E$14,E$75<='Mapa de férias'!$F$14),AND(E$75>='Mapa de férias'!$G$14,E$75<='Mapa de férias'!$H$14),AND(E$75>='Mapa de férias'!$I$14,E$75<='Mapa de férias'!$J$14))),"F","")) | F81: =IF(OR($B81="",F$75=""),"",IF(AND(NETWORKDAYS(F$75,F$75,'Feriados'!$F$7:$F$22)=1,OR(AND(F$75>='Mapa de férias'!$E$14,F$75<='Mapa de férias'!$F$14),AND(F$75>='Mapa de férias'!$G$14,F$75<='Mapa de férias'!$H$14),AND(F$75>='Mapa de férias'!$I$14,F$75<='Mapa de férias'!$J$14))),"F","")) | G81: =IF(OR($B81="",G$75=""),"",IF(AND(NETWORKDAYS(G$75,G$75,'Feriados'!$F$7:$F$22)=1,OR(AND(G$75>='Mapa de férias'!$E$14,G$75<='Mapa de férias'!$F$14),AND(G$75>='Mapa de férias'!$G$14,G$75<='Mapa de férias'!$H$14),AND(G$75>='Mapa de férias'!$I$14,G$75<='Mapa de férias'!$J$14))),"F","")) | H81: =IF(OR($B81="",H$75=""),"",IF(AND(NETWORKDAYS(H$75,H$75,'Feriados'!$F$7:$F$22)=1,OR(AND(H$75>='Mapa de férias'!$E$14,H$75<='Mapa de férias'!$F$14),AND(H$75>='Mapa de férias'!$G$14,H$75<='Mapa de férias'!$H$14),AND(H$75>='Mapa de férias'!$I$14,H$75<='Mapa de férias'!$J$14))),"F","")) | I81: =IF(OR($B81="",I$75=""),"",IF(AND(NETWORKDAYS(I$75,I$75,'Feriados'!$F$7:$F$22)=1,OR(AND(I$75>='Mapa de férias'!$E$14,I$75<='Mapa de férias'!$F$14),AND(I$75>='Mapa de férias'!$G$14,I$75<='Mapa de férias'!$H$14),AND(I$75>='Mapa de férias'!$I$14,I$75<='Mapa de férias'!$J$14))),"F","")) | J81: =IF(OR($B81="",J$75=""),"",IF(AND(NETWORKDAYS(J$75,J$75,'Feriados'!$F$7:$F$22)=1,OR(AND(J$75>='Mapa de férias'!$E$14,J$75<='Mapa de férias'!$F$14),AND(J$75>='Mapa de férias'!$G$14,J$75<='Mapa de férias'!$H$14),AND(J$75>='Mapa de férias'!$I$14,J$75<='Mapa de férias'!$J$14))),"F","")) | ... AG81: =IF(OR($B81="",AG$75=""),"",IF(AND(NETWORKDAYS(AG$75,AG$75,'Feriados'!$F$7:$F$22)=1,OR(AND(AG$75>='Mapa de férias'!$E$14,AG$75<='Mapa de férias'!$F$14),AND(AG$75>='Mapa de férias'!$G$14,AG$75<='Mapa de férias'!$H$14),AND(AG$75>='Mapa de férias'!$I$14,AG$75<='Mapa de férias'!$J$14))),"F","")) | AH81: =IF($B81="","",COUNTIF(C81:AG81,"F"))
